BEGIN:VCALENDAR
VERSION:2.0
PRODID:-//Bahamas Industrial Tribunal - ECPv6.15.20//NONSGML v1.0//EN
CALSCALE:GREGORIAN
METHOD:PUBLISH
X-ORIGINAL-URL:https://www.industrialtribunal.bs
X-WR-CALDESC:Events for Bahamas Industrial Tribunal
REFRESH-INTERVAL;VALUE=DURATION:PT1H
X-Robots-Tag:noindex
X-PUBLISHED-TTL:PT1H
BEGIN:VTIMEZONE
TZID:America/Nassau
BEGIN:DAYLIGHT
TZOFFSETFROM:-0500
TZOFFSETTO:-0400
TZNAME:EDT
DTSTART:20240310T070000
END:DAYLIGHT
BEGIN:STANDARD
TZOFFSETFROM:-0400
TZOFFSETTO:-0500
TZNAME:EST
DTSTART:20241103T060000
END:STANDARD
BEGIN:DAYLIGHT
TZOFFSETFROM:-0500
TZOFFSETTO:-0400
TZNAME:EDT
DTSTART:20250309T070000
END:DAYLIGHT
BEGIN:STANDARD
TZOFFSETFROM:-0400
TZOFFSETTO:-0500
TZNAME:EST
DTSTART:20251102T060000
END:STANDARD
BEGIN:DAYLIGHT
TZOFFSETFROM:-0500
TZOFFSETTO:-0400
TZNAME:EDT
DTSTART:20260308T070000
END:DAYLIGHT
BEGIN:STANDARD
TZOFFSETFROM:-0400
TZOFFSETTO:-0500
TZNAME:EST
DTSTART:20261101T060000
END:STANDARD
END:VTIMEZONE
BEGIN:VEVENT
DTSTART;TZID=America/Nassau:20250701T100000
DTEND;TZID=America/Nassau:20250701T170000
DTSTAMP:20260425T115352
CREATED:20250711T162622Z
LAST-MODIFIED:20250711T162622Z
UID:32765-1751364000-1751389200@www.industrialtribunal.bs
SUMMARY:Juliette Joseph-Josey & Stacy Johnson v Aetos Holdings Limited NP2019-124
DESCRIPTION:
URL:https://www.industrialtribunal.bs/event/juliette-joseph-josey-stacy-johnson-v-aetos-holdings-limited-np2019-124/
CATEGORIES:Court 5
END:VEVENT
BEGIN:VEVENT
DTSTART;TZID=America/Nassau:20250702T100000
DTEND;TZID=America/Nassau:20250702T170000
DTSTAMP:20260425T115352
CREATED:20250711T162748Z
LAST-MODIFIED:20250711T162748Z
UID:32767-1751450400-1751475600@www.industrialtribunal.bs
SUMMARY:Sean V Ferguson v BCPOU Pension Plan & Trust Fund NP2024-075
DESCRIPTION:
URL:https://www.industrialtribunal.bs/event/sean-v-ferguson-v-bcpou-pension-plan-trust-fund-np2024-075/
CATEGORIES:Court 5
END:VEVENT
BEGIN:VEVENT
DTSTART;TZID=America/Nassau:20250721T100000
DTEND;TZID=America/Nassau:20250721T170000
DTSTAMP:20260425T115352
CREATED:20250711T162947Z
LAST-MODIFIED:20250711T162947Z
UID:32769-1753092000-1753117200@www.industrialtribunal.bs
SUMMARY:Rheavincia Rolle v Bahamas Telecommunications Company Limited NP2023-137
DESCRIPTION:
URL:https://www.industrialtribunal.bs/event/rheavincia-rolle-v-bahamas-telecommunications-company-limited-np2023-137/
CATEGORIES:Court 5
END:VEVENT
BEGIN:VEVENT
DTSTART;TZID=America/Nassau:20250722T100000
DTEND;TZID=America/Nassau:20250722T170000
DTSTAMP:20260425T115352
CREATED:20250711T163024Z
LAST-MODIFIED:20250711T163024Z
UID:32771-1753178400-1753203600@www.industrialtribunal.bs
SUMMARY:Rheavincia Rolle v Bahamas Telecommunications Company Limited NP2023-137
DESCRIPTION:
URL:https://www.industrialtribunal.bs/event/rheavincia-rolle-v-bahamas-telecommunications-company-limited-np2023-137-2/
CATEGORIES:Court 5
END:VEVENT
BEGIN:VEVENT
DTSTART;TZID=America/Nassau:20250723T100000
DTEND;TZID=America/Nassau:20250723T170000
DTSTAMP:20260425T115352
CREATED:20250711T163135Z
LAST-MODIFIED:20250711T163135Z
UID:32773-1753264800-1753290000@www.industrialtribunal.bs
SUMMARY:Charlton Knowles v Tin Plate Limited NP2024-075
DESCRIPTION:
URL:https://www.industrialtribunal.bs/event/charlton-knowles-v-tin-plate-limited-np2024-075-2/
CATEGORIES:Court 5
END:VEVENT
BEGIN:VEVENT
DTSTART;TZID=America/Nassau:20250724T100000
DTEND;TZID=America/Nassau:20250724T170000
DTSTAMP:20260425T115352
CREATED:20250711T163259Z
LAST-MODIFIED:20250711T163259Z
UID:32775-1753351200-1753376400@www.industrialtribunal.bs
SUMMARY:Clifford Andre Ricardo Theobalds v Caribbean Builders & Construction Co NP2024-060
DESCRIPTION:
URL:https://www.industrialtribunal.bs/event/clifford-andre-ricardo-theobalds-v-caribbean-builders-construction-co-np2024-060/
CATEGORIES:Court 5
END:VEVENT
BEGIN:VEVENT
DTSTART;TZID=America/Nassau:20250728T100000
DTEND;TZID=America/Nassau:20250728T170000
DTSTAMP:20260425T115352
CREATED:20250711T163421Z
LAST-MODIFIED:20250711T163421Z
UID:32777-1753696800-1753722000@www.industrialtribunal.bs
SUMMARY:Sean V Ferguson v BCPOU Pension Plan & Trust Fund NP2024-075
DESCRIPTION:
URL:https://www.industrialtribunal.bs/event/sean-v-ferguson-v-bcpou-pension-plan-trust-fund-np2024-075-2/
CATEGORIES:Court 5
END:VEVENT
BEGIN:VEVENT
DTSTART;TZID=America/Nassau:20250731T100000
DTEND;TZID=America/Nassau:20250731T170000
DTSTAMP:20260425T115352
CREATED:20250711T163453Z
LAST-MODIFIED:20250711T163453Z
UID:32779-1753956000-1753981200@www.industrialtribunal.bs
SUMMARY:Sean V Ferguson v BCPOU Pension Plan & Trust Fund NP2024-075
DESCRIPTION:
URL:https://www.industrialtribunal.bs/event/sean-v-ferguson-v-bcpou-pension-plan-trust-fund-np2024-075-3/
CATEGORIES:Court 5
END:VEVENT
END:VCALENDAR