BEGIN:VCALENDAR
VERSION:2.0
PRODID:-//Bahamas Industrial Tribunal - ECPv6.15.20//NONSGML v1.0//EN
CALSCALE:GREGORIAN
METHOD:PUBLISH
X-ORIGINAL-URL:https://www.industrialtribunal.bs
X-WR-CALDESC:Events for Bahamas Industrial Tribunal
REFRESH-INTERVAL;VALUE=DURATION:PT1H
X-Robots-Tag:noindex
X-PUBLISHED-TTL:PT1H
BEGIN:VTIMEZONE
TZID:America/Nassau
BEGIN:DAYLIGHT
TZOFFSETFROM:-0500
TZOFFSETTO:-0400
TZNAME:EDT
DTSTART:20230312T070000
END:DAYLIGHT
BEGIN:STANDARD
TZOFFSETFROM:-0400
TZOFFSETTO:-0500
TZNAME:EST
DTSTART:20231105T060000
END:STANDARD
BEGIN:DAYLIGHT
TZOFFSETFROM:-0500
TZOFFSETTO:-0400
TZNAME:EDT
DTSTART:20240310T070000
END:DAYLIGHT
BEGIN:STANDARD
TZOFFSETFROM:-0400
TZOFFSETTO:-0500
TZNAME:EST
DTSTART:20241103T060000
END:STANDARD
BEGIN:DAYLIGHT
TZOFFSETFROM:-0500
TZOFFSETTO:-0400
TZNAME:EDT
DTSTART:20250309T070000
END:DAYLIGHT
BEGIN:STANDARD
TZOFFSETFROM:-0400
TZOFFSETTO:-0500
TZNAME:EST
DTSTART:20251102T060000
END:STANDARD
END:VTIMEZONE
BEGIN:VEVENT
DTSTART;TZID=America/Nassau:20241212T100000
DTEND;TZID=America/Nassau:20241212T170000
DTSTAMP:20260426T003444
CREATED:20241203T153845Z
LAST-MODIFIED:20241203T153845Z
UID:31762-1733997600-1734022800@www.industrialtribunal.bs
SUMMARY:Stephan Pearce v Atlantis NP2023-013
DESCRIPTION:
URL:https://www.industrialtribunal.bs/event/stephan-pearce-v-atlantis-np2023-013-3/
LOCATION:Court 5 – Vice President Rionda Godet\, Bank Lane\, Saffrey Square Building 2nd Floor\, New Providence\, Bahamas
CATEGORIES:Court 5
END:VEVENT
BEGIN:VEVENT
DTSTART;TZID=America/Nassau:20241212T100000
DTEND;TZID=America/Nassau:20241212T170000
DTSTAMP:20260426T003444
CREATED:20241203T154021Z
LAST-MODIFIED:20241203T154021Z
UID:31764-1733997600-1734022800@www.industrialtribunal.bs
SUMMARY:Breon B. Morley v Atlantis Paradise Island NP2024-093
DESCRIPTION:
URL:https://www.industrialtribunal.bs/event/breon-b-morley-v-atlantis-paradise-island-np2024-093/
LOCATION:Court 5 – Vice President Rionda Godet\, Bank Lane\, Saffrey Square Building 2nd Floor\, New Providence\, Bahamas
CATEGORIES:Court 5
END:VEVENT
BEGIN:VEVENT
DTSTART;TZID=America/Nassau:20241212T100000
DTEND;TZID=America/Nassau:20241212T170000
DTSTAMP:20260426T003444
CREATED:20241205T173857Z
LAST-MODIFIED:20241205T173857Z
UID:31824-1733997600-1734022800@www.industrialtribunal.bs
SUMMARY:Stephan Pearce v Atlantis NP2023-013
DESCRIPTION:
URL:https://www.industrialtribunal.bs/event/stephan-pearce-v-atlantis-np2023-013-4/
LOCATION:Court 5 – Vice President Rionda Godet\, Bank Lane\, Saffrey Square Building 2nd Floor\, New Providence\, Bahamas
CATEGORIES:Court 5
END:VEVENT
BEGIN:VEVENT
DTSTART;TZID=America/Nassau:20241212T100000
DTEND;TZID=America/Nassau:20241212T170000
DTSTAMP:20260426T003444
CREATED:20241205T173953Z
LAST-MODIFIED:20241205T173953Z
UID:31826-1733997600-1734022800@www.industrialtribunal.bs
SUMMARY:Breon B. Morley v Atlantis Paradise Island NP2024-093
DESCRIPTION:
URL:https://www.industrialtribunal.bs/event/breon-b-morley-v-atlantis-paradise-island-np2024-093-2/
LOCATION:Court 5 – Vice President Rionda Godet\, Bank Lane\, Saffrey Square Building 2nd Floor\, New Providence\, Bahamas
CATEGORIES:Court 5
END:VEVENT
END:VCALENDAR