BEGIN:VCALENDAR
VERSION:2.0
PRODID:-//Bahamas Industrial Tribunal - ECPv6.15.20//NONSGML v1.0//EN
CALSCALE:GREGORIAN
METHOD:PUBLISH
X-ORIGINAL-URL:https://www.industrialtribunal.bs
X-WR-CALDESC:Events for Bahamas Industrial Tribunal
REFRESH-INTERVAL;VALUE=DURATION:PT1H
X-Robots-Tag:noindex
X-PUBLISHED-TTL:PT1H
BEGIN:VTIMEZONE
TZID:America/Nassau
BEGIN:DAYLIGHT
TZOFFSETFROM:-0500
TZOFFSETTO:-0400
TZNAME:EDT
DTSTART:20230312T070000
END:DAYLIGHT
BEGIN:STANDARD
TZOFFSETFROM:-0400
TZOFFSETTO:-0500
TZNAME:EST
DTSTART:20231105T060000
END:STANDARD
BEGIN:DAYLIGHT
TZOFFSETFROM:-0500
TZOFFSETTO:-0400
TZNAME:EDT
DTSTART:20240310T070000
END:DAYLIGHT
BEGIN:STANDARD
TZOFFSETFROM:-0400
TZOFFSETTO:-0500
TZNAME:EST
DTSTART:20241103T060000
END:STANDARD
BEGIN:DAYLIGHT
TZOFFSETFROM:-0500
TZOFFSETTO:-0400
TZNAME:EDT
DTSTART:20250309T070000
END:DAYLIGHT
BEGIN:STANDARD
TZOFFSETFROM:-0400
TZOFFSETTO:-0500
TZNAME:EST
DTSTART:20251102T060000
END:STANDARD
END:VTIMEZONE
BEGIN:VEVENT
DTSTART;TZID=America/Nassau:20241216T100000
DTEND;TZID=America/Nassau:20241216T170000
DTSTAMP:20260426T003444
CREATED:20241203T154316Z
LAST-MODIFIED:20241203T154316Z
UID:31768-1734343200-1734368400@www.industrialtribunal.bs
SUMMARY:Rickoda Wood -Smith v Ministry of Education Technical & Vocational Training NP2024-022
DESCRIPTION:
URL:https://www.industrialtribunal.bs/event/rickoda-wood-smith-v-ministry-of-education-technical-vocational-training-np2024-022/
LOCATION:Court 5 – Vice President Rionda Godet\, Bank Lane\, Saffrey Square Building 2nd Floor\, New Providence\, Bahamas
CATEGORIES:Court 5
END:VEVENT
BEGIN:VEVENT
DTSTART;TZID=America/Nassau:20241216T100000
DTEND;TZID=America/Nassau:20241216T170000
DTSTAMP:20260426T003444
CREATED:20241205T174546Z
LAST-MODIFIED:20241205T174546Z
UID:31830-1734343200-1734368400@www.industrialtribunal.bs
SUMMARY:Rickoda Wood-Smith v Ministry of Education Technical & Vocational Training NP2024-022
DESCRIPTION:
URL:https://www.industrialtribunal.bs/event/rickoda-wood-smith-v-ministry-of-education-technical-vocational-training-np2024-022-2/
LOCATION:Court 5 – Vice President Rionda Godet\, Bank Lane\, Saffrey Square Building 2nd Floor\, New Providence\, Bahamas
CATEGORIES:Court 5
END:VEVENT
END:VCALENDAR