BEGIN:VCALENDAR
VERSION:2.0
PRODID:-//Bahamas Industrial Tribunal - ECPv6.15.20//NONSGML v1.0//EN
CALSCALE:GREGORIAN
METHOD:PUBLISH
X-WR-CALNAME:Bahamas Industrial Tribunal
X-ORIGINAL-URL:https://www.industrialtribunal.bs
X-WR-CALDESC:Events for Bahamas Industrial Tribunal
REFRESH-INTERVAL;VALUE=DURATION:PT1H
X-Robots-Tag:noindex
X-PUBLISHED-TTL:PT1H
BEGIN:VTIMEZONE
TZID:America/Nassau
BEGIN:DAYLIGHT
TZOFFSETFROM:-0500
TZOFFSETTO:-0400
TZNAME:EDT
DTSTART:20240310T070000
END:DAYLIGHT
BEGIN:STANDARD
TZOFFSETFROM:-0400
TZOFFSETTO:-0500
TZNAME:EST
DTSTART:20241103T060000
END:STANDARD
BEGIN:DAYLIGHT
TZOFFSETFROM:-0500
TZOFFSETTO:-0400
TZNAME:EDT
DTSTART:20250309T070000
END:DAYLIGHT
BEGIN:STANDARD
TZOFFSETFROM:-0400
TZOFFSETTO:-0500
TZNAME:EST
DTSTART:20251102T060000
END:STANDARD
BEGIN:DAYLIGHT
TZOFFSETFROM:-0500
TZOFFSETTO:-0400
TZNAME:EDT
DTSTART:20260308T070000
END:DAYLIGHT
BEGIN:STANDARD
TZOFFSETFROM:-0400
TZOFFSETTO:-0500
TZNAME:EST
DTSTART:20261101T060000
END:STANDARD
BEGIN:DAYLIGHT
TZOFFSETFROM:-0500
TZOFFSETTO:-0400
TZNAME:EDT
DTSTART:20270314T070000
END:DAYLIGHT
BEGIN:STANDARD
TZOFFSETFROM:-0400
TZOFFSETTO:-0500
TZNAME:EST
DTSTART:20271107T060000
END:STANDARD
END:VTIMEZONE
BEGIN:VEVENT
DTSTART;TZID=America/Nassau:20260331T100000
DTEND;TZID=America/Nassau:20260331T170000
DTSTAMP:20260424T210541
CREATED:20260304T210036Z
LAST-MODIFIED:20260304T210036Z
UID:33721-1774951200-1774976400@www.industrialtribunal.bs
SUMMARY:Kevin Adderley v Aetos Holdings Limited NP2024-112
DESCRIPTION:
URL:https://www.industrialtribunal.bs/event/kevin-adderley-v-aetos-holdings-limited-np2024-112-2/
CATEGORIES:Court 5
END:VEVENT
BEGIN:VEVENT
DTSTART;TZID=America/Nassau:20260331T100000
DTEND;TZID=America/Nassau:20260331T170000
DTSTAMP:20260424T210541
CREATED:20260304T205933Z
LAST-MODIFIED:20260304T205933Z
UID:33719-1774951200-1774976400@www.industrialtribunal.bs
SUMMARY:Fiona Edwards v CTF BM Operation Ltd (Bahamar) NP2025-002
DESCRIPTION:
URL:https://www.industrialtribunal.bs/event/fiona-edwards-v-ctf-bm-operation-ltd-bahamar-np2025-002/
CATEGORIES:Court 5
END:VEVENT
BEGIN:VEVENT
DTSTART;TZID=America/Nassau:20260331T100000
DTEND;TZID=America/Nassau:20260331T170000
DTSTAMP:20260424T210541
CREATED:20260304T205820Z
LAST-MODIFIED:20260304T205820Z
UID:33717-1774951200-1774976400@www.industrialtribunal.bs
SUMMARY:Raquel Smith v Furniture Plus NP2024-057
DESCRIPTION:
URL:https://www.industrialtribunal.bs/event/raquel-smith-v-furniture-plus-np2024-057-2/
CATEGORIES:Court 5
END:VEVENT
BEGIN:VEVENT
DTSTART;TZID=America/Nassau:20260319T100000
DTEND;TZID=America/Nassau:20260319T170000
DTSTAMP:20260424T210541
CREATED:20260304T205712Z
LAST-MODIFIED:20260304T205712Z
UID:33715-1773914400-1773939600@www.industrialtribunal.bs
SUMMARY:Juliette Joseph-Josey and Stacy Johnson v Aetos Holdings Limited NP2019-124
DESCRIPTION:
URL:https://www.industrialtribunal.bs/event/juliette-joseph-josey-and-stacy-johnson-v-aetos-holdings-limited-np2019-124/
CATEGORIES:Court 5
END:VEVENT
BEGIN:VEVENT
DTSTART;TZID=America/Nassau:20260316T100000
DTEND;TZID=America/Nassau:20260316T170000
DTSTAMP:20260424T210541
CREATED:20260304T205534Z
LAST-MODIFIED:20260304T205534Z
UID:33713-1773655200-1773680400@www.industrialtribunal.bs
SUMMARY:Jamal J Davis v Bahamas First Corporate Services Limited NP2024-105
DESCRIPTION:
URL:https://www.industrialtribunal.bs/event/jamal-j-davis-v-bahamas-first-corporate-services-limited-np2024-105/
CATEGORIES:Court 5
END:VEVENT
BEGIN:VEVENT
DTSTART;TZID=America/Nassau:20260316T100000
DTEND;TZID=America/Nassau:20260316T170000
DTSTAMP:20260424T210541
CREATED:20260304T205408Z
LAST-MODIFIED:20260304T205408Z
UID:33711-1773655200-1773680400@www.industrialtribunal.bs
SUMMARY:Mary Fernander v Albany Resort NP2024-106
DESCRIPTION:
URL:https://www.industrialtribunal.bs/event/mary-fernander-v-albany-resort-np2024-106-3/
CATEGORIES:Court 5
END:VEVENT
BEGIN:VEVENT
DTSTART;TZID=America/Nassau:20260316T100000
DTEND;TZID=America/Nassau:20260316T170000
DTSTAMP:20260424T210541
CREATED:20260304T205256Z
LAST-MODIFIED:20260304T205256Z
UID:33709-1773655200-1773680400@www.industrialtribunal.bs
SUMMARY:Marvin Johnson v Southern Air Charter NP2024-055
DESCRIPTION:
URL:https://www.industrialtribunal.bs/event/marvin-johnson-v-southern-air-charter-np2024-055-3/
CATEGORIES:Court 5
END:VEVENT
BEGIN:VEVENT
DTSTART;TZID=America/Nassau:20260316T100000
DTEND;TZID=America/Nassau:20260316T170000
DTSTAMP:20260424T210541
CREATED:20260304T205147Z
LAST-MODIFIED:20260304T205147Z
UID:33707-1773655200-1773680400@www.industrialtribunal.bs
SUMMARY:Cedner Calixte v Roof-Tech Bahamas NP2025-003
DESCRIPTION:
URL:https://www.industrialtribunal.bs/event/cedner-calixte-v-roof-tech-bahamas-np2025-003/
CATEGORIES:Court 5
END:VEVENT
BEGIN:VEVENT
DTSTART;TZID=America/Nassau:20260316T100000
DTEND;TZID=America/Nassau:20260316T170000
DTSTAMP:20260424T210541
CREATED:20260304T205018Z
LAST-MODIFIED:20260304T205018Z
UID:33705-1773655200-1773680400@www.industrialtribunal.bs
SUMMARY:Serina W Johnson v Bahamas Technical & Vocational Institute NP2024-107
DESCRIPTION:
URL:https://www.industrialtribunal.bs/event/serina-w-johnson-v-bahamas-technical-vocational-institute-np2024-107/
CATEGORIES:Court 5
END:VEVENT
BEGIN:VEVENT
DTSTART;TZID=America/Nassau:20260303T100000
DTEND;TZID=America/Nassau:20260303T170000
DTSTAMP:20260424T210541
CREATED:20260304T204905Z
LAST-MODIFIED:20260304T204905Z
UID:33703-1772532000-1772557200@www.industrialtribunal.bs
SUMMARY:Widner Similien v Oasis Landscaping NP2024-068
DESCRIPTION:
URL:https://www.industrialtribunal.bs/event/widner-similien-v-oasis-landscaping-np2024-068-3/
CATEGORIES:Court 5
END:VEVENT
BEGIN:VEVENT
DTSTART;TZID=America/Nassau:20260303T100000
DTEND;TZID=America/Nassau:20260303T170000
DTSTAMP:20260424T210541
CREATED:20260304T204820Z
LAST-MODIFIED:20260304T204820Z
UID:33701-1772532000-1772557200@www.industrialtribunal.bs
SUMMARY:Ulrick Colas v Oasis Landscaping NP2024-063
DESCRIPTION:
URL:https://www.industrialtribunal.bs/event/ulrick-colas-v-oasis-landscaping-np2024-063-3/
CATEGORIES:Court 5
END:VEVENT
BEGIN:VEVENT
DTSTART;TZID=America/Nassau:20260225T100000
DTEND;TZID=America/Nassau:20260225T170000
DTSTAMP:20260424T210541
CREATED:20260204T154117Z
LAST-MODIFIED:20260204T154117Z
UID:33488-1772013600-1772038800@www.industrialtribunal.bs
SUMMARY:Mark Johnson v Kamalame Cay NP2024-014
DESCRIPTION:
URL:https://www.industrialtribunal.bs/event/mark-johnson-v-kamalame-cay-np2024-014-3/
CATEGORIES:Court 5
END:VEVENT
BEGIN:VEVENT
DTSTART;TZID=America/Nassau:20260224T100000
DTEND;TZID=America/Nassau:20260224T170000
DTSTAMP:20260424T210541
CREATED:20260204T154043Z
LAST-MODIFIED:20260204T154043Z
UID:33486-1771927200-1771952400@www.industrialtribunal.bs
SUMMARY:Mark Johnson v Kamalame Cay NP2024-014
DESCRIPTION:
URL:https://www.industrialtribunal.bs/event/mark-johnson-v-kamalame-cay-np2024-014-2/
CATEGORIES:Court 5
END:VEVENT
BEGIN:VEVENT
DTSTART;TZID=America/Nassau:20260218T100000
DTEND;TZID=America/Nassau:20260218T170000
DTSTAMP:20260424T210541
CREATED:20260204T153930Z
LAST-MODIFIED:20260204T153930Z
UID:33484-1771408800-1771434000@www.industrialtribunal.bs
SUMMARY:Desiree Fowler v Kamalame Cay Resort & Residences (Andros) NP2024-046
DESCRIPTION:
URL:https://www.industrialtribunal.bs/event/desiree-fowler-v-kamalame-cay-resort-residences-andros-np2024-046-3/
CATEGORIES:Court 5
END:VEVENT
BEGIN:VEVENT
DTSTART;TZID=America/Nassau:20260216T100000
DTEND;TZID=America/Nassau:20260216T170000
DTSTAMP:20260424T210541
CREATED:20260204T153734Z
LAST-MODIFIED:20260204T153734Z
UID:33482-1771236000-1771261200@www.industrialtribunal.bs
SUMMARY:Raquel Barr v Kamalame Cay NP2024-019
DESCRIPTION:
URL:https://www.industrialtribunal.bs/event/raquel-barr-v-kamalame-cay-np2024-019/
CATEGORIES:Court 5
END:VEVENT
BEGIN:VEVENT
DTSTART;TZID=America/Nassau:20260210T100000
DTEND;TZID=America/Nassau:20260210T170000
DTSTAMP:20260424T210541
CREATED:20260204T153608Z
LAST-MODIFIED:20260204T153608Z
UID:33480-1770717600-1770742800@www.industrialtribunal.bs
SUMMARY:Charles Rolle v Aetos Holdings Limited NP2023-067
DESCRIPTION:
URL:https://www.industrialtribunal.bs/event/charles-rolle-v-aetos-holdings-limited-np2023-067-14/
CATEGORIES:Court 5
END:VEVENT
BEGIN:VEVENT
DTSTART;TZID=America/Nassau:20260209T100000
DTEND;TZID=America/Nassau:20260209T170000
DTSTAMP:20260424T210541
CREATED:20260204T153529Z
LAST-MODIFIED:20260204T153529Z
UID:33478-1770631200-1770656400@www.industrialtribunal.bs
SUMMARY:Charles Rolle v Aetos Holdings Limited NP2023-067
DESCRIPTION:
URL:https://www.industrialtribunal.bs/event/charles-rolle-v-aetos-holdings-limited-np2023-067-13/
CATEGORIES:Court 5
END:VEVENT
BEGIN:VEVENT
DTSTART;TZID=America/Nassau:20260203T100000
DTEND;TZID=America/Nassau:20260203T170000
DTSTAMP:20260424T210541
CREATED:20260204T153400Z
LAST-MODIFIED:20260204T153400Z
UID:33476-1770112800-1770138000@www.industrialtribunal.bs
SUMMARY:Roslyn Collie v Dunmil Security NP2024-038
DESCRIPTION:
URL:https://www.industrialtribunal.bs/event/roslyn-collie-v-dunmil-security-np2024-038-3/
CATEGORIES:Court 5
END:VEVENT
BEGIN:VEVENT
DTSTART;TZID=America/Nassau:20260203T100000
DTEND;TZID=America/Nassau:20260203T170000
DTSTAMP:20260424T210541
CREATED:20260204T153239Z
LAST-MODIFIED:20260204T153239Z
UID:33474-1770112800-1770138000@www.industrialtribunal.bs
SUMMARY:Victor Johnson v Wynn Development Resort NP2023-110
DESCRIPTION:
URL:https://www.industrialtribunal.bs/event/victor-johnson-v-wynn-development-resort-np2023-110/
CATEGORIES:Court 5
END:VEVENT
BEGIN:VEVENT
DTSTART;TZID=America/Nassau:20251209T100000
DTEND;TZID=America/Nassau:20251209T170000
DTSTAMP:20260424T210541
CREATED:20251216T150524Z
LAST-MODIFIED:20251216T150524Z
UID:33340-1765274400-1765299600@www.industrialtribunal.bs
SUMMARY:Hugh Jones v Island Hotel Company Limited D/B/A Atlantis NP2024-013
DESCRIPTION:
URL:https://www.industrialtribunal.bs/event/hugh-jones-v-island-hotel-company-limited-d-b-a-atlantis-np2024-013/
CATEGORIES:Court 5
END:VEVENT
BEGIN:VEVENT
DTSTART;TZID=America/Nassau:20251209T100000
DTEND;TZID=America/Nassau:20251209T170000
DTSTAMP:20260424T210541
CREATED:20251216T150416Z
LAST-MODIFIED:20251216T150416Z
UID:33338-1765274400-1765299600@www.industrialtribunal.bs
SUMMARY:Mr. Earnest Winters v Mrs. Alice Williams/ Manager E-10 Construction Co. NP2025-045
DESCRIPTION:
URL:https://www.industrialtribunal.bs/event/mr-earnest-winters-v-mrs-alice-williams-manager-e-10-construction-co-np2025-045/
CATEGORIES:Court 5
END:VEVENT
BEGIN:VEVENT
DTSTART;TZID=America/Nassau:20251209T100000
DTEND;TZID=America/Nassau:20251209T170000
DTSTAMP:20260424T210541
CREATED:20251216T150300Z
LAST-MODIFIED:20251216T150300Z
UID:33336-1765274400-1765299600@www.industrialtribunal.bs
SUMMARY:Marvin Johnson v Southern Air Charter NP2024-055
DESCRIPTION:
URL:https://www.industrialtribunal.bs/event/marvin-johnson-v-southern-air-charter-np2024-055-2/
CATEGORIES:Court 5
END:VEVENT
BEGIN:VEVENT
DTSTART;TZID=America/Nassau:20251208T100000
DTEND;TZID=America/Nassau:20251208T170000
DTSTAMP:20260424T210541
CREATED:20251216T150158Z
LAST-MODIFIED:20251216T150158Z
UID:33334-1765188000-1765213200@www.industrialtribunal.bs
SUMMARY:Jaquanda McKenzie v Robbie's Warehouse NP2025-087
DESCRIPTION:
URL:https://www.industrialtribunal.bs/event/jaquanda-mckenzie-v-robbies-warehouse-np2025-087-2/
CATEGORIES:Court 5
END:VEVENT
BEGIN:VEVENT
DTSTART;TZID=America/Nassau:20251208T100000
DTEND;TZID=America/Nassau:20251208T170000
DTSTAMP:20260424T210541
CREATED:20251216T150034Z
LAST-MODIFIED:20251216T150034Z
UID:33332-1765188000-1765213200@www.industrialtribunal.bs
SUMMARY:Cassandra Simms v Ms. Terry Burrows NP2025-077
DESCRIPTION:
URL:https://www.industrialtribunal.bs/event/cassandra-simms-v-ms-terry-burrows-np2025-077/
CATEGORIES:Court 5
END:VEVENT
BEGIN:VEVENT
DTSTART;TZID=America/Nassau:20251208T100000
DTEND;TZID=America/Nassau:20251208T170000
DTSTAMP:20260424T210541
CREATED:20251216T145939Z
LAST-MODIFIED:20251216T145939Z
UID:33330-1765188000-1765213200@www.industrialtribunal.bs
SUMMARY:Phillippa Cash v Ultra Games NP2025-110
DESCRIPTION:
URL:https://www.industrialtribunal.bs/event/phillippa-cash-v-ultra-games-np2025-110/
CATEGORIES:Court 5
END:VEVENT
BEGIN:VEVENT
DTSTART;TZID=America/Nassau:20251208T100000
DTEND;TZID=America/Nassau:20251208T170000
DTSTAMP:20260424T210541
CREATED:20251216T145848Z
LAST-MODIFIED:20251216T145848Z
UID:33328-1765188000-1765213200@www.industrialtribunal.bs
SUMMARY:Andero Curry v Prosea's Plumbing NP2024-134
DESCRIPTION:
URL:https://www.industrialtribunal.bs/event/andero-curry-v-proseas-plumbing-np2024-134-3/
CATEGORIES:Court 5
END:VEVENT
BEGIN:VEVENT
DTSTART;TZID=America/Nassau:20251208T100000
DTEND;TZID=America/Nassau:20251208T170000
DTSTAMP:20260424T210541
CREATED:20251216T145750Z
LAST-MODIFIED:20251216T145750Z
UID:33326-1765188000-1765213200@www.industrialtribunal.bs
SUMMARY:Leonardo Pierre v I & M Convenience Store NP2025-043
DESCRIPTION:
URL:https://www.industrialtribunal.bs/event/leonardo-pierre-v-i-m-convenience-store-np2025-043-2/
CATEGORIES:Court 5
END:VEVENT
BEGIN:VEVENT
DTSTART;TZID=America/Nassau:20251208T100000
DTEND;TZID=America/Nassau:20251208T170000
DTSTAMP:20260424T210541
CREATED:20251216T145640Z
LAST-MODIFIED:20251216T145640Z
UID:33324-1765188000-1765213200@www.industrialtribunal.bs
SUMMARY:Bradley Woodside v Island Hotel Company Limited T/a Atlantis NP2025-103
DESCRIPTION:
URL:https://www.industrialtribunal.bs/event/bradley-woodside-v-island-hotel-company-limited-t-a-atlantis-np2025-103/
CATEGORIES:Court 5
END:VEVENT
BEGIN:VEVENT
DTSTART;TZID=America/Nassau:20251208T100000
DTEND;TZID=America/Nassau:20251208T170000
DTSTAMP:20260424T210541
CREATED:20251216T145505Z
LAST-MODIFIED:20251216T145505Z
UID:33322-1765188000-1765213200@www.industrialtribunal.bs
SUMMARY:Tenecia Wood v Bahamas Telecommunication Company Limited NP2025-059
DESCRIPTION:
URL:https://www.industrialtribunal.bs/event/tenecia-wood-v-bahamas-telecommunication-company-limited-np2025-059/
CATEGORIES:Court 5
END:VEVENT
BEGIN:VEVENT
DTSTART;TZID=America/Nassau:20251208T100000
DTEND;TZID=America/Nassau:20251208T170000
DTSTAMP:20260424T210541
CREATED:20251216T145402Z
LAST-MODIFIED:20251216T145402Z
UID:33320-1765188000-1765213200@www.industrialtribunal.bs
SUMMARY:Chaundra Wallace Whitfield v WG Capital Limited Unit A Balmoral Corporate Center Bahamas NP2025-059
DESCRIPTION:
URL:https://www.industrialtribunal.bs/event/chaundra-wallace-whitfield-v-wg-capital-limited-unit-a-balmoral-corporate-center-bahamas-np2025-059/
CATEGORIES:Court 5
END:VEVENT
END:VCALENDAR