BEGIN:VCALENDAR
VERSION:2.0
PRODID:-//Bahamas Industrial Tribunal - ECPv6.15.20//NONSGML v1.0//EN
CALSCALE:GREGORIAN
METHOD:PUBLISH
X-WR-CALNAME:Bahamas Industrial Tribunal
X-ORIGINAL-URL:https://www.industrialtribunal.bs
X-WR-CALDESC:Events for Bahamas Industrial Tribunal
REFRESH-INTERVAL;VALUE=DURATION:PT1H
X-Robots-Tag:noindex
X-PUBLISHED-TTL:PT1H
BEGIN:VTIMEZONE
TZID:America/Nassau
BEGIN:DAYLIGHT
TZOFFSETFROM:-0500
TZOFFSETTO:-0400
TZNAME:EDT
DTSTART:20230312T070000
END:DAYLIGHT
BEGIN:STANDARD
TZOFFSETFROM:-0400
TZOFFSETTO:-0500
TZNAME:EST
DTSTART:20231105T060000
END:STANDARD
BEGIN:DAYLIGHT
TZOFFSETFROM:-0500
TZOFFSETTO:-0400
TZNAME:EDT
DTSTART:20240310T070000
END:DAYLIGHT
BEGIN:STANDARD
TZOFFSETFROM:-0400
TZOFFSETTO:-0500
TZNAME:EST
DTSTART:20241103T060000
END:STANDARD
BEGIN:DAYLIGHT
TZOFFSETFROM:-0500
TZOFFSETTO:-0400
TZNAME:EDT
DTSTART:20250309T070000
END:DAYLIGHT
BEGIN:STANDARD
TZOFFSETFROM:-0400
TZOFFSETTO:-0500
TZNAME:EST
DTSTART:20251102T060000
END:STANDARD
END:VTIMEZONE
BEGIN:VEVENT
DTSTART;TZID=America/Nassau:20241031T100000
DTEND;TZID=America/Nassau:20241031T170000
DTSTAMP:20260425T152233
CREATED:20241001T152607Z
LAST-MODIFIED:20241001T152607Z
UID:31460-1730368800-1730394000@www.industrialtribunal.bs
SUMMARY:Elliott Dean v Dr. Gregory Spiro George NP2024-070
DESCRIPTION:
URL:https://www.industrialtribunal.bs/event/elliott-dean-v-dr-gregory-spiro-george-np2024-070/
LOCATION:Court 5 – Vice President Rionda Godet\, Bank Lane\, Saffrey Square Building 2nd Floor\, New Providence\, Bahamas
CATEGORIES:Court 5
END:VEVENT
BEGIN:VEVENT
DTSTART;TZID=America/Nassau:20241031T100000
DTEND;TZID=America/Nassau:20241031T170000
DTSTAMP:20260425T152233
CREATED:20241001T152420Z
LAST-MODIFIED:20241001T152420Z
UID:31458-1730368800-1730394000@www.industrialtribunal.bs
SUMMARY:Ricardo D. Smith v Reliable Roofing NP2024-035
DESCRIPTION:
URL:https://www.industrialtribunal.bs/event/ricardo-d-smith-v-reliable-roofing-np2024-035/
LOCATION:Court 5 – Vice President Rionda Godet\, Bank Lane\, Saffrey Square Building 2nd Floor\, New Providence\, Bahamas
CATEGORIES:Court 5
END:VEVENT
BEGIN:VEVENT
DTSTART;TZID=America/Nassau:20241024T100000
DTEND;TZID=America/Nassau:20241024T170000
DTSTAMP:20260425T152233
CREATED:20241001T152247Z
LAST-MODIFIED:20241001T152247Z
UID:31456-1729764000-1729789200@www.industrialtribunal.bs
SUMMARY:Joanes LaFrance v Seabreeze Lodge & James Roberston NP2023-092
DESCRIPTION:
URL:https://www.industrialtribunal.bs/event/joanes-lafrance-v-seabreeze-lodge-james-roberston-np2023-092/
LOCATION:Court 5 – Vice President Rionda Godet\, Bank Lane\, Saffrey Square Building 2nd Floor\, New Providence\, Bahamas
CATEGORIES:Court 5
END:VEVENT
BEGIN:VEVENT
DTSTART;TZID=America/Nassau:20241024T100000
DTEND;TZID=America/Nassau:20241024T170000
DTSTAMP:20260425T152233
CREATED:20241001T152111Z
LAST-MODIFIED:20241001T152111Z
UID:31454-1729764000-1729789200@www.industrialtribunal.bs
SUMMARY:Alecea Johnson v Physiocare\, Physiotherapy & Pilates NP2024-023
DESCRIPTION:
URL:https://www.industrialtribunal.bs/event/alecea-johnson-v-physiocare-physiotherapy-pilates-np2024-023/
LOCATION:Court 5 – Vice President Rionda Godet\, Bank Lane\, Saffrey Square Building 2nd Floor\, New Providence\, Bahamas
CATEGORIES:Court 5
END:VEVENT
BEGIN:VEVENT
DTSTART;TZID=America/Nassau:20241023T100000
DTEND;TZID=America/Nassau:20241023T170000
DTSTAMP:20260425T152233
CREATED:20241001T151909Z
LAST-MODIFIED:20241001T151909Z
UID:31452-1729677600-1729702800@www.industrialtribunal.bs
SUMMARY:Thomas M. Moxey v Princess cays Limited NP2023-094
DESCRIPTION:
URL:https://www.industrialtribunal.bs/event/thomas-m-moxey-v-princess-cays-limited-np2023-094/
LOCATION:Court 5 – Vice President Rionda Godet\, Bank Lane\, Saffrey Square Building 2nd Floor\, New Providence\, Bahamas
CATEGORIES:Court 5
END:VEVENT
BEGIN:VEVENT
DTSTART;TZID=America/Nassau:20241015T100000
DTEND;TZID=America/Nassau:20241015T170000
DTSTAMP:20260425T152233
CREATED:20241001T151807Z
LAST-MODIFIED:20241001T151807Z
UID:31450-1728986400-1729011600@www.industrialtribunal.bs
SUMMARY:Charles Joseph v SuperClub Breezes NP2022-030
DESCRIPTION:
URL:https://www.industrialtribunal.bs/event/charles-joseph-v-superclub-breezes-np2022-030/
LOCATION:Court 5 – Vice President Rionda Godet\, Bank Lane\, Saffrey Square Building 2nd Floor\, New Providence\, Bahamas
CATEGORIES:Court 5
END:VEVENT
BEGIN:VEVENT
DTSTART;TZID=America/Nassau:20240729T100000
DTEND;TZID=America/Nassau:20240729T170000
DTSTAMP:20260425T152233
CREATED:20240628T162428Z
LAST-MODIFIED:20240628T162428Z
UID:31108-1722247200-1722272400@www.industrialtribunal.bs
SUMMARY:Jennifer Rolle v Abby's Catering NP2023-062
DESCRIPTION:
URL:https://www.industrialtribunal.bs/event/jennifer-rolle-v-abbys-catering-np2023-062-2/
LOCATION:Court 5 – Vice President Rionda Godet\, Bank Lane\, Saffrey Square Building 2nd Floor\, New Providence\, Bahamas
CATEGORIES:Court 5
END:VEVENT
BEGIN:VEVENT
DTSTART;TZID=America/Nassau:20240718T100000
DTEND;TZID=America/Nassau:20240718T170000
DTSTAMP:20260425T152233
CREATED:20240708T141651Z
LAST-MODIFIED:20240708T141651Z
UID:31155-1721296800-1721322000@www.industrialtribunal.bs
SUMMARY:Jacqueline Richards v Blue Lagoon Island & Dolphin Encounters Limited NP2023-051
DESCRIPTION:
URL:https://www.industrialtribunal.bs/event/jacqueline-richards-v-blue-lagoon-island-dolphin-encounters-limited-np2023-051-2/
LOCATION:Court 5 – Vice President Rionda Godet\, Bank Lane\, Saffrey Square Building 2nd Floor\, New Providence\, Bahamas
CATEGORIES:Court 5
END:VEVENT
BEGIN:VEVENT
DTSTART;TZID=America/Nassau:20240718T093000
DTEND;TZID=America/Nassau:20240718T170000
DTSTAMP:20260425T152233
CREATED:20240628T162321Z
LAST-MODIFIED:20240628T162321Z
UID:31106-1721295000-1721322000@www.industrialtribunal.bs
SUMMARY:Ruthmae Edwards v Bahamas Experience Limousine & Tours NP2023-010
DESCRIPTION:
URL:https://www.industrialtribunal.bs/event/ruthmae-edwards-v-bahamas-experience-limousine-tours-np2023-010-4/
LOCATION:Court 5 – Vice President Rionda Godet\, Bank Lane\, Saffrey Square Building 2nd Floor\, New Providence\, Bahamas
CATEGORIES:Court 5
END:VEVENT
BEGIN:VEVENT
DTSTART;TZID=America/Nassau:20240717T100000
DTEND;TZID=America/Nassau:20240717T170000
DTSTAMP:20260425T152233
CREATED:20240708T141521Z
LAST-MODIFIED:20240708T141521Z
UID:31153-1721210400-1721235600@www.industrialtribunal.bs
SUMMARY:Jacqueline Richards v Blue Lagoon Island & Dolphin Encounters Limited NP2023-051
DESCRIPTION:
URL:https://www.industrialtribunal.bs/event/jacqueline-richards-v-blue-lagoon-island-dolphin-encounters-limited-np2023-051/
LOCATION:Court 5 – Vice President Rionda Godet\, Bank Lane\, Saffrey Square Building 2nd Floor\, New Providence\, Bahamas
CATEGORIES:Court 5
END:VEVENT
BEGIN:VEVENT
DTSTART;TZID=America/Nassau:20240712T100000
DTEND;TZID=America/Nassau:20240712T170000
DTSTAMP:20260425T152233
CREATED:20240628T161639Z
LAST-MODIFIED:20240628T161639Z
UID:31104-1720778400-1720803600@www.industrialtribunal.bs
SUMMARY:The Public Managers Union v University of The Bahamas NP2023-077
DESCRIPTION:
URL:https://www.industrialtribunal.bs/event/the-public-managers-union-v-university-of-the-bahamas-np2023-077-2/
LOCATION:Court 5 – Vice President Rionda Godet\, Bank Lane\, Saffrey Square Building 2nd Floor\, New Providence\, Bahamas
CATEGORIES:Court 5
END:VEVENT
BEGIN:VEVENT
DTSTART;TZID=America/Nassau:20240705T100000
DTEND;TZID=America/Nassau:20240705T170000
DTSTAMP:20260425T152233
CREATED:20240628T161035Z
LAST-MODIFIED:20240628T161035Z
UID:31102-1720173600-1720198800@www.industrialtribunal.bs
SUMMARY:Sidney Corneille v Playtech System Limited d/b/a Island Luck NP2023-078
DESCRIPTION:
URL:https://www.industrialtribunal.bs/event/sidney-corneille-v-playtech-system-limited-d-b-a-island-luck-np2023-078/
LOCATION:Court 3 – Vice President Rionda Deleveaux Godet\, First Floor\, Suite 106\, Saffrey Square Building\, Bank Lane and East Street\, Nassau\, New Providence\, Bahamas
CATEGORIES:Court 5
END:VEVENT
BEGIN:VEVENT
DTSTART;TZID=America/Nassau:20240705T100000
DTEND;TZID=America/Nassau:20240705T170000
DTSTAMP:20260425T152233
CREATED:20240628T160821Z
LAST-MODIFIED:20240628T160821Z
UID:31100-1720173600-1720198800@www.industrialtribunal.bs
SUMMARY:Daxson Morris v Bayside Construction & Development NP2023-102
DESCRIPTION:
URL:https://www.industrialtribunal.bs/event/daxson-morris-v-bayside-construction-development-np2023-102-2/
LOCATION:Court 5 – Vice President Rionda Godet\, Bank Lane\, Saffrey Square Building 2nd Floor\, New Providence\, Bahamas
CATEGORIES:Court 5
END:VEVENT
BEGIN:VEVENT
DTSTART;TZID=America/Nassau:20240705T100000
DTEND;TZID=America/Nassau:20240705T170000
DTSTAMP:20260425T152233
CREATED:20240628T160036Z
LAST-MODIFIED:20240628T160036Z
UID:31098-1720173600-1720198800@www.industrialtribunal.bs
SUMMARY:Carlton Smith v DTM Security Services/American Bridge NP2023-119
DESCRIPTION:
URL:https://www.industrialtribunal.bs/event/carlton-smith-v-dtm-security-services-american-bridge-np2023-119/
LOCATION:Court 5 – Vice President Rionda Godet\, Bank Lane\, Saffrey Square Building 2nd Floor\, New Providence\, Bahamas
CATEGORIES:Court 5
END:VEVENT
BEGIN:VEVENT
DTSTART;TZID=America/Nassau:20240705T100000
DTEND;TZID=America/Nassau:20240705T170000
DTSTAMP:20260425T152233
CREATED:20240628T155804Z
LAST-MODIFIED:20240628T160134Z
UID:31096-1720173600-1720198800@www.industrialtribunal.bs
SUMMARY:Tatiana Tinker & Staff v And More Security Bahamas NP2020-019
DESCRIPTION:
URL:https://www.industrialtribunal.bs/event/tatiana-tinker-staff-v-and-more-security-bahamas-np2020-019/
LOCATION:Court 5 – Vice President Rionda Godet\, Bank Lane\, Saffrey Square Building 2nd Floor\, New Providence\, Bahamas
CATEGORIES:Court 5
END:VEVENT
BEGIN:VEVENT
DTSTART;TZID=America/Nassau:20240619T100000
DTEND;TZID=America/Nassau:20240619T170000
DTSTAMP:20260425T152233
CREATED:20240604T174221Z
LAST-MODIFIED:20240604T174221Z
UID:31024-1718791200-1718816400@www.industrialtribunal.bs
SUMMARY:Mark Johnson v Kamalame Cay NP2024-014
DESCRIPTION:
URL:https://www.industrialtribunal.bs/event/mark-johnson-v-kamalame-cay-np2024-014/
LOCATION:Court 5 – Vice President Rionda Godet\, Bank Lane\, Saffrey Square Building 2nd Floor\, New Providence\, Bahamas
CATEGORIES:Court 5
END:VEVENT
BEGIN:VEVENT
DTSTART;TZID=America/Nassau:20240619T100000
DTEND;TZID=America/Nassau:20240619T170000
DTSTAMP:20260425T152233
CREATED:20240604T174107Z
LAST-MODIFIED:20240604T174107Z
UID:31022-1718791200-1718816400@www.industrialtribunal.bs
SUMMARY:Raquel Barr v Kamalamae Cay NP2024-019
DESCRIPTION:
URL:https://www.industrialtribunal.bs/event/raquel-barr-v-kamalamae-cay-np2024-019/
LOCATION:Court 5 – Vice President Rionda Godet\, Bank Lane\, Saffrey Square Building 2nd Floor\, New Providence\, Bahamas
CATEGORIES:Court 5
END:VEVENT
BEGIN:VEVENT
DTSTART;TZID=America/Nassau:20240614T100000
DTEND;TZID=America/Nassau:20240614T170000
DTSTAMP:20260425T152233
CREATED:20240604T173447Z
LAST-MODIFIED:20240604T173447Z
UID:31020-1718359200-1718384400@www.industrialtribunal.bs
SUMMARY:Claudine Thompson v Central Bank of The Bahamas NP2022-123
DESCRIPTION:
URL:https://www.industrialtribunal.bs/event/claudine-thompson-v-central-bank-of-the-bahamas-np2022-123-4/
LOCATION:Court 5 – Vice President Rionda Godet\, Bank Lane\, Saffrey Square Building 2nd Floor\, New Providence\, Bahamas
CATEGORIES:Court 5
END:VEVENT
BEGIN:VEVENT
DTSTART;TZID=America/Nassau:20240613T100000
DTEND;TZID=America/Nassau:20240613T170000
DTSTAMP:20260425T152233
CREATED:20240604T173328Z
LAST-MODIFIED:20240604T173328Z
UID:31018-1718272800-1718298000@www.industrialtribunal.bs
SUMMARY:Claudine Thompson v Central Bank of The Bahamas NP2022-123
DESCRIPTION:
URL:https://www.industrialtribunal.bs/event/claudine-thompson-v-central-bank-of-the-bahamas-np2022-123-3/
LOCATION:Court 5 – Vice President Rionda Godet\, Bank Lane\, Saffrey Square Building 2nd Floor\, New Providence\, Bahamas
CATEGORIES:Court 5
END:VEVENT
BEGIN:VEVENT
DTSTART;TZID=America/Nassau:20240611T100000
DTEND;TZID=America/Nassau:20240611T170000
DTSTAMP:20260425T152233
CREATED:20240604T172941Z
LAST-MODIFIED:20240604T172941Z
UID:31016-1718100000-1718125200@www.industrialtribunal.bs
SUMMARY:Philippa Major v Cashwiz Nassau Pawn NP2024-012
DESCRIPTION:
URL:https://www.industrialtribunal.bs/event/philippa-major-v-cashwiz-nassau-pawn-np2024-012/
LOCATION:Court 5 – Vice President Rionda Godet\, Bank Lane\, Saffrey Square Building 2nd Floor\, New Providence\, Bahamas
CATEGORIES:Court 5
END:VEVENT
BEGIN:VEVENT
DTSTART;TZID=America/Nassau:20240611T100000
DTEND;TZID=America/Nassau:20240611T170000
DTSTAMP:20260425T152233
CREATED:20240604T172726Z
LAST-MODIFIED:20240604T172726Z
UID:31014-1718100000-1718125200@www.industrialtribunal.bs
SUMMARY:Marie McPhee v Lightbourn v Trading Company NP2023-133
DESCRIPTION:
URL:https://www.industrialtribunal.bs/event/marie-mcphee-v-lightbourn-v-trading-company-np2023-133/
LOCATION:Court 5 – Vice President Rionda Godet\, Bank Lane\, Saffrey Square Building 2nd Floor\, New Providence\, Bahamas
CATEGORIES:Court 5
END:VEVENT
BEGIN:VEVENT
DTSTART;TZID=America/Nassau:20240315T100000
DTEND;TZID=America/Nassau:20240315T170000
DTSTAMP:20260425T152233
CREATED:20240307T142806Z
LAST-MODIFIED:20240307T142806Z
UID:30690-1710496800-1710522000@www.industrialtribunal.bs
SUMMARY:Timothy Sharp v Click to Collect Company NP2022-116
DESCRIPTION:
URL:https://www.industrialtribunal.bs/event/timothy-sharp-v-click-to-collect-company-np2022-116-3/
LOCATION:Court 5 – Vice President Rionda Godet\, Bank Lane\, Saffrey Square Building 2nd Floor\, New Providence\, Bahamas
CATEGORIES:Court 5
END:VEVENT
BEGIN:VEVENT
DTSTART;TZID=America/Nassau:20240315T100000
DTEND;TZID=America/Nassau:20240315T170000
DTSTAMP:20260425T152233
CREATED:20240307T142107Z
LAST-MODIFIED:20240307T142107Z
UID:30688-1710496800-1710522000@www.industrialtribunal.bs
SUMMARY:Alexander Gray v Elite Security Company NP2023-045
DESCRIPTION:
URL:https://www.industrialtribunal.bs/event/alexander-gray-v-elite-security-company-np2023-045-2/
LOCATION:Court 5 – Vice President Rionda Godet\, Bank Lane\, Saffrey Square Building 2nd Floor\, New Providence\, Bahamas
CATEGORIES:Court 5
END:VEVENT
BEGIN:VEVENT
DTSTART;TZID=America/Nassau:20240311T100000
DTEND;TZID=America/Nassau:20240311T170000
DTSTAMP:20260425T152233
CREATED:20240307T141912Z
LAST-MODIFIED:20240307T141912Z
UID:30686-1710151200-1710176400@www.industrialtribunal.bs
SUMMARY:Valene Winters v Harbourside Resort at Atlantis NP2023-059
DESCRIPTION:
URL:https://www.industrialtribunal.bs/event/valene-winters-v-harbourside-resort-at-atlantis-np2023-059/
LOCATION:Court 5 – Vice President Rionda Godet\, Bank Lane\, Saffrey Square Building 2nd Floor\, New Providence\, Bahamas
CATEGORIES:Court 5
END:VEVENT
BEGIN:VEVENT
DTSTART;TZID=America/Nassau:20240311T100000
DTEND;TZID=America/Nassau:20240311T170000
DTSTAMP:20260425T152233
CREATED:20240307T141727Z
LAST-MODIFIED:20240307T141727Z
UID:30684-1710151200-1710176400@www.industrialtribunal.bs
SUMMARY:Michael Angelo Sherman v VRL (Nassau} Ltd d/b/a Super Club Breeze Bahamas NP2022-070
DESCRIPTION:
URL:https://www.industrialtribunal.bs/event/michael-angelo-sherman-v-vrl-nassau-ltd-d-b-a-super-club-breeze-bahamas-np2022-070/
LOCATION:Court 5 – Vice President Rionda Godet\, Bank Lane\, Saffrey Square Building 2nd Floor\, New Providence\, Bahamas
CATEGORIES:Court 5
END:VEVENT
BEGIN:VEVENT
DTSTART;TZID=America/Nassau:20240229T100000
DTEND;TZID=America/Nassau:20240229T170000
DTSTAMP:20260425T152233
CREATED:20240209T173142Z
LAST-MODIFIED:20240209T173142Z
UID:30598-1709200800-1709226000@www.industrialtribunal.bs
SUMMARY:Jamie Jolly v Holland America/Half Moon Cay NP2023-004
DESCRIPTION:
URL:https://www.industrialtribunal.bs/event/jamie-jolly-v-holland-america-half-moon-cay-np2023-004-3/
LOCATION:Court 5 – Vice President Rionda Godet\, Bank Lane\, Saffrey Square Building 2nd Floor\, New Providence\, Bahamas
CATEGORIES:Court 5
END:VEVENT
BEGIN:VEVENT
DTSTART;TZID=America/Nassau:20240228T100000
DTEND;TZID=America/Nassau:20240228T170000
DTSTAMP:20260425T152233
CREATED:20240209T172934Z
LAST-MODIFIED:20240209T172934Z
UID:30596-1709114400-1709139600@www.industrialtribunal.bs
SUMMARY:Chantel Mervil v Bahamas Bargain Candle Shop NP2022-119
DESCRIPTION:
URL:https://www.industrialtribunal.bs/event/chantel-mervil-v-bahamas-bargain-candle-shop-np2022-119-4/
LOCATION:Court 5 – Vice President Rionda Godet\, Bank Lane\, Saffrey Square Building 2nd Floor\, New Providence\, Bahamas
CATEGORIES:Court 5
END:VEVENT
BEGIN:VEVENT
DTSTART;TZID=America/Nassau:20240227T100000
DTEND;TZID=America/Nassau:20240227T170000
DTSTAMP:20260425T152233
CREATED:20240209T172804Z
LAST-MODIFIED:20240209T172804Z
UID:30594-1709028000-1709053200@www.industrialtribunal.bs
SUMMARY:Chantel Mervil v Bahamas Bargain Candle Shop NP2022-119
DESCRIPTION:
URL:https://www.industrialtribunal.bs/event/chantel-mervil-v-bahamas-bargain-candle-shop-np2022-119-3/
LOCATION:Court 5 – Vice President Rionda Godet\, Bank Lane\, Saffrey Square Building 2nd Floor\, New Providence\, Bahamas
CATEGORIES:Court 5
END:VEVENT
BEGIN:VEVENT
DTSTART;TZID=America/Nassau:20240226T100000
DTEND;TZID=America/Nassau:20240226T170000
DTSTAMP:20260425T152233
CREATED:20240209T172558Z
LAST-MODIFIED:20240209T172558Z
UID:30592-1708941600-1708966800@www.industrialtribunal.bs
SUMMARY:Dave Beckford v Island Hotel Company Limited NP2021-160
DESCRIPTION:
URL:https://www.industrialtribunal.bs/event/dave-beckford-v-island-hotel-company-limited-np2021-160-2/
LOCATION:Court 5 – Vice President Rionda Godet\, Bank Lane\, Saffrey Square Building 2nd Floor\, New Providence\, Bahamas
CATEGORIES:Court 5
END:VEVENT
BEGIN:VEVENT
DTSTART;TZID=America/Nassau:20240222T100000
DTEND;TZID=America/Nassau:20240222T170000
DTSTAMP:20260425T152233
CREATED:20240209T172429Z
LAST-MODIFIED:20240209T172429Z
UID:30590-1708596000-1708621200@www.industrialtribunal.bs
SUMMARY:Shakara Ellis v Restaurant (Bahamas} Limited d/b/a Kentucky Fried Chicken NP2022-039
DESCRIPTION:
URL:https://www.industrialtribunal.bs/event/shakara-ellis-v-restaurant-bahamas-limited-d-b-a-kentucky-fried-chicken-np2022-039-3/
LOCATION:Court 5 – Vice President Rionda Godet\, Bank Lane\, Saffrey Square Building 2nd Floor\, New Providence\, Bahamas
CATEGORIES:Court 5
END:VEVENT
END:VCALENDAR