BEGIN:VCALENDAR
VERSION:2.0
PRODID:-//Bahamas Industrial Tribunal - ECPv6.15.20//NONSGML v1.0//EN
CALSCALE:GREGORIAN
METHOD:PUBLISH
X-WR-CALNAME:Bahamas Industrial Tribunal
X-ORIGINAL-URL:https://www.industrialtribunal.bs
X-WR-CALDESC:Events for Bahamas Industrial Tribunal
REFRESH-INTERVAL;VALUE=DURATION:PT1H
X-Robots-Tag:noindex
X-PUBLISHED-TTL:PT1H
BEGIN:VTIMEZONE
TZID:America/Nassau
BEGIN:DAYLIGHT
TZOFFSETFROM:-0500
TZOFFSETTO:-0400
TZNAME:EDT
DTSTART:20240310T070000
END:DAYLIGHT
BEGIN:STANDARD
TZOFFSETFROM:-0400
TZOFFSETTO:-0500
TZNAME:EST
DTSTART:20241103T060000
END:STANDARD
BEGIN:DAYLIGHT
TZOFFSETFROM:-0500
TZOFFSETTO:-0400
TZNAME:EDT
DTSTART:20250309T070000
END:DAYLIGHT
BEGIN:STANDARD
TZOFFSETFROM:-0400
TZOFFSETTO:-0500
TZNAME:EST
DTSTART:20251102T060000
END:STANDARD
BEGIN:DAYLIGHT
TZOFFSETFROM:-0500
TZOFFSETTO:-0400
TZNAME:EDT
DTSTART:20260308T070000
END:DAYLIGHT
BEGIN:STANDARD
TZOFFSETFROM:-0400
TZOFFSETTO:-0500
TZNAME:EST
DTSTART:20261101T060000
END:STANDARD
END:VTIMEZONE
BEGIN:VEVENT
DTSTART;TZID=America/Nassau:20250918T100000
DTEND;TZID=America/Nassau:20250918T170000
DTSTAMP:20260425T113020
CREATED:20250909T194737Z
LAST-MODIFIED:20250909T194737Z
UID:32906-1758189600-1758214800@www.industrialtribunal.bs
SUMMARY:Timothy Ingraham v Armoured Car Services Limited NP2025-069
DESCRIPTION:
URL:https://www.industrialtribunal.bs/event/timothy-ingraham-v-armoured-car-services-limited-np2025-069/
CATEGORIES:Court 1
END:VEVENT
BEGIN:VEVENT
DTSTART;TZID=America/Nassau:20250918T100000
DTEND;TZID=America/Nassau:20250918T170000
DTSTAMP:20260425T113020
CREATED:20250909T194532Z
LAST-MODIFIED:20250909T194532Z
UID:32904-1758189600-1758214800@www.industrialtribunal.bs
SUMMARY:Sherrard Woods v Compass Construction/Leno Corporate Centre NP2025-044
DESCRIPTION:
URL:https://www.industrialtribunal.bs/event/sherrard-woods-v-compass-construction-leno-corporate-centre-np2025-044/
CATEGORIES:Court 1
END:VEVENT
BEGIN:VEVENT
DTSTART;TZID=America/Nassau:20250918T100000
DTEND;TZID=America/Nassau:20250918T170000
DTSTAMP:20260425T113020
CREATED:20250909T194400Z
LAST-MODIFIED:20250909T194400Z
UID:32902-1758189600-1758214800@www.industrialtribunal.bs
SUMMARY:Kashan Morley v Island Hotel Atlantis NP2025-088
DESCRIPTION:
URL:https://www.industrialtribunal.bs/event/kashan-morley-v-island-hotel-atlantis-np2025-088/
CATEGORIES:Court 1
END:VEVENT
BEGIN:VEVENT
DTSTART;TZID=America/Nassau:20250918T100000
DTEND;TZID=America/Nassau:20250918T170000
DTSTAMP:20260425T113020
CREATED:20250909T194231Z
LAST-MODIFIED:20250909T194231Z
UID:32900-1758189600-1758214800@www.industrialtribunal.bs
SUMMARY:Themetria Harris v Asurewin NP2025-085
DESCRIPTION:
URL:https://www.industrialtribunal.bs/event/themetria-harris-v-asurewin-np2025-085/
CATEGORIES:Court 1
END:VEVENT
BEGIN:VEVENT
DTSTART;TZID=America/Nassau:20250918T100000
DTEND;TZID=America/Nassau:20250918T170000
DTSTAMP:20260425T113020
CREATED:20250909T194110Z
LAST-MODIFIED:20250909T194110Z
UID:32898-1758189600-1758214800@www.industrialtribunal.bs
SUMMARY:Rosalinda Louijeune v Treasure Of The Seas NP2025-035
DESCRIPTION:
URL:https://www.industrialtribunal.bs/event/rosalinda-louijeune-v-treasure-of-the-seas-np2025-035/
CATEGORIES:Court 1
END:VEVENT
BEGIN:VEVENT
DTSTART;TZID=America/Nassau:20250918T100000
DTEND;TZID=America/Nassau:20250918T170000
DTSTAMP:20260425T113020
CREATED:20250909T193927Z
LAST-MODIFIED:20250909T193927Z
UID:32896-1758189600-1758214800@www.industrialtribunal.bs
SUMMARY:Jasmine Scott v Colina Insurance NP2025-038
DESCRIPTION:
URL:https://www.industrialtribunal.bs/event/jasmine-scott-v-colina-insurance-np2025-038/
CATEGORIES:Court 1
END:VEVENT
BEGIN:VEVENT
DTSTART;TZID=America/Nassau:20250916T100000
DTEND;TZID=America/Nassau:20250916T170000
DTSTAMP:20260425T113020
CREATED:20250904T183214Z
LAST-MODIFIED:20250904T183214Z
UID:32823-1758016800-1758042000@www.industrialtribunal.bs
SUMMARY:Stephona Rolle v Dr. Charlene Reid t/a Easy Dental Care NR/NES/018/2025
DESCRIPTION:
URL:https://www.industrialtribunal.bs/event/stephona-rolle-v-dr-charlene-reid-t-a-easy-dental-care-nr-nes-018-2025-2/
CATEGORIES:Court 5
END:VEVENT
BEGIN:VEVENT
DTSTART;TZID=America/Nassau:20250915T100000
DTEND;TZID=America/Nassau:20250915T170000
DTSTAMP:20260425T113020
CREATED:20250904T183112Z
LAST-MODIFIED:20250904T183112Z
UID:32821-1757930400-1757955600@www.industrialtribunal.bs
SUMMARY:Stephona Rolle v Dr. Charlene Reid t/a Easy Dental Care NR/NES/018/2025
DESCRIPTION:
URL:https://www.industrialtribunal.bs/event/stephona-rolle-v-dr-charlene-reid-t-a-easy-dental-care-nr-nes-018-2025/
CATEGORIES:Court 5
END:VEVENT
BEGIN:VEVENT
DTSTART;TZID=America/Nassau:20250911T100000
DTEND;TZID=America/Nassau:20250911T170000
DTSTAMP:20260425T113020
CREATED:20250904T182912Z
LAST-MODIFIED:20250904T182912Z
UID:32819-1757584800-1757610000@www.industrialtribunal.bs
SUMMARY:Sahava Brooks v Edward J. Foster Limited NR/NES/012/2025
DESCRIPTION:
URL:https://www.industrialtribunal.bs/event/sahava-brooks-v-edward-j-foster-limited-nr-nes-012-2025-2/
CATEGORIES:Court 5
END:VEVENT
BEGIN:VEVENT
DTSTART;TZID=America/Nassau:20250910T100000
DTEND;TZID=America/Nassau:20250910T170000
DTSTAMP:20260425T113020
CREATED:20250908T152115Z
LAST-MODIFIED:20250908T152115Z
UID:32849-1757498400-1757523600@www.industrialtribunal.bs
SUMMARY:Daxson Morris v Bayside Construction Development NP2023-102
DESCRIPTION:
URL:https://www.industrialtribunal.bs/event/daxson-morris-v-bayside-construction-development-np2023-102-3/
CATEGORIES:Court 3
END:VEVENT
BEGIN:VEVENT
DTSTART;TZID=America/Nassau:20250910T100000
DTEND;TZID=America/Nassau:20250910T170000
DTSTAMP:20260425T113020
CREATED:20250908T151834Z
LAST-MODIFIED:20250908T151903Z
UID:32847-1757498400-1757523600@www.industrialtribunal.bs
SUMMARY:Nikeya Cash v Mt. Carmel Preparatory Academy NP2022-054
DESCRIPTION:
URL:https://www.industrialtribunal.bs/event/nikeya-cash-v-mt-carmel-preparatory-academy-np2022-054-5/
CATEGORIES:Court 3
END:VEVENT
BEGIN:VEVENT
DTSTART;TZID=America/Nassau:20250910T100000
DTEND;TZID=America/Nassau:20250910T170000
DTSTAMP:20260425T113020
CREATED:20250904T182756Z
LAST-MODIFIED:20250904T182756Z
UID:32817-1757498400-1757523600@www.industrialtribunal.bs
SUMMARY:Sahava Brooks v Edward J. Foster Limited NR/NES/012/2025
DESCRIPTION:
URL:https://www.industrialtribunal.bs/event/sahava-brooks-v-edward-j-foster-limited-nr-nes-012-2025/
CATEGORIES:Court 5
END:VEVENT
BEGIN:VEVENT
DTSTART;TZID=America/Nassau:20250909T100000
DTEND;TZID=America/Nassau:20250909T170000
DTSTAMP:20260425T113020
CREATED:20250908T153333Z
LAST-MODIFIED:20250908T153333Z
UID:32863-1757412000-1757437200@www.industrialtribunal.bs
SUMMARY:Charles Rolle v Aetos Holdings Limited NP2023-067
DESCRIPTION:
URL:https://www.industrialtribunal.bs/event/charles-rolle-v-aetos-holdings-limited-np2023-067-12/
CATEGORIES:Court 6
END:VEVENT
BEGIN:VEVENT
DTSTART;TZID=America/Nassau:20250909T100000
DTEND;TZID=America/Nassau:20250909T170000
DTSTAMP:20260425T113020
CREATED:20250908T151633Z
LAST-MODIFIED:20250908T151659Z
UID:32845-1757412000-1757437200@www.industrialtribunal.bs
SUMMARY:Marie McPhee v Lightbourne Trading Company NP2023-133
DESCRIPTION:
URL:https://www.industrialtribunal.bs/event/marie-mcphee-v-lightbourne-trading-company-np2023-133-4/
CATEGORIES:Court 3
END:VEVENT
BEGIN:VEVENT
DTSTART;TZID=America/Nassau:20250908T100000
DTEND;TZID=America/Nassau:20250908T170000
DTSTAMP:20260425T113020
CREATED:20250908T161429Z
LAST-MODIFIED:20250908T161453Z
UID:32893-1757325600-1757350800@www.industrialtribunal.bs
SUMMARY:Samantha A. Bain v Doctors Hospital Healthcare System NP2025-072
DESCRIPTION:
URL:https://www.industrialtribunal.bs/event/samantha-a-bain-v-doctors-hospital-healthcare-system-np2025-072/
CATEGORIES:Court 1
END:VEVENT
BEGIN:VEVENT
DTSTART;TZID=America/Nassau:20250908T100000
DTEND;TZID=America/Nassau:20250908T170000
DTSTAMP:20260425T113020
CREATED:20250908T153225Z
LAST-MODIFIED:20250908T153225Z
UID:32861-1757325600-1757350800@www.industrialtribunal.bs
SUMMARY:Charles Rolle v Aetos Holdings Limited NP2023-067
DESCRIPTION:
URL:https://www.industrialtribunal.bs/event/charles-rolle-v-aetos-holdings-limited-np2023-067-11/
CATEGORIES:Court 6
END:VEVENT
BEGIN:VEVENT
DTSTART;TZID=America/Nassau:20250908T100000
DTEND;TZID=America/Nassau:20250908T170000
DTSTAMP:20260425T113020
CREATED:20250908T151515Z
LAST-MODIFIED:20250908T151546Z
UID:32843-1757325600-1757350800@www.industrialtribunal.bs
SUMMARY:Marie McPhee v Lightbourne Trading Company NP2023-133
DESCRIPTION:
URL:https://www.industrialtribunal.bs/event/marie-mcphee-v-lightbourne-trading-company-np2023-133-3/
CATEGORIES:Court 3
END:VEVENT
BEGIN:VEVENT
DTSTART;TZID=America/Nassau:20250908T100000
DTEND;TZID=America/Nassau:20250908T170000
DTSTAMP:20260425T113020
CREATED:20250908T151146Z
LAST-MODIFIED:20250908T151214Z
UID:32839-1757325600-1757350800@www.industrialtribunal.bs
SUMMARY:Sean V. Ferguson v BCPOU Pension Plan & Trust Fund NP2022-112
DESCRIPTION:
URL:https://www.industrialtribunal.bs/event/sean-v-ferguson-v-bcpou-pension-plan-trust-fund-np2022-112-3/
CATEGORIES:Court 5
END:VEVENT
BEGIN:VEVENT
DTSTART;TZID=America/Nassau:20250905T100000
DTEND;TZID=America/Nassau:20250905T170000
DTSTAMP:20260425T113020
CREATED:20250908T150818Z
LAST-MODIFIED:20250908T150848Z
UID:32837-1757066400-1757091600@www.industrialtribunal.bs
SUMMARY:Darryl Darville v Last Mile Communication LTD. Bahamas Wimax NR2025-033
DESCRIPTION:
URL:https://www.industrialtribunal.bs/event/darryl-darville-v-last-mile-communication-ltd-bahamas-wimax-nr2025-033/
CATEGORIES:Court 5
END:VEVENT
BEGIN:VEVENT
DTSTART;TZID=America/Nassau:20250904T100000
DTEND;TZID=America/Nassau:20250904T170000
DTSTAMP:20260425T113020
CREATED:20250908T151328Z
LAST-MODIFIED:20250908T151354Z
UID:32841-1756980000-1757005200@www.industrialtribunal.bs
SUMMARY:Rudy Taylor v Airport Authority NP2023-131
DESCRIPTION:
URL:https://www.industrialtribunal.bs/event/rudy-taylor-v-airport-authority-np2023-131-2/
CATEGORIES:Court 3
END:VEVENT
BEGIN:VEVENT
DTSTART;TZID=America/Nassau:20250903T110000
DTEND;TZID=America/Nassau:20250903T170000
DTSTAMP:20260425T113020
CREATED:20250908T153102Z
LAST-MODIFIED:20250908T153102Z
UID:32859-1756897200-1756918800@www.industrialtribunal.bs
SUMMARY:Mikhail Smith v West Wind II Limited NP2024-109
DESCRIPTION:
URL:https://www.industrialtribunal.bs/event/mikhail-smith-v-west-wind-ii-limited-np2024-109-2/
CATEGORIES:Court 6
END:VEVENT
BEGIN:VEVENT
DTSTART;TZID=America/Nassau:20250903T100000
DTEND;TZID=America/Nassau:20250903T170000
DTSTAMP:20260425T113020
CREATED:20250908T152837Z
LAST-MODIFIED:20250908T152837Z
UID:32857-1756893600-1756918800@www.industrialtribunal.bs
SUMMARY:Joseph Farrington v Premier Importers NP2023-066
DESCRIPTION:
URL:https://www.industrialtribunal.bs/event/joseph-farrington-v-premier-importers-np2023-066-2/
CATEGORIES:Court 6
END:VEVENT
BEGIN:VEVENT
DTSTART;TZID=America/Nassau:20250903T100000
DTEND;TZID=America/Nassau:20250903T170000
DTSTAMP:20260425T113020
CREATED:20250908T150612Z
LAST-MODIFIED:20250908T150636Z
UID:32835-1756893600-1756918800@www.industrialtribunal.bs
SUMMARY:Wendell Demeritte v Dolphin Encounters NP2024-074
DESCRIPTION:
URL:https://www.industrialtribunal.bs/event/wendell-demeritte-v-dolphin-encounters-np2024-074/
CATEGORIES:Court 5
END:VEVENT
BEGIN:VEVENT
DTSTART;TZID=America/Nassau:20250902T100000
DTEND;TZID=America/Nassau:20250902T170000
DTSTAMP:20260425T113020
CREATED:20250908T161256Z
LAST-MODIFIED:20250908T161256Z
UID:32891-1756807200-1756832400@www.industrialtribunal.bs
SUMMARY:Robynn Johnson-Thurston v Scotia Bank (Bahamas) Limited NP2023-136
DESCRIPTION:
URL:https://www.industrialtribunal.bs/event/robynn-johnson-thurston-v-scotia-bank-bahamas-limited-np2023-136-2/
CATEGORIES:Court 1
END:VEVENT
BEGIN:VEVENT
DTSTART;TZID=America/Nassau:20250902T100000
DTEND;TZID=America/Nassau:20250902T170000
DTSTAMP:20260425T113020
CREATED:20250908T161049Z
LAST-MODIFIED:20250908T161129Z
UID:32888-1756807200-1756832400@www.industrialtribunal.bs
SUMMARY:Patrick Griffin v Strategic Property Holdings Limited d/b/a British Colonial Hotel NP2022-111
DESCRIPTION:
URL:https://www.industrialtribunal.bs/event/patrick-griffin-v-strategic-property-holdings-limited-d-b-a-british-colonial-hotel/
CATEGORIES:Court 1
END:VEVENT
BEGIN:VEVENT
DTSTART;TZID=America/Nassau:20250902T100000
DTEND;TZID=America/Nassau:20250902T170000
DTSTAMP:20260425T113020
CREATED:20250908T160449Z
LAST-MODIFIED:20250908T160449Z
UID:32886-1756807200-1756832400@www.industrialtribunal.bs
SUMMARY:Stanford Davis v ICS Security Concepts NP2025-021
DESCRIPTION:
URL:https://www.industrialtribunal.bs/event/stanford-davis-v-ics-security-concepts-np2025-021/
CATEGORIES:Court 1
END:VEVENT
BEGIN:VEVENT
DTSTART;TZID=America/Nassau:20250902T100000
DTEND;TZID=America/Nassau:20250902T170000
DTSTAMP:20260425T113020
CREATED:20250908T160315Z
LAST-MODIFIED:20250908T160315Z
UID:32884-1756807200-1756832400@www.industrialtribunal.bs
SUMMARY:Malina Mareus v Early Bird Supermarket NP2025-024
DESCRIPTION:
URL:https://www.industrialtribunal.bs/event/malina-mareus-v-early-bird-supermarket-np2025-024-2/
CATEGORIES:Court 1
END:VEVENT
BEGIN:VEVENT
DTSTART;TZID=America/Nassau:20250902T100000
DTEND;TZID=America/Nassau:20250902T170000
DTSTAMP:20260425T113020
CREATED:20250908T160155Z
LAST-MODIFIED:20250908T160155Z
UID:32882-1756807200-1756832400@www.industrialtribunal.bs
SUMMARY:Monalisa Mott v Black and White Studio NP2025-037
DESCRIPTION:
URL:https://www.industrialtribunal.bs/event/monalisa-mott-v-black-and-white-studio-np2025-037/
CATEGORIES:Court 1
END:VEVENT
BEGIN:VEVENT
DTSTART;TZID=America/Nassau:20250902T100000
DTEND;TZID=America/Nassau:20250902T170000
DTSTAMP:20260425T113020
CREATED:20250908T160024Z
LAST-MODIFIED:20250908T160024Z
UID:32880-1756807200-1756832400@www.industrialtribunal.bs
SUMMARY:Leonardo Pierre v I & M Convenience Store NP2025-043
DESCRIPTION:
URL:https://www.industrialtribunal.bs/event/leonardo-pierre-v-i-m-convenience-store-np2025-043/
CATEGORIES:Court 1
END:VEVENT
BEGIN:VEVENT
DTSTART;TZID=America/Nassau:20250902T100000
DTEND;TZID=America/Nassau:20250902T170000
DTSTAMP:20260425T113020
CREATED:20250908T154650Z
LAST-MODIFIED:20250908T154650Z
UID:32878-1756807200-1756832400@www.industrialtribunal.bs
SUMMARY:Eunicka Rolle v Halsbury Law Chambers NP2025-089
DESCRIPTION:
URL:https://www.industrialtribunal.bs/event/eunicka-rolle-v-halsbury-law-chambers-np2025-089/
CATEGORIES:Court 1
END:VEVENT
END:VCALENDAR