BEGIN:VCALENDAR
VERSION:2.0
PRODID:-//Bahamas Industrial Tribunal - ECPv6.15.20//NONSGML v1.0//EN
CALSCALE:GREGORIAN
METHOD:PUBLISH
X-WR-CALNAME:Bahamas Industrial Tribunal
X-ORIGINAL-URL:https://www.industrialtribunal.bs
X-WR-CALDESC:Events for Bahamas Industrial Tribunal
REFRESH-INTERVAL;VALUE=DURATION:PT1H
X-Robots-Tag:noindex
X-PUBLISHED-TTL:PT1H
BEGIN:VTIMEZONE
TZID:America/Nassau
BEGIN:DAYLIGHT
TZOFFSETFROM:-0500
TZOFFSETTO:-0400
TZNAME:EDT
DTSTART:20240310T070000
END:DAYLIGHT
BEGIN:STANDARD
TZOFFSETFROM:-0400
TZOFFSETTO:-0500
TZNAME:EST
DTSTART:20241103T060000
END:STANDARD
BEGIN:DAYLIGHT
TZOFFSETFROM:-0500
TZOFFSETTO:-0400
TZNAME:EDT
DTSTART:20250309T070000
END:DAYLIGHT
BEGIN:STANDARD
TZOFFSETFROM:-0400
TZOFFSETTO:-0500
TZNAME:EST
DTSTART:20251102T060000
END:STANDARD
BEGIN:DAYLIGHT
TZOFFSETFROM:-0500
TZOFFSETTO:-0400
TZNAME:EDT
DTSTART:20260308T070000
END:DAYLIGHT
BEGIN:STANDARD
TZOFFSETFROM:-0400
TZOFFSETTO:-0500
TZNAME:EST
DTSTART:20261101T060000
END:STANDARD
END:VTIMEZONE
BEGIN:VEVENT
DTSTART;TZID=America/Nassau:20250501T100000
DTEND;TZID=America/Nassau:20250501T170000
DTSTAMP:20260425T114906
CREATED:20250505T191658Z
LAST-MODIFIED:20250505T191658Z
UID:32418-1746093600-1746118800@www.industrialtribunal.bs
SUMMARY:Jackson Joseph vs. Transformation Landscaping Development NP2023-147
DESCRIPTION:
URL:https://www.industrialtribunal.bs/event/jackson-joseph-vs-transformation-landscaping-development-np2023-147/
CATEGORIES:Court 3
END:VEVENT
BEGIN:VEVENT
DTSTART;TZID=America/Nassau:20250502T100000
DTEND;TZID=America/Nassau:20250502T170000
DTSTAMP:20260425T114906
CREATED:20250505T191743Z
LAST-MODIFIED:20250505T191743Z
UID:32420-1746180000-1746205200@www.industrialtribunal.bs
SUMMARY:Jackson Joseph vs. Transformation Landscaping Development NP2023-147
DESCRIPTION:
URL:https://www.industrialtribunal.bs/event/jackson-joseph-vs-transformation-landscaping-development-np2023-147-2/
CATEGORIES:Court 3
END:VEVENT
BEGIN:VEVENT
DTSTART;TZID=America/Nassau:20250502T100000
DTEND;TZID=America/Nassau:20250502T170000
DTSTAMP:20260425T114906
CREATED:20250505T193225Z
LAST-MODIFIED:20250505T193225Z
UID:32439-1746180000-1746205200@www.industrialtribunal.bs
SUMMARY:Arlene Anderson vs. Island Hotel Co. Limited NP2024-082
DESCRIPTION:
URL:https://www.industrialtribunal.bs/event/arlene-anderson-vs-island-hotel-co-limited-np2024-082/
CATEGORIES:Court 4
END:VEVENT
BEGIN:VEVENT
DTSTART;TZID=America/Nassau:20250502T100000
DTEND;TZID=America/Nassau:20250502T170000
DTSTAMP:20260425T114906
CREATED:20250505T193338Z
LAST-MODIFIED:20250505T193338Z
UID:32441-1746180000-1746205200@www.industrialtribunal.bs
SUMMARY:Sherelle Major vs. Commonwealth Brewery NP2024-150
DESCRIPTION:
URL:https://www.industrialtribunal.bs/event/sherelle-major-vs-commonwealth-brewery-np2024-150/
CATEGORIES:Court 4
END:VEVENT
BEGIN:VEVENT
DTSTART;TZID=America/Nassau:20250502T100000
DTEND;TZID=America/Nassau:20250502T170000
DTSTAMP:20260425T114906
CREATED:20250520T155320Z
LAST-MODIFIED:20250520T155320Z
UID:32480-1746180000-1746205200@www.industrialtribunal.bs
SUMMARY:Gereko Swain vs. Firefly Sunset Resort NR/NES/068/2024
DESCRIPTION:
URL:https://www.industrialtribunal.bs/event/gereko-swain-vs-firefly-sunset-resort-nr-nes-068-2024/
CATEGORIES:Court 2
END:VEVENT
BEGIN:VEVENT
DTSTART;TZID=America/Nassau:20250505T100000
DTEND;TZID=America/Nassau:20250505T170000
DTSTAMP:20260425T114906
CREATED:20250505T193454Z
LAST-MODIFIED:20250505T193454Z
UID:32443-1746439200-1746464400@www.industrialtribunal.bs
SUMMARY:Marisa D. Mason Smith NP2023-058
DESCRIPTION:
URL:https://www.industrialtribunal.bs/event/marisa-d-mason-smith-np2023-058/
CATEGORIES:Court 4
END:VEVENT
BEGIN:VEVENT
DTSTART;TZID=America/Nassau:20250505T100000
DTEND;TZID=America/Nassau:20250505T170000
DTSTAMP:20260425T114906
CREATED:20250520T155514Z
LAST-MODIFIED:20250520T155514Z
UID:32482-1746439200-1746464400@www.industrialtribunal.bs
SUMMARY:Matthew Carey vs. Last Mile Communications Ltd t/a Bahamas Wimax NR/NES/045/2024
DESCRIPTION:
URL:https://www.industrialtribunal.bs/event/matthew-carey-vs-last-mile-communications-ltd-t-a-bahamas-wimax-nr-nes-045-2024/
CATEGORIES:Court 2
END:VEVENT
BEGIN:VEVENT
DTSTART;TZID=America/Nassau:20250505T100000
DTEND;TZID=America/Nassau:20250505T170000
DTSTAMP:20260425T114906
CREATED:20250520T155704Z
LAST-MODIFIED:20250520T155704Z
UID:32484-1746439200-1746464400@www.industrialtribunal.bs
SUMMARY:Leslie A. Lewis vs. E.A Hepburn Industrial Contractors NR/NES/074/2024
DESCRIPTION:
URL:https://www.industrialtribunal.bs/event/leslie-a-lewis-vs-e-a-hepburn-industrial-contractors-nr-nes-074-2024/
CATEGORIES:Court 2
END:VEVENT
BEGIN:VEVENT
DTSTART;TZID=America/Nassau:20250505T100000
DTEND;TZID=America/Nassau:20250505T170000
DTSTAMP:20260425T114906
CREATED:20250520T155914Z
LAST-MODIFIED:20250520T155914Z
UID:32486-1746439200-1746464400@www.industrialtribunal.bs
SUMMARY:Shawn Laramore vs. E.A Hepburn Industrial Contractors NR/NES/075/2024
DESCRIPTION:
URL:https://www.industrialtribunal.bs/event/shawn-laramore-vs-e-a-hepburn-industrial-contractors-nr-nes-075-2024/
CATEGORIES:Court 2
END:VEVENT
BEGIN:VEVENT
DTSTART;TZID=America/Nassau:20250505T100000
DTEND;TZID=America/Nassau:20250505T170000
DTSTAMP:20260425T114906
CREATED:20250526T195122Z
LAST-MODIFIED:20250526T195122Z
UID:32547-1746439200-1746464400@www.industrialtribunal.bs
SUMMARY:Tanya Jones v Albany Resort NP2024-119
DESCRIPTION:
URL:https://www.industrialtribunal.bs/event/tanya-jones-v-albany-resort-np2024-119-2/
CATEGORIES:Court 3
END:VEVENT
BEGIN:VEVENT
DTSTART;TZID=America/Nassau:20250506T100000
DTEND;TZID=America/Nassau:20250506T170000
DTSTAMP:20260425T114906
CREATED:20250505T193530Z
LAST-MODIFIED:20250505T193530Z
UID:32445-1746525600-1746550800@www.industrialtribunal.bs
SUMMARY:Marisa D. Mason Smith NP2023-058
DESCRIPTION:
URL:https://www.industrialtribunal.bs/event/marisa-d-mason-smith-np2023-058-2/
CATEGORIES:Court 4
END:VEVENT
BEGIN:VEVENT
DTSTART;TZID=America/Nassau:20250506T100000
DTEND;TZID=America/Nassau:20250506T170000
DTSTAMP:20260425T114906
CREATED:20250520T160051Z
LAST-MODIFIED:20250520T160051Z
UID:32488-1746525600-1746550800@www.industrialtribunal.bs
SUMMARY:Bernard Cooper vs. Baron Capital Management Partners Inc. NR/NES/009/2025
DESCRIPTION:
URL:https://www.industrialtribunal.bs/event/bernard-cooper-vs-baron-capital-management-partners-inc-nr-nes-009-2025/
CATEGORIES:Court 2
END:VEVENT
BEGIN:VEVENT
DTSTART;TZID=America/Nassau:20250507T100000
DTEND;TZID=America/Nassau:20250507T170000
DTSTAMP:20260425T114906
CREATED:20250505T193641Z
LAST-MODIFIED:20250505T193641Z
UID:32447-1746612000-1746637200@www.industrialtribunal.bs
SUMMARY:Carol Smith vs. Maxwell Storr NP2024-123
DESCRIPTION:
URL:https://www.industrialtribunal.bs/event/carol-smith-vs-maxwell-storr-np2024-123/
CATEGORIES:Court 4
END:VEVENT
BEGIN:VEVENT
DTSTART;TZID=America/Nassau:20250507T100000
DTEND;TZID=America/Nassau:20250507T170000
DTSTAMP:20260425T114906
CREATED:20250505T193802Z
LAST-MODIFIED:20250505T193802Z
UID:32449-1746612000-1746637200@www.industrialtribunal.bs
SUMMARY:Caroline Thompson vs. SMG Millwork Limited NP2024-078
DESCRIPTION:
URL:https://www.industrialtribunal.bs/event/caroline-thompson-vs-smg-millwork-limited-np2024-078/
CATEGORIES:Court 4
END:VEVENT
BEGIN:VEVENT
DTSTART;TZID=America/Nassau:20250507T100000
DTEND;TZID=America/Nassau:20250507T170000
DTSTAMP:20260425T114906
CREATED:20250505T193915Z
LAST-MODIFIED:20250505T193915Z
UID:32451-1746612000-1746637200@www.industrialtribunal.bs
SUMMARY:Anthony Saunders vs. Lifestyle Luxury Vacation Club NP2023-063
DESCRIPTION:
URL:https://www.industrialtribunal.bs/event/anthony-saunders-vs-lifestyle-luxury-vacation-club-np2023-063/
CATEGORIES:Court 4
END:VEVENT
BEGIN:VEVENT
DTSTART;TZID=America/Nassau:20250507T100000
DTEND;TZID=America/Nassau:20250507T170000
DTSTAMP:20260425T114906
CREATED:20250520T160208Z
LAST-MODIFIED:20250520T160208Z
UID:32490-1746612000-1746637200@www.industrialtribunal.bs
SUMMARY:Tinia Parker vs. GWS Worldwide Express NR/NES/011/2025
DESCRIPTION:
URL:https://www.industrialtribunal.bs/event/tinia-parker-vs-gws-worldwide-express-nr-nes-011-2025/
CATEGORIES:Court 2
END:VEVENT
BEGIN:VEVENT
DTSTART;TZID=America/Nassau:20250507T110000
DTEND;TZID=America/Nassau:20250507T170000
DTSTAMP:20260425T114906
CREATED:20250520T160359Z
LAST-MODIFIED:20250520T160359Z
UID:32492-1746615600-1746637200@www.industrialtribunal.bs
SUMMARY:Marie Micheline Knowles vs. Lucayan Yacht Residence Limited NR/NES/084/2024
DESCRIPTION:
URL:https://www.industrialtribunal.bs/event/marie-micheline-knowles-vs-lucayan-yacht-residence-limited-nr-nes-084-2024/
CATEGORIES:Court 2
END:VEVENT
BEGIN:VEVENT
DTSTART;TZID=America/Nassau:20250508T100000
DTEND;TZID=America/Nassau:20250508T170000
DTSTAMP:20260425T114906
CREATED:20250505T194049Z
LAST-MODIFIED:20250505T194049Z
UID:32453-1746698400-1746723600@www.industrialtribunal.bs
SUMMARY:Laurelle Burrows vs. Bahamas air Holdings LTD NP2024-087
DESCRIPTION:
URL:https://www.industrialtribunal.bs/event/laurelle-burrows-vs-bahamas-air-holdings-ltd-np2024-087/
CATEGORIES:Court 4
END:VEVENT
BEGIN:VEVENT
DTSTART;TZID=America/Nassau:20250508T100000
DTEND;TZID=America/Nassau:20250508T170000
DTSTAMP:20260425T114906
CREATED:20250505T194253Z
LAST-MODIFIED:20250505T194253Z
UID:32455-1746698400-1746723600@www.industrialtribunal.bs
SUMMARY:Anthony Saunders vs. Lifestyle Luxury Vacation Club NP2023-063
DESCRIPTION:
URL:https://www.industrialtribunal.bs/event/anthony-saunders-vs-lifestyle-luxury-vacation-club-np2023-063-2/
CATEGORIES:Court 4
END:VEVENT
BEGIN:VEVENT
DTSTART;TZID=America/Nassau:20250508T100000
DTEND;TZID=America/Nassau:20250508T170000
DTSTAMP:20260425T114906
CREATED:20250520T160628Z
LAST-MODIFIED:20250520T160638Z
UID:32494-1746698400-1746723600@www.industrialtribunal.bs
SUMMARY:Janet Glinton vs. Geltex Trading Corporation Limited t/a Ocean Reef Resort & Yacht Club NR/NES/041/2024
DESCRIPTION:
URL:https://www.industrialtribunal.bs/event/janet-glinton-vs-geltex-trading-corporation-limited-t-a-ocean-reef-resort-yacht-club-nr-nes-041-2024/
CATEGORIES:Court 2
END:VEVENT
BEGIN:VEVENT
DTSTART;TZID=America/Nassau:20250512T100000
DTEND;TZID=America/Nassau:20250512T170000
DTSTAMP:20260425T114907
CREATED:20250520T160858Z
LAST-MODIFIED:20250520T160858Z
UID:32496-1747044000-1747069200@www.industrialtribunal.bs
SUMMARY:Tekyo Gardiner vs. Double L. Construction NR/NES/081/2024
DESCRIPTION:
URL:https://www.industrialtribunal.bs/event/tekyo-gardiner-vs-double-l-construction-nr-nes-081-2024/
CATEGORIES:Court 2
END:VEVENT
BEGIN:VEVENT
DTSTART;TZID=America/Nassau:20250513T100000
DTEND;TZID=America/Nassau:20250513T170000
DTSTAMP:20260425T114907
CREATED:20250505T194415Z
LAST-MODIFIED:20250505T194415Z
UID:32457-1747130400-1747155600@www.industrialtribunal.bs
SUMMARY:Kelia Nottage vs. Blue Lagoon Island & Dolphin Encounters LTD NP2023-053
DESCRIPTION:
URL:https://www.industrialtribunal.bs/event/anthony-saunders-vs-lifestyle-luxury-vacation-club-np2023-063-2-2/
CATEGORIES:Court 4
END:VEVENT
BEGIN:VEVENT
DTSTART;TZID=America/Nassau:20250513T100000
DTEND;TZID=America/Nassau:20250513T170000
DTSTAMP:20260425T114907
CREATED:20250505T194545Z
LAST-MODIFIED:20250505T194545Z
UID:32459-1747130400-1747155600@www.industrialtribunal.bs
SUMMARY:Mark Johnson vs. Kamalame Cay NP2024-014
DESCRIPTION:
URL:https://www.industrialtribunal.bs/event/mark-johnson-vs-kamalame-cay-np2024-014/
CATEGORIES:Court 4
END:VEVENT
BEGIN:VEVENT
DTSTART;TZID=America/Nassau:20250513T100000
DTEND;TZID=America/Nassau:20250513T170000
DTSTAMP:20260425T114907
CREATED:20250520T161343Z
LAST-MODIFIED:20250520T161343Z
UID:32498-1747130400-1747155600@www.industrialtribunal.bs
SUMMARY:Tekyo Gardiner vs. Double L. Construction NR/NES/081/2024
DESCRIPTION:
URL:https://www.industrialtribunal.bs/event/tekyo-gardiner-vs-double-l-construction-nr-nes-081-2024-2/
CATEGORIES:Court 2
END:VEVENT
BEGIN:VEVENT
DTSTART;TZID=America/Nassau:20250514T100000
DTEND;TZID=America/Nassau:20250514T170000
DTSTAMP:20260425T114907
CREATED:20250505T191928Z
LAST-MODIFIED:20250505T191928Z
UID:32422-1747216800-1747242000@www.industrialtribunal.bs
SUMMARY:Nikeya Cash vs. Mt Carmel Preparatory Academy NP2022-054
DESCRIPTION:
URL:https://www.industrialtribunal.bs/event/nikeya-cash-vs-mt-carmel-preparatory-academy-np2022-054/
CATEGORIES:Court 3
END:VEVENT
BEGIN:VEVENT
DTSTART;TZID=America/Nassau:20250514T100000
DTEND;TZID=America/Nassau:20250514T170000
DTSTAMP:20260425T114907
CREATED:20250505T194657Z
LAST-MODIFIED:20250505T194657Z
UID:32461-1747216800-1747242000@www.industrialtribunal.bs
SUMMARY:Joan Brown vs. Island Hotel Company Limited Atlantis NP2023-069
DESCRIPTION:
URL:https://www.industrialtribunal.bs/event/joan-brown-vs-island-hotel-company-limited-atlantis-np2023-069/
CATEGORIES:Court 4
END:VEVENT
BEGIN:VEVENT
DTSTART;TZID=America/Nassau:20250515T100000
DTEND;TZID=America/Nassau:20250515T170000
DTSTAMP:20260425T114907
CREATED:20250520T162848Z
LAST-MODIFIED:20250520T162848Z
UID:32500-1747303200-1747328400@www.industrialtribunal.bs
SUMMARY:Asher Russell vs. DCL Island Development Ltd. NR/NES/060/2024
DESCRIPTION:
URL:https://www.industrialtribunal.bs/event/asher-russell-vs-dcl-island-development-ltd-nr-nes-060-2024/
CATEGORIES:Court 2
END:VEVENT
BEGIN:VEVENT
DTSTART;TZID=America/Nassau:20250519T100000
DTEND;TZID=America/Nassau:20250519T170000
DTSTAMP:20260425T114907
CREATED:20250505T192128Z
LAST-MODIFIED:20250505T192128Z
UID:32424-1747648800-1747674000@www.industrialtribunal.bs
SUMMARY:Valeria R. Cooper-Neely & Laron M. Neely vs. Bahamas Hyperbaric Center LTD NP2021-219 & 224
DESCRIPTION:
URL:https://www.industrialtribunal.bs/event/valeria-r-cooper-neely-laron-m-neely-vs-bahamas-hyperbaric-center-ltd-np2021-219-224/
CATEGORIES:Court 3
END:VEVENT
BEGIN:VEVENT
DTSTART;TZID=America/Nassau:20250519T100000
DTEND;TZID=America/Nassau:20250519T170000
DTSTAMP:20260425T114907
CREATED:20250505T194848Z
LAST-MODIFIED:20250505T194848Z
UID:32463-1747648800-1747674000@www.industrialtribunal.bs
SUMMARY:Don Seymour vs. Custom Fenestration Products International & CFP Installations Bahamas NP2023-074
DESCRIPTION:
URL:https://www.industrialtribunal.bs/event/don-seymour-vs-custom-fenestration-products-international-cfp-installations-bahamas-np2023-074/
CATEGORIES:Court 4
END:VEVENT
BEGIN:VEVENT
DTSTART;TZID=America/Nassau:20250519T100000
DTEND;TZID=America/Nassau:20250519T170000
DTSTAMP:20260425T114907
CREATED:20250520T163005Z
LAST-MODIFIED:20250520T163005Z
UID:32502-1747648800-1747674000@www.industrialtribunal.bs
SUMMARY:James Rispah Hepburn vs. Ministry of Education NR/NES/007/2025
DESCRIPTION:
URL:https://www.industrialtribunal.bs/event/james-rispah-hepburn-vs-ministry-of-education-nr-nes-007-2025/
CATEGORIES:Court 2
END:VEVENT
END:VCALENDAR