BEGIN:VCALENDAR
VERSION:2.0
PRODID:-//Bahamas Industrial Tribunal - ECPv6.15.20//NONSGML v1.0//EN
CALSCALE:GREGORIAN
METHOD:PUBLISH
X-WR-CALNAME:Bahamas Industrial Tribunal
X-ORIGINAL-URL:https://www.industrialtribunal.bs
X-WR-CALDESC:Events for Bahamas Industrial Tribunal
REFRESH-INTERVAL;VALUE=DURATION:PT1H
X-Robots-Tag:noindex
X-PUBLISHED-TTL:PT1H
BEGIN:VTIMEZONE
TZID:America/Nassau
BEGIN:DAYLIGHT
TZOFFSETFROM:-0500
TZOFFSETTO:-0400
TZNAME:EDT
DTSTART:20240310T070000
END:DAYLIGHT
BEGIN:STANDARD
TZOFFSETFROM:-0400
TZOFFSETTO:-0500
TZNAME:EST
DTSTART:20241103T060000
END:STANDARD
BEGIN:DAYLIGHT
TZOFFSETFROM:-0500
TZOFFSETTO:-0400
TZNAME:EDT
DTSTART:20250309T070000
END:DAYLIGHT
BEGIN:STANDARD
TZOFFSETFROM:-0400
TZOFFSETTO:-0500
TZNAME:EST
DTSTART:20251102T060000
END:STANDARD
BEGIN:DAYLIGHT
TZOFFSETFROM:-0500
TZOFFSETTO:-0400
TZNAME:EDT
DTSTART:20260308T070000
END:DAYLIGHT
BEGIN:STANDARD
TZOFFSETFROM:-0400
TZOFFSETTO:-0500
TZNAME:EST
DTSTART:20261101T060000
END:STANDARD
END:VTIMEZONE
BEGIN:VEVENT
DTSTART;TZID=America/Nassau:20250612T100000
DTEND;TZID=America/Nassau:20250612T170000
DTSTAMP:20260425T113326
CREATED:20250529T141549Z
LAST-MODIFIED:20250529T141549Z
UID:32563-1749722400-1749747600@www.industrialtribunal.bs
SUMMARY:David Barlett vs. Nassau Cruise Port T/A Global Ports Holdings NP2024-023
DESCRIPTION:
URL:https://www.industrialtribunal.bs/event/david-barlett-vs-nassau-cruise-port-t-a-global-ports-holdings-np2024-023/
CATEGORIES:Court 4
END:VEVENT
BEGIN:VEVENT
DTSTART;TZID=America/Nassau:20250613T100000
DTEND;TZID=America/Nassau:20250613T170000
DTSTAMP:20260425T113326
CREATED:20250610T141338Z
LAST-MODIFIED:20250610T141338Z
UID:32613-1749808800-1749834000@www.industrialtribunal.bs
SUMMARY:Wanda Carey vs. Last Mile Communications Ltd. t/a Bahamas Wimax NR/NES/043/2024 & NR/NES/071/2024
DESCRIPTION:
URL:https://www.industrialtribunal.bs/event/wanda-carey-vs-last-mile-communications-ltd-t-a-bahamas-wimax-nr-nes-043-2024-nr-nes-071-2024/
CATEGORIES:Court 2
END:VEVENT
BEGIN:VEVENT
DTSTART;TZID=America/Nassau:20250616T100000
DTEND;TZID=America/Nassau:20250616T170000
DTSTAMP:20260425T113326
CREATED:20250529T141706Z
LAST-MODIFIED:20250529T141706Z
UID:32565-1750068000-1750093200@www.industrialtribunal.bs
SUMMARY:Alijan Lubin vs. Fran Zone NP2024-021
DESCRIPTION:
URL:https://www.industrialtribunal.bs/event/alijan-lubin-vs-fran-zone-np2024-021/
CATEGORIES:Court 4
END:VEVENT
BEGIN:VEVENT
DTSTART;TZID=America/Nassau:20250616T100000
DTEND;TZID=America/Nassau:20250616T170000
DTSTAMP:20260425T113326
CREATED:20250529T141821Z
LAST-MODIFIED:20250529T141821Z
UID:32567-1750068000-1750093200@www.industrialtribunal.bs
SUMMARY:Willnick Eugene vs. Latitudes Titan Hospitality NP2024-125
DESCRIPTION:
URL:https://www.industrialtribunal.bs/event/willnick-eugene-vs-latitudes-titan-hospitality-np2024-125/
CATEGORIES:Court 4
END:VEVENT
BEGIN:VEVENT
DTSTART;TZID=America/Nassau:20250616T100000
DTEND;TZID=America/Nassau:20250616T170000
DTSTAMP:20260425T113326
CREATED:20250529T142026Z
LAST-MODIFIED:20250529T142126Z
UID:32569-1750068000-1750093200@www.industrialtribunal.bs
SUMMARY:Dwaynardo Russell vs. Diplomat Protection Agency NP2024-015
DESCRIPTION:
URL:https://www.industrialtribunal.bs/event/dwaynardo-russell-vs-diplomat-protection-agency-np2024-015/
CATEGORIES:Court 4
END:VEVENT
BEGIN:VEVENT
DTSTART;TZID=America/Nassau:20250616T100000
DTEND;TZID=America/Nassau:20250616T170000
DTSTAMP:20260425T113326
CREATED:20250529T142310Z
LAST-MODIFIED:20250529T142310Z
UID:32571-1750068000-1750093200@www.industrialtribunal.bs
SUMMARY:Anthonique Lee vs. Tiki Bikini Hut Junkanoo Beach NP2024-005
DESCRIPTION:
URL:https://www.industrialtribunal.bs/event/anthonique-lee-vs-tiki-bikini-hut-junkanoo-beach-np2024-005/
CATEGORIES:Court 4
END:VEVENT
BEGIN:VEVENT
DTSTART;TZID=America/Nassau:20250616T100000
DTEND;TZID=America/Nassau:20250616T170000
DTSTAMP:20260425T113326
CREATED:20250610T145848Z
LAST-MODIFIED:20250610T145848Z
UID:32627-1750068000-1750093200@www.industrialtribunal.bs
SUMMARY:Glendinque Forbes vs. LLVC Bahamas Ltd (Goldwin Resort) NP2024-047
DESCRIPTION:
URL:https://www.industrialtribunal.bs/event/glendinque-forbes-vs-llvc-bahamas-ltd-goldwin-resort-np2024-047/
CATEGORIES:Court 3
END:VEVENT
BEGIN:VEVENT
DTSTART;TZID=America/Nassau:20250617T100000
DTEND;TZID=America/Nassau:20250617T170000
DTSTAMP:20260425T113326
CREATED:20250529T142416Z
LAST-MODIFIED:20250529T142416Z
UID:32573-1750154400-1750179600@www.industrialtribunal.bs
SUMMARY:Vonya Williams vs. Adeana Creations NP2024-051
DESCRIPTION:
URL:https://www.industrialtribunal.bs/event/vonya-williams-vs-adeana-creations-np2024-051/
CATEGORIES:Court 4
END:VEVENT
BEGIN:VEVENT
DTSTART;TZID=America/Nassau:20250617T100000
DTEND;TZID=America/Nassau:20250617T170000
DTSTAMP:20260425T113326
CREATED:20250610T145943Z
LAST-MODIFIED:20250610T145943Z
UID:32629-1750154400-1750179600@www.industrialtribunal.bs
SUMMARY:Glendinque Forbes vs. LLVC Bahamas Ltd (Goldwin Resort) NP2024-047
DESCRIPTION:
URL:https://www.industrialtribunal.bs/event/glendinque-forbes-vs-llvc-bahamas-ltd-goldwin-resort-np2024-047-2/
CATEGORIES:Court 3
END:VEVENT
BEGIN:VEVENT
DTSTART;TZID=America/Nassau:20250618T100000
DTEND;TZID=America/Nassau:20250618T170000
DTSTAMP:20260425T113326
CREATED:20250529T142542Z
LAST-MODIFIED:20250529T142542Z
UID:32575-1750240800-1750266000@www.industrialtribunal.bs
SUMMARY:Homer Curtis vs. The Lyford Cay Club NP2024-008
DESCRIPTION:
URL:https://www.industrialtribunal.bs/event/homer-curtis-vs-the-lyford-cay-club-np2024-008/
CATEGORIES:Court 4
END:VEVENT
BEGIN:VEVENT
DTSTART;TZID=America/Nassau:20250619T100000
DTEND;TZID=America/Nassau:20250619T170000
DTSTAMP:20260425T113326
CREATED:20250610T184552Z
LAST-MODIFIED:20250610T184552Z
UID:32641-1750327200-1750352400@www.industrialtribunal.bs
SUMMARY:Hugh Jones v. The Island Hotel Company Limited-Atlantis NP2024-013
DESCRIPTION:
URL:https://www.industrialtribunal.bs/event/hugh-jones-v-the-island-hotel-company-limited-atlantis-np2024-013-2/
CATEGORIES:Court 1
END:VEVENT
BEGIN:VEVENT
DTSTART;TZID=America/Nassau:20250619T100000
DTEND;TZID=America/Nassau:20250619T170000
DTSTAMP:20260425T113326
CREATED:20250610T184723Z
LAST-MODIFIED:20250610T184723Z
UID:32643-1750327200-1750352400@www.industrialtribunal.bs
SUMMARY:Landora Colebrooke v. Island Hotel Company Limited d/b/a Atlantis NP2024-016
DESCRIPTION:
URL:https://www.industrialtribunal.bs/event/landora-colebrooke-v-island-hotel-company-limited-d-b-a-atlantis-np2024-016/
CATEGORIES:Court 1
END:VEVENT
BEGIN:VEVENT
DTSTART;TZID=America/Nassau:20250619T100000
DTEND;TZID=America/Nassau:20250619T170000
DTSTAMP:20260425T113326
CREATED:20250610T184851Z
LAST-MODIFIED:20250610T184851Z
UID:32645-1750327200-1750352400@www.industrialtribunal.bs
SUMMARY:Desiree Fowler v. Kamalame Cay Resort & Residences (Andros) NP2024-046
DESCRIPTION:
URL:https://www.industrialtribunal.bs/event/desiree-fowler-v-kamalame-cay-resort-residences-andros-np2024-046-2/
CATEGORIES:Court 1
END:VEVENT
BEGIN:VEVENT
DTSTART;TZID=America/Nassau:20250619T100000
DTEND;TZID=America/Nassau:20250619T170000
DTSTAMP:20260425T113326
CREATED:20250610T184959Z
LAST-MODIFIED:20250610T184959Z
UID:32647-1750327200-1750352400@www.industrialtribunal.bs
SUMMARY:Jermaine Gibson v. Island Hotel Company NP2024-071
DESCRIPTION:
URL:https://www.industrialtribunal.bs/event/jermaine-gibson-v-island-hotel-company-np2024-071-3/
CATEGORIES:Court 1
END:VEVENT
BEGIN:VEVENT
DTSTART;TZID=America/Nassau:20250620T100000
DTEND;TZID=America/Nassau:20250620T170000
DTSTAMP:20260425T113326
CREATED:20250610T141523Z
LAST-MODIFIED:20250610T141523Z
UID:32615-1750413600-1750438800@www.industrialtribunal.bs
SUMMARY:Derycka N. Musgrove v. Excel Institute of Arts Schools NR/NES/019/2025
DESCRIPTION:
URL:https://www.industrialtribunal.bs/event/derycka-n-musgrove-v-excel-institute-of-arts-schools-nr-nes-019-2025/
CATEGORIES:Court 5
END:VEVENT
BEGIN:VEVENT
DTSTART;TZID=America/Nassau:20250623T100000
DTEND;TZID=America/Nassau:20250623T170000
DTSTAMP:20260425T113326
CREATED:20250610T150051Z
LAST-MODIFIED:20250610T150051Z
UID:32631-1750672800-1750698000@www.industrialtribunal.bs
SUMMARY:Terrence Newbold vs. Apex Pavers NP2024-098
DESCRIPTION:
URL:https://www.industrialtribunal.bs/event/terrence-newbold-vs-apex-pavers-np2024-098/
CATEGORIES:Court 3
END:VEVENT
BEGIN:VEVENT
DTSTART;TZID=America/Nassau:20250624T100000
DTEND;TZID=America/Nassau:20250624T170000
DTSTAMP:20260425T113326
CREATED:20250529T142703Z
LAST-MODIFIED:20250529T142703Z
UID:32577-1750759200-1750784400@www.industrialtribunal.bs
SUMMARY:Charles Rolle vs. Aetos Holdings Limited NP2023-067
DESCRIPTION:
URL:https://www.industrialtribunal.bs/event/charles-rolle-vs-aetos-holdings-limited-np2023-067/
CATEGORIES:Court 4
END:VEVENT
BEGIN:VEVENT
DTSTART;TZID=America/Nassau:20250624T100000
DTEND;TZID=America/Nassau:20250624T170000
DTSTAMP:20260425T113326
CREATED:20250610T150118Z
LAST-MODIFIED:20250610T150118Z
UID:32633-1750759200-1750784400@www.industrialtribunal.bs
SUMMARY:Terrence Newbold vs. Apex Pavers NP2024-098
DESCRIPTION:
URL:https://www.industrialtribunal.bs/event/terrence-newbold-vs-apex-pavers-np2024-098-2/
CATEGORIES:Court 3
END:VEVENT
BEGIN:VEVENT
DTSTART;TZID=America/Nassau:20250625T100000
DTEND;TZID=America/Nassau:20250625T170000
DTSTAMP:20260425T113326
CREATED:20250529T142826Z
LAST-MODIFIED:20250529T142826Z
UID:32579-1750845600-1750870800@www.industrialtribunal.bs
SUMMARY:Galen Ford vs. Cable Bahamas NP2024-017
DESCRIPTION:
URL:https://www.industrialtribunal.bs/event/galen-ford-vs-cable-bahamas-np2024-017/
CATEGORIES:Court 4
END:VEVENT
BEGIN:VEVENT
DTSTART;TZID=America/Nassau:20250625T100000
DTEND;TZID=America/Nassau:20250625T170000
DTSTAMP:20260425T113326
CREATED:20250610T150151Z
LAST-MODIFIED:20250610T150151Z
UID:32635-1750845600-1750870800@www.industrialtribunal.bs
SUMMARY:Terrence Newbold vs. Apex Pavers NP2024-098
DESCRIPTION:
URL:https://www.industrialtribunal.bs/event/terrence-newbold-vs-apex-pavers-np2024-098-3/
CATEGORIES:Court 3
END:VEVENT
BEGIN:VEVENT
DTSTART;TZID=America/Nassau:20250626T100000
DTEND;TZID=America/Nassau:20250626T170000
DTSTAMP:20260425T113326
CREATED:20250529T142955Z
LAST-MODIFIED:20250529T142955Z
UID:32581-1750932000-1750957200@www.industrialtribunal.bs
SUMMARY:Lashanda Bain vs. Bahamas Claims Assistant Company Limited NP2024-018
DESCRIPTION:
URL:https://www.industrialtribunal.bs/event/lashanda-bain-vs-bahamas-claims-assistant-company-limited-np2024-018/
CATEGORIES:Court 4
END:VEVENT
BEGIN:VEVENT
DTSTART;TZID=America/Nassau:20250626T100000
DTEND;TZID=America/Nassau:20250626T170000
DTSTAMP:20260425T113326
CREATED:20250610T150306Z
LAST-MODIFIED:20250610T150306Z
UID:32637-1750932000-1750957200@www.industrialtribunal.bs
SUMMARY:Julian Pedican vs. Milo Butler & Son Limited NP2024 121
DESCRIPTION:
URL:https://www.industrialtribunal.bs/event/julian-pedican-vs-milo-butler-son-limited-np2024-121/
CATEGORIES:Court 3
END:VEVENT
BEGIN:VEVENT
DTSTART;TZID=America/Nassau:20250626T100000
DTEND;TZID=America/Nassau:20250626T170000
DTSTAMP:20260425T113326
CREATED:20250610T185230Z
LAST-MODIFIED:20250610T185230Z
UID:32649-1750932000-1750957200@www.industrialtribunal.bs
SUMMARY:Carl Francis v. Unifi Aviation LLC\, Delta Airlines\, Jennifer Rosage NP2025-011
DESCRIPTION:
URL:https://www.industrialtribunal.bs/event/carl-francis-v-unifi-aviation-llc-delta-airlines-jennifer-rosage-np2025-011/
CATEGORIES:Court 1
END:VEVENT
BEGIN:VEVENT
DTSTART;TZID=America/Nassau:20250627T100000
DTEND;TZID=America/Nassau:20250627T170000
DTSTAMP:20260425T113326
CREATED:20250529T143038Z
LAST-MODIFIED:20250529T143038Z
UID:32583-1751018400-1751043600@www.industrialtribunal.bs
SUMMARY:Lashanda Bain vs. Bahamas Claims Assistant Company Limited NP2024-018
DESCRIPTION:
URL:https://www.industrialtribunal.bs/event/lashanda-bain-vs-bahamas-claims-assistant-company-limited-np2024-018-2/
CATEGORIES:Court 4
END:VEVENT
BEGIN:VEVENT
DTSTART;TZID=America/Nassau:20250627T100000
DTEND;TZID=America/Nassau:20250627T170000
DTSTAMP:20260425T113326
CREATED:20250610T141643Z
LAST-MODIFIED:20250610T141643Z
UID:32617-1751018400-1751043600@www.industrialtribunal.bs
SUMMARY:Dr. Cheyanne Harvey v. The University of the Bahamas NR/NES/023/2025
DESCRIPTION:
URL:https://www.industrialtribunal.bs/event/dr-cheyanne-harvey-v-the-university-of-the-bahamas-nr-nes-023-2025/
CATEGORIES:Court 5
END:VEVENT
BEGIN:VEVENT
DTSTART;TZID=America/Nassau:20250627T100000
DTEND;TZID=America/Nassau:20250627T170000
DTSTAMP:20260425T113326
CREATED:20250610T150350Z
LAST-MODIFIED:20250610T150350Z
UID:32639-1751018400-1751043600@www.industrialtribunal.bs
SUMMARY:Julian Pedican vs. Milo Butler & Son Limited NP2024-121
DESCRIPTION:
URL:https://www.industrialtribunal.bs/event/julian-pedican-vs-milo-butler-son-limited-np2024-121-2/
CATEGORIES:Court 3
END:VEVENT
BEGIN:VEVENT
DTSTART;TZID=America/Nassau:20250701T100000
DTEND;TZID=America/Nassau:20250701T170000
DTSTAMP:20260425T113326
CREATED:20250616T142655Z
LAST-MODIFIED:20250616T142655Z
UID:32651-1751364000-1751389200@www.industrialtribunal.bs
SUMMARY:Helen Johnson v Big Boys Cafe NP2023-106
DESCRIPTION:
URL:https://www.industrialtribunal.bs/event/helen-johnson-v-big-boys-cafe-np2023-106/
CATEGORIES:Court 6
END:VEVENT
BEGIN:VEVENT
DTSTART;TZID=America/Nassau:20250701T100000
DTEND;TZID=America/Nassau:20250701T170000
DTSTAMP:20260425T113326
CREATED:20250702T183052Z
LAST-MODIFIED:20250702T183116Z
UID:32715-1751364000-1751389200@www.industrialtribunal.bs
SUMMARY:Kimsley Ferguson BPSU Lucille Strachan Algeria Lewis vs. Department of Statistics NP2021-186
DESCRIPTION:
URL:https://www.industrialtribunal.bs/event/kimsley-ferguson-bpsu-lucille-strachan-algeria-lewis-vs-department-of-statistics-np2021-186/
CATEGORIES:Court 3
END:VEVENT
BEGIN:VEVENT
DTSTART;TZID=America/Nassau:20250701T100000
DTEND;TZID=America/Nassau:20250701T170000
DTSTAMP:20260425T113326
CREATED:20250711T162622Z
LAST-MODIFIED:20250711T162622Z
UID:32765-1751364000-1751389200@www.industrialtribunal.bs
SUMMARY:Juliette Joseph-Josey & Stacy Johnson v Aetos Holdings Limited NP2019-124
DESCRIPTION:
URL:https://www.industrialtribunal.bs/event/juliette-joseph-josey-stacy-johnson-v-aetos-holdings-limited-np2019-124/
CATEGORIES:Court 5
END:VEVENT
BEGIN:VEVENT
DTSTART;TZID=America/Nassau:20250701T113000
DTEND;TZID=America/Nassau:20250701T170000
DTSTAMP:20260425T113326
CREATED:20250616T142818Z
LAST-MODIFIED:20250616T142818Z
UID:32653-1751369400-1751389200@www.industrialtribunal.bs
SUMMARY:Dominic Missick v Splice & Connection Company NP2022-067
DESCRIPTION:
URL:https://www.industrialtribunal.bs/event/dominic-missick-v-splice-connection-company-np2022-067/
CATEGORIES:Court 6
END:VEVENT
END:VCALENDAR