BEGIN:VCALENDAR
VERSION:2.0
PRODID:-//Bahamas Industrial Tribunal - ECPv6.15.20//NONSGML v1.0//EN
CALSCALE:GREGORIAN
METHOD:PUBLISH
X-ORIGINAL-URL:https://www.industrialtribunal.bs
X-WR-CALDESC:Events for Bahamas Industrial Tribunal
REFRESH-INTERVAL;VALUE=DURATION:PT1H
X-Robots-Tag:noindex
X-PUBLISHED-TTL:PT1H
BEGIN:VTIMEZONE
TZID:America/Nassau
BEGIN:DAYLIGHT
TZOFFSETFROM:-0500
TZOFFSETTO:-0400
TZNAME:EDT
DTSTART:20230312T070000
END:DAYLIGHT
BEGIN:STANDARD
TZOFFSETFROM:-0400
TZOFFSETTO:-0500
TZNAME:EST
DTSTART:20231105T060000
END:STANDARD
BEGIN:DAYLIGHT
TZOFFSETFROM:-0500
TZOFFSETTO:-0400
TZNAME:EDT
DTSTART:20240310T070000
END:DAYLIGHT
BEGIN:STANDARD
TZOFFSETFROM:-0400
TZOFFSETTO:-0500
TZNAME:EST
DTSTART:20241103T060000
END:STANDARD
BEGIN:DAYLIGHT
TZOFFSETFROM:-0500
TZOFFSETTO:-0400
TZNAME:EDT
DTSTART:20250309T070000
END:DAYLIGHT
BEGIN:STANDARD
TZOFFSETFROM:-0400
TZOFFSETTO:-0500
TZNAME:EST
DTSTART:20251102T060000
END:STANDARD
END:VTIMEZONE
BEGIN:VEVENT
DTSTART;TZID=America/Nassau:20241128T100000
DTEND;TZID=America/Nassau:20241128T170000
DTSTAMP:20260425T234416
CREATED:20241101T191741Z
LAST-MODIFIED:20241101T191741Z
UID:31620-1732788000-1732813200@www.industrialtribunal.bs
SUMMARY:Brian Omar Sands v The Mall at Marathon Limited NP2023-024
DESCRIPTION:
URL:https://www.industrialtribunal.bs/event/brian-omar-sands-v-the-mall-at-marathon-limited-np2023-024/
LOCATION:Court 3 – Vice President Sharada Humes Ferguson\, First Floor\, Suite 106\, Saffrey Square Building\, Bank Lane and East Street\, Nassau\, New Providence\, Bahamas
CATEGORIES:Court 3
END:VEVENT
BEGIN:VEVENT
DTSTART;TZID=America/Nassau:20241128T100000
DTEND;TZID=America/Nassau:20241128T170000
DTSTAMP:20260425T234416
CREATED:20241105T165545Z
LAST-MODIFIED:20241105T165545Z
UID:31645-1732788000-1732813200@www.industrialtribunal.bs
SUMMARY:Anita Moxey BHC & AWU v Harbourside at Atlantis NP2023-126
DESCRIPTION:
URL:https://www.industrialtribunal.bs/event/anita-moxey-bhc-awu-v-harbourside-at-atlantis-np2023-126/
LOCATION:Court 5 – Vice President Rionda Godet\, Bank Lane\, Saffrey Square Building 2nd Floor\, New Providence\, Bahamas
CATEGORIES:Court 5
END:VEVENT
BEGIN:VEVENT
DTSTART;TZID=America/Nassau:20241128T100000
DTEND;TZID=America/Nassau:20241128T170000
DTSTAMP:20260425T234416
CREATED:20241107T155810Z
LAST-MODIFIED:20241107T155810Z
UID:31697-1732788000-1732813200@www.industrialtribunal.bs
SUMMARY:Leonardo Lockhart v Buckeye Bahamas Hub Limited NR/NES/029/2024
DESCRIPTION:
URL:https://www.industrialtribunal.bs/event/leonardo-lockhart-v-buckeye-bahamas-hub-limited-nr-nes-029-2024-4/
LOCATION:Court 2 – Vice President Helen Almorales-Jones\, Suites 2 & 3 Freeport Insurance Center\, 21 B West Mall & Poinciana Dr.\, Freeport\, Grand Bahama\, Bahamas
CATEGORIES:Court 2
END:VEVENT
BEGIN:VEVENT
DTSTART;TZID=America/Nassau:20241129T100000
DTEND;TZID=America/Nassau:20241129T170000
DTSTAMP:20260425T234416
CREATED:20241107T160022Z
LAST-MODIFIED:20241107T160022Z
UID:31699-1732874400-1732899600@www.industrialtribunal.bs
SUMMARY:Daquan Swain v Fidelity Bank (Bahamas) Limited NR/NES/053/2024
DESCRIPTION:
URL:https://www.industrialtribunal.bs/event/daquan-swain-v-fidelity-bank-bahamas-limited-nr-nes-053-2024/
LOCATION:Court 2 – Vice President Helen Almorales-Jones\, Suites 2 & 3 Freeport Insurance Center\, 21 B West Mall & Poinciana Dr.\, Freeport\, Grand Bahama\, Bahamas
CATEGORIES:Court 2
END:VEVENT
BEGIN:VEVENT
DTSTART;TZID=America/Nassau:20241202T100000
DTEND;TZID=America/Nassau:20241202T170000
DTSTAMP:20260425T234416
CREATED:20241205T144139Z
LAST-MODIFIED:20241205T144139Z
UID:31778-1733133600-1733158800@www.industrialtribunal.bs
SUMMARY:Nicola Jones v F & B Security NP2021-062
DESCRIPTION:
URL:https://www.industrialtribunal.bs/event/nicola-jones-v-f-b-security-np2021-062-6/
LOCATION:Court 4 – Vice President Ingrid Cooper-Brooks
CATEGORIES:Court 4
END:VEVENT
BEGIN:VEVENT
DTSTART;TZID=America/Nassau:20241202T100000
DTEND;TZID=America/Nassau:20241202T170000
DTSTAMP:20260425T234416
CREATED:20241205T144301Z
LAST-MODIFIED:20241205T144301Z
UID:31780-1733133600-1733158800@www.industrialtribunal.bs
SUMMARY:Kent Francis v Easy Eco Limited NP2022-081
DESCRIPTION:
URL:https://www.industrialtribunal.bs/event/kent-francis-v-easy-eco-limited-np2022-081-2/
LOCATION:Court 4 – Vice President Ingrid Cooper-Brooks
CATEGORIES:Court 4
END:VEVENT
BEGIN:VEVENT
DTSTART;TZID=America/Nassau:20241202T100000
DTEND;TZID=America/Nassau:20241202T170000
DTSTAMP:20260425T234416
CREATED:20241205T144422Z
LAST-MODIFIED:20241205T144422Z
UID:31782-1733133600-1733158800@www.industrialtribunal.bs
SUMMARY:Nathaniel Darling v Easy Eco Car Limited NP2022-082
DESCRIPTION:
URL:https://www.industrialtribunal.bs/event/nathaniel-darling-v-easy-eco-car-limited-np2022-082-3/
LOCATION:Court 4 – Vice President Ingrid Cooper-Brooks
CATEGORIES:Court 4
END:VEVENT
BEGIN:VEVENT
DTSTART;TZID=America/Nassau:20241202T100000
DTEND;TZID=America/Nassau:20241202T170000
DTSTAMP:20260425T234416
CREATED:20241205T144600Z
LAST-MODIFIED:20241205T144600Z
UID:31784-1733133600-1733158800@www.industrialtribunal.bs
SUMMARY:Keith Lightbourn v Easy Eco Car Limited NP2022-083
DESCRIPTION:
URL:https://www.industrialtribunal.bs/event/keith-lightbourn-v-easy-eco-car-limited-np2022-083/
LOCATION:Court 4 – Vice President Ingrid Cooper-Brooks
CATEGORIES:Court 4
END:VEVENT
BEGIN:VEVENT
DTSTART;TZID=America/Nassau:20241202T100000
DTEND;TZID=America/Nassau:20241202T170000
DTSTAMP:20260425T234416
CREATED:20241205T144730Z
LAST-MODIFIED:20241205T144730Z
UID:31786-1733133600-1733158800@www.industrialtribunal.bs
SUMMARY:Perry Linday v Easy Eco Car Limited NP2022-086
DESCRIPTION:
URL:https://www.industrialtribunal.bs/event/perry-linday-v-easy-eco-car-limited-np2022-086-2/
LOCATION:Court 4 – Vice President Ingrid Cooper-Brooks
CATEGORIES:Court 4
END:VEVENT
BEGIN:VEVENT
DTSTART;TZID=America/Nassau:20241202T100000
DTEND;TZID=America/Nassau:20241202T170000
DTSTAMP:20260425T234416
CREATED:20241210T163105Z
LAST-MODIFIED:20241210T163105Z
UID:31832-1733133600-1733158800@www.industrialtribunal.bs
SUMMARY:Gail Woon v Cafferata & Company NR/NES/046/2024
DESCRIPTION:
URL:https://www.industrialtribunal.bs/event/gail-woon-v-cafferata-company-nr-nes-046-2024-2/
LOCATION:Court 2 – Vice President Helen Almorales-Jones\, Suites 2 & 3 Freeport Insurance Center\, 21 B West Mall & Poinciana Dr.\, Freeport\, Grand Bahama\, Bahamas
CATEGORIES:Court 2
END:VEVENT
BEGIN:VEVENT
DTSTART;TZID=America/Nassau:20241202T110000
DTEND;TZID=America/Nassau:20241202T170000
DTSTAMP:20260425T234416
CREATED:20241205T145059Z
LAST-MODIFIED:20241205T145059Z
UID:31788-1733137200-1733158800@www.industrialtribunal.bs
SUMMARY:Terah Black v RW Operations (Dunmore Beach) Harbour Island\, Eleuthera NP2021-222
DESCRIPTION:
URL:https://www.industrialtribunal.bs/event/terah-black-v-rw-operations-dunmore-beach-harbour-island-eleuthera-np2021-222/
LOCATION:Court 4 – Vice President Ingrid Cooper-Brooks
CATEGORIES:Court 4
END:VEVENT
BEGIN:VEVENT
DTSTART;TZID=America/Nassau:20241202T110000
DTEND;TZID=America/Nassau:20241202T170000
DTSTAMP:20260425T234416
CREATED:20241205T145252Z
LAST-MODIFIED:20241205T145252Z
UID:31790-1733137200-1733158800@www.industrialtribunal.bs
SUMMARY:Donald McDonald v Island Hotel Company Limited NP2021-205
DESCRIPTION:
URL:https://www.industrialtribunal.bs/event/donald-mcdonald-v-island-hotel-company-limited-np2021-205-4/
LOCATION:Court 4 – Vice President Ingrid Cooper-Brooks
CATEGORIES:Court 4
END:VEVENT
BEGIN:VEVENT
DTSTART;TZID=America/Nassau:20241202T110000
DTEND;TZID=America/Nassau:20241202T170000
DTSTAMP:20260425T234416
CREATED:20241205T145445Z
LAST-MODIFIED:20241205T145445Z
UID:31792-1733137200-1733158800@www.industrialtribunal.bs
SUMMARY:Johnathan Clarke v Atlantis Paradise Island Bahamas NP2021-019
DESCRIPTION:
URL:https://www.industrialtribunal.bs/event/johnathan-clarke-v-atlantis-paradise-island-bahamas-np2021-019/
LOCATION:Court 4 – Vice President Ingrid Cooper-Brooks
CATEGORIES:Court 4
END:VEVENT
BEGIN:VEVENT
DTSTART;TZID=America/Nassau:20241203T100000
DTEND;TZID=America/Nassau:20241203T170000
DTSTAMP:20260425T234416
CREATED:20241203T152703Z
LAST-MODIFIED:20241203T152703Z
UID:31750-1733220000-1733245200@www.industrialtribunal.bs
SUMMARY:Charles Joseph v Super Club Breezes NP2022-030
DESCRIPTION:
URL:https://www.industrialtribunal.bs/event/charles-joseph-v-super-club-breezes-np2022-030-3/
LOCATION:Court 5 – Vice President Rionda Godet\, Bank Lane\, Saffrey Square Building 2nd Floor\, New Providence\, Bahamas
CATEGORIES:Court 5
END:VEVENT
BEGIN:VEVENT
DTSTART;TZID=America/Nassau:20241203T100000
DTEND;TZID=America/Nassau:20241203T170000
DTSTAMP:20260425T234416
CREATED:20241203T153012Z
LAST-MODIFIED:20241203T153012Z
UID:31752-1733220000-1733245200@www.industrialtribunal.bs
SUMMARY:Anita Moxey v Harbourside Atlantis NP2023-126
DESCRIPTION:
URL:https://www.industrialtribunal.bs/event/anita-moxey-v-harbourside-atlantis-np2023-126/
LOCATION:Court 5 – Vice President Rionda Godet\, Bank Lane\, Saffrey Square Building 2nd Floor\, New Providence\, Bahamas
CATEGORIES:Court 5
END:VEVENT
BEGIN:VEVENT
DTSTART;TZID=America/Nassau:20241203T100000
DTEND;TZID=America/Nassau:20241203T170000
DTSTAMP:20260425T234416
CREATED:20241203T153139Z
LAST-MODIFIED:20241203T153139Z
UID:31754-1733220000-1733245200@www.industrialtribunal.bs
SUMMARY:Larando Rolle v Harbourside Atlantis NP2023-122
DESCRIPTION:
URL:https://www.industrialtribunal.bs/event/larando-rolle-v-harbourside-atlantis-np2023-122/
LOCATION:Court 5 – Vice President Rionda Godet\, Bank Lane\, Saffrey Square Building 2nd Floor\, New Providence\, Bahamas
CATEGORIES:Court 5
END:VEVENT
BEGIN:VEVENT
DTSTART;TZID=America/Nassau:20241203T100000
DTEND;TZID=America/Nassau:20241203T170000
DTSTAMP:20260425T234416
CREATED:20241205T165039Z
LAST-MODIFIED:20241205T165039Z
UID:31804-1733220000-1733245200@www.industrialtribunal.bs
SUMMARY:Charles Joseph v Super Club Breezes NP2022-030
DESCRIPTION:
URL:https://www.industrialtribunal.bs/event/charles-joseph-v-super-club-breezes-np2022-030-4/
LOCATION:Court 5 – Vice President Rionda Godet\, Bank Lane\, Saffrey Square Building 2nd Floor\, New Providence\, Bahamas
CATEGORIES:Court 5
END:VEVENT
BEGIN:VEVENT
DTSTART;TZID=America/Nassau:20241203T100000
DTEND;TZID=America/Nassau:20241203T170000
DTSTAMP:20260425T234416
CREATED:20241205T170314Z
LAST-MODIFIED:20241205T170314Z
UID:31806-1733220000-1733245200@www.industrialtribunal.bs
SUMMARY:Anita Moxey v Harbourside Atlantis NP2023-126
DESCRIPTION:
URL:https://www.industrialtribunal.bs/event/anita-moxey-v-harbourside-atlantis-np2023-126-2/
LOCATION:Court 5 – Vice President Rionda Godet\, Bank Lane\, Saffrey Square Building 2nd Floor\, New Providence\, Bahamas
CATEGORIES:Court 5
END:VEVENT
BEGIN:VEVENT
DTSTART;TZID=America/Nassau:20241203T100000
DTEND;TZID=America/Nassau:20241203T170000
DTSTAMP:20260425T234416
CREATED:20241205T170649Z
LAST-MODIFIED:20241205T170649Z
UID:31808-1733220000-1733245200@www.industrialtribunal.bs
SUMMARY:Larando Rolle v Harbourside Atlantis NP2023-122
DESCRIPTION:
URL:https://www.industrialtribunal.bs/event/larando-rolle-v-harbourside-atlantis-np2023-122-2/
LOCATION:Court 5 – Vice President Rionda Godet\, Bank Lane\, Saffrey Square Building 2nd Floor\, New Providence\, Bahamas
CATEGORIES:Court 5
END:VEVENT
BEGIN:VEVENT
DTSTART;TZID=America/Nassau:20241203T100000
DTEND;TZID=America/Nassau:20241203T170000
DTSTAMP:20260425T234416
CREATED:20241210T163652Z
LAST-MODIFIED:20241210T163652Z
UID:31834-1733220000-1733245200@www.industrialtribunal.bs
SUMMARY:Gail Woon v Cafferata & Company NR/NES/046/2024
DESCRIPTION:
URL:https://www.industrialtribunal.bs/event/gail-woon-v-cafferata-company-nr-nes-046-2024-3/
LOCATION:Court 2 – Vice President Helen Almorales-Jones\, Suites 2 & 3 Freeport Insurance Center\, 21 B West Mall & Poinciana Dr.\, Freeport\, Grand Bahama\, Bahamas
CATEGORIES:Court 2
END:VEVENT
BEGIN:VEVENT
DTSTART;TZID=America/Nassau:20241204T100000
DTEND;TZID=America/Nassau:20241204T170000
DTSTAMP:20260425T234416
CREATED:20241205T170751Z
LAST-MODIFIED:20241205T170751Z
UID:31810-1733306400-1733331600@www.industrialtribunal.bs
SUMMARY:Charles Joseph v Super Club Breezes NP2020-030
DESCRIPTION:
URL:https://www.industrialtribunal.bs/event/charles-joseph-v-super-club-breezes-np2020-030/
LOCATION:Court 5 – Vice President Rionda Godet\, Bank Lane\, Saffrey Square Building 2nd Floor\, New Providence\, Bahamas
CATEGORIES:Court 5
END:VEVENT
BEGIN:VEVENT
DTSTART;TZID=America/Nassau:20241204T100000
DTEND;TZID=America/Nassau:20241204T170000
DTSTAMP:20260425T234416
CREATED:20241205T170851Z
LAST-MODIFIED:20241205T170851Z
UID:31812-1733306400-1733331600@www.industrialtribunal.bs
SUMMARY:Anita Moxey v Harbourside Atlantis NP2023-126
DESCRIPTION:
URL:https://www.industrialtribunal.bs/event/anita-moxey-v-harbourside-atlantis-np2023-126-3/
LOCATION:Court 5 – Vice President Rionda Godet\, Bank Lane\, Saffrey Square Building 2nd Floor\, New Providence\, Bahamas
CATEGORIES:Court 5
END:VEVENT
BEGIN:VEVENT
DTSTART;TZID=America/Nassau:20241204T100000
DTEND;TZID=America/Nassau:20241204T170000
DTSTAMP:20260425T234416
CREATED:20241205T172844Z
LAST-MODIFIED:20241205T172844Z
UID:31814-1733306400-1733331600@www.industrialtribunal.bs
SUMMARY:Larando Rolle v Harbourside Atlantis NP2023-122
DESCRIPTION:
URL:https://www.industrialtribunal.bs/event/larando-rolle-v-harbourside-atlantis-np2023-122-3/
LOCATION:Court 5 – Vice President Rionda Godet\, Bank Lane\, Saffrey Square Building 2nd Floor\, New Providence\, Bahamas
CATEGORIES:Court 5
END:VEVENT
BEGIN:VEVENT
DTSTART;TZID=America/Nassau:20241204T100000
DTEND;TZID=America/Nassau:20241204T170000
DTSTAMP:20260425T234416
CREATED:20241210T163822Z
LAST-MODIFIED:20241210T163822Z
UID:31836-1733306400-1733331600@www.industrialtribunal.bs
SUMMARY:Gail Woon v Cafferata & Company NR/NES/046/2024
DESCRIPTION:
URL:https://www.industrialtribunal.bs/event/gail-woon-v-cafferata-company-nr-nes-046-2024-4/
LOCATION:Court 2 – Vice President Helen Almorales-Jones\, Suites 2 & 3 Freeport Insurance Center\, 21 B West Mall & Poinciana Dr.\, Freeport\, Grand Bahama\, Bahamas
CATEGORIES:Court 2
END:VEVENT
BEGIN:VEVENT
DTSTART;TZID=America/Nassau:20241206T100000
DTEND;TZID=America/Nassau:20241206T170000
DTSTAMP:20260425T234416
CREATED:20241203T153437Z
LAST-MODIFIED:20241203T153437Z
UID:31756-1733479200-1733504400@www.industrialtribunal.bs
SUMMARY:Brian Omar Sands v The Mall of Marathon NP2023-024
DESCRIPTION:
URL:https://www.industrialtribunal.bs/event/brian-omar-sands-v-the-mall-of-marathon-np2023-024/
LOCATION:Court 5 – Vice President Rionda Godet\, Bank Lane\, Saffrey Square Building 2nd Floor\, New Providence\, Bahamas
CATEGORIES:Court 5
END:VEVENT
BEGIN:VEVENT
DTSTART;TZID=America/Nassau:20241206T100000
DTEND;TZID=America/Nassau:20241206T170000
DTSTAMP:20260425T234416
CREATED:20241205T173028Z
LAST-MODIFIED:20241205T173028Z
UID:31816-1733479200-1733504400@www.industrialtribunal.bs
SUMMARY:Brian Omar Sands v The Mall of Marathon NP2023-024
DESCRIPTION:
URL:https://www.industrialtribunal.bs/event/brian-omar-sands-v-the-mall-of-marathon-np2023-024-2/
LOCATION:Court 5 – Vice President Rionda Godet\, Bank Lane\, Saffrey Square Building 2nd Floor\, New Providence\, Bahamas
CATEGORIES:Court 5
END:VEVENT
BEGIN:VEVENT
DTSTART;TZID=America/Nassau:20241209T100000
DTEND;TZID=America/Nassau:20241209T170000
DTSTAMP:20260425T234416
CREATED:20241203T150702Z
LAST-MODIFIED:20241203T150702Z
UID:31736-1733738400-1733763600@www.industrialtribunal.bs
SUMMARY:Chrishan Swann v Atlantis Casino Paradise NP2024-111
DESCRIPTION:
URL:https://www.industrialtribunal.bs/event/chrishan-swann-v-atlantis-casino-paradise-np2024-111/
LOCATION:Court 3 – Vice President Sharada Humes Ferguson\, First Floor\, Suite 106\, Saffrey Square Building\, Bank Lane and East Street\, Nassau\, New Providence\, Bahamas
CATEGORIES:Court 3
END:VEVENT
BEGIN:VEVENT
DTSTART;TZID=America/Nassau:20241209T100000
DTEND;TZID=America/Nassau:20241209T170000
DTSTAMP:20260425T234416
CREATED:20241203T150854Z
LAST-MODIFIED:20241203T150854Z
UID:31738-1733738400-1733763600@www.industrialtribunal.bs
SUMMARY:Patrick L. Mills v AC Moss Welding and Diesel Repairs NP2024-120
DESCRIPTION:
URL:https://www.industrialtribunal.bs/event/patrick-l-mills-v-ac-moss-welding-and-diesel-repairs-np2024-120/
LOCATION:Court 3 – Vice President Sharada Humes Ferguson\, First Floor\, Suite 106\, Saffrey Square Building\, Bank Lane and East Street\, Nassau\, New Providence\, Bahamas
CATEGORIES:Court 3
END:VEVENT
BEGIN:VEVENT
DTSTART;TZID=America/Nassau:20241209T100000
DTEND;TZID=America/Nassau:20241209T170000
DTSTAMP:20260425T234416
CREATED:20241203T151220Z
LAST-MODIFIED:20241203T151220Z
UID:31740-1733738400-1733763600@www.industrialtribunal.bs
SUMMARY:Terrance Newbold v Apex Pavers NP2024-098
DESCRIPTION:
URL:https://www.industrialtribunal.bs/event/terrance-newbold-v-apex-pavers-np2024-098/
LOCATION:Court 3 – Vice President Sharada Humes Ferguson\, First Floor\, Suite 106\, Saffrey Square Building\, Bank Lane and East Street\, Nassau\, New Providence\, Bahamas
CATEGORIES:Court 3
END:VEVENT
BEGIN:VEVENT
DTSTART;TZID=America/Nassau:20241209T100000
DTEND;TZID=America/Nassau:20241209T170000
DTSTAMP:20260425T234416
CREATED:20241205T173146Z
LAST-MODIFIED:20241205T173146Z
UID:31818-1733738400-1733763600@www.industrialtribunal.bs
SUMMARY:Frederick Hanna v Island Hotel Company Limited NP2023-028
DESCRIPTION:
URL:https://www.industrialtribunal.bs/event/frederick-hanna-v-island-hotel-company-limited-np2023-028-4/
LOCATION:Court 5 – Vice President Rionda Godet\, Bank Lane\, Saffrey Square Building 2nd Floor\, New Providence\, Bahamas
CATEGORIES:Court 5
END:VEVENT
END:VCALENDAR