BEGIN:VCALENDAR
VERSION:2.0
PRODID:-//Bahamas Industrial Tribunal - ECPv6.15.20//NONSGML v1.0//EN
CALSCALE:GREGORIAN
METHOD:PUBLISH
X-ORIGINAL-URL:https://www.industrialtribunal.bs
X-WR-CALDESC:Events for Bahamas Industrial Tribunal
REFRESH-INTERVAL;VALUE=DURATION:PT1H
X-Robots-Tag:noindex
X-PUBLISHED-TTL:PT1H
BEGIN:VTIMEZONE
TZID:America/Nassau
BEGIN:DAYLIGHT
TZOFFSETFROM:-0500
TZOFFSETTO:-0400
TZNAME:EDT
DTSTART:20240310T070000
END:DAYLIGHT
BEGIN:STANDARD
TZOFFSETFROM:-0400
TZOFFSETTO:-0500
TZNAME:EST
DTSTART:20241103T060000
END:STANDARD
BEGIN:DAYLIGHT
TZOFFSETFROM:-0500
TZOFFSETTO:-0400
TZNAME:EDT
DTSTART:20250309T070000
END:DAYLIGHT
BEGIN:STANDARD
TZOFFSETFROM:-0400
TZOFFSETTO:-0500
TZNAME:EST
DTSTART:20251102T060000
END:STANDARD
BEGIN:DAYLIGHT
TZOFFSETFROM:-0500
TZOFFSETTO:-0400
TZNAME:EDT
DTSTART:20260308T070000
END:DAYLIGHT
BEGIN:STANDARD
TZOFFSETFROM:-0400
TZOFFSETTO:-0500
TZNAME:EST
DTSTART:20261101T060000
END:STANDARD
END:VTIMEZONE
BEGIN:VEVENT
DTSTART;TZID=America/Nassau:20250227T100000
DTEND;TZID=America/Nassau:20250227T170000
DTSTAMP:20260425T165828
CREATED:20250131T181831Z
LAST-MODIFIED:20250131T181831Z
UID:31995-1740650400-1740675600@www.industrialtribunal.bs
SUMMARY:Preston Clarke v Courtyard Marriot NP2023-141
DESCRIPTION:
URL:https://www.industrialtribunal.bs/event/preston-clarke-v-courtyard-marriot-np2023-141-6/
LOCATION:Court 4 – Vice President Ingrid Cooper-Brooks
CATEGORIES:Court 4
END:VEVENT
BEGIN:VEVENT
DTSTART;TZID=America/Nassau:20250228T100000
DTEND;TZID=America/Nassau:20250228T170000
DTSTAMP:20260425T165828
CREATED:20250226T153603Z
LAST-MODIFIED:20250226T153603Z
UID:32083-1740736800-1740762000@www.industrialtribunal.bs
SUMMARY:Shakara Smith v The Carriearl Hotel\, Great Harbour Cay Berry Island Bahamas NP2021-154
DESCRIPTION:
URL:https://www.industrialtribunal.bs/event/shakara-smith-v-the-carriearl-hotel-great-harbour-cay-berry-island-bahamas-np2021-154/
LOCATION:Court 1 – President Indira Demeritte-Francis\, Bank Lane\, Saffrey Square Building 1st Floor\, New Providence\, Bahamas
CATEGORIES:Court 1
END:VEVENT
BEGIN:VEVENT
DTSTART;TZID=America/Nassau:20250228T100000
DTEND;TZID=America/Nassau:20250228T170000
DTSTAMP:20260425T165828
CREATED:20250226T153917Z
LAST-MODIFIED:20250226T153917Z
UID:32085-1740736800-1740762000@www.industrialtribunal.bs
SUMMARY:Winder Similien v Oasis Landscaping NP2024-068
DESCRIPTION:
URL:https://www.industrialtribunal.bs/event/winder-similien-v-oasis-landscaping-np2024-068/
LOCATION:Court 1 – President Indira Demeritte-Francis\, Bank Lane\, Saffrey Square Building 1st Floor\, New Providence\, Bahamas
CATEGORIES:Court 1
END:VEVENT
BEGIN:VEVENT
DTSTART;TZID=America/Nassau:20250228T100000
DTEND;TZID=America/Nassau:20250228T170000
DTSTAMP:20260425T165828
CREATED:20250226T154038Z
LAST-MODIFIED:20250226T154038Z
UID:32087-1740736800-1740762000@www.industrialtribunal.bs
SUMMARY:Andero Curry v Prosea's Plumbing NP2024-134
DESCRIPTION:
URL:https://www.industrialtribunal.bs/event/andero-curry-v-proseas-plumbing-np2024-134/
LOCATION:Court 1 – President Indira Demeritte-Francis\, Bank Lane\, Saffrey Square Building 1st Floor\, New Providence\, Bahamas
CATEGORIES:Court 1
END:VEVENT
BEGIN:VEVENT
DTSTART;TZID=America/Nassau:20250228T100000
DTEND;TZID=America/Nassau:20250228T170000
DTSTAMP:20260425T165828
CREATED:20250226T154137Z
LAST-MODIFIED:20250226T154137Z
UID:32089-1740736800-1740762000@www.industrialtribunal.bs
SUMMARY:Ashley Williams v Vaughn Jones Memorial Center NP2024-129
DESCRIPTION:
URL:https://www.industrialtribunal.bs/event/ashley-williams-v-vaughn-jones-memorial-center-np2024-129/
LOCATION:Court 1 – President Indira Demeritte-Francis\, Bank Lane\, Saffrey Square Building 1st Floor\, New Providence\, Bahamas
CATEGORIES:Court 1
END:VEVENT
BEGIN:VEVENT
DTSTART;TZID=America/Nassau:20250228T100000
DTEND;TZID=America/Nassau:20250228T170000
DTSTAMP:20260425T165828
CREATED:20250226T154403Z
LAST-MODIFIED:20250226T154403Z
UID:32091-1740736800-1740762000@www.industrialtribunal.bs
SUMMARY:Latoya Pinder  v Top Notch Catering NP2024-128
DESCRIPTION:
URL:https://www.industrialtribunal.bs/event/latoya-pinder-v-top-notch-catering-np2024-128/
LOCATION:Court 1 – President Indira Demeritte-Francis\, Bank Lane\, Saffrey Square Building 1st Floor\, New Providence\, Bahamas
CATEGORIES:Court 1
END:VEVENT
BEGIN:VEVENT
DTSTART;TZID=America/Nassau:20250228T100000
DTEND;TZID=America/Nassau:20250228T170000
DTSTAMP:20260425T165828
CREATED:20250226T154700Z
LAST-MODIFIED:20250226T154700Z
UID:32093-1740736800-1740762000@www.industrialtribunal.bs
SUMMARY:Kevin Adderley v Aetos Holdings Limited NP2024-112
DESCRIPTION:
URL:https://www.industrialtribunal.bs/event/kevin-adderley-v-aetos-holdings-limited-np2024-112/
LOCATION:Court 1 – President Indira Demeritte-Francis\, Bank Lane\, Saffrey Square Building 1st Floor\, New Providence\, Bahamas
CATEGORIES:Court 1
END:VEVENT
BEGIN:VEVENT
DTSTART;TZID=America/Nassau:20250228T100000
DTEND;TZID=America/Nassau:20250228T170000
DTSTAMP:20260425T165828
CREATED:20250226T154924Z
LAST-MODIFIED:20250226T154924Z
UID:32095-1740736800-1740762000@www.industrialtribunal.bs
SUMMARY:Portia Knowles v Dunmil Security NP2024-074
DESCRIPTION:
URL:https://www.industrialtribunal.bs/event/portia-knowles-v-dunmil-security-np2024-074/
LOCATION:Court 1 – President Indira Demeritte-Francis\, Bank Lane\, Saffrey Square Building 1st Floor\, New Providence\, Bahamas
CATEGORIES:Court 1
END:VEVENT
BEGIN:VEVENT
DTSTART;TZID=America/Nassau:20250228T100000
DTEND;TZID=America/Nassau:20250228T170000
DTSTAMP:20260425T165828
CREATED:20250226T155129Z
LAST-MODIFIED:20250226T155129Z
UID:32097-1740736800-1740762000@www.industrialtribunal.bs
SUMMARY:Clifford Andre Ricardo Theobalds v Caribbean Builders and Construction Co. Ltd NP2024-060
DESCRIPTION:
URL:https://www.industrialtribunal.bs/event/clifford-andre-ricardo-theobalds-v-caribbean-builders-and-construction-co-ltd-np2024-060/
LOCATION:Court 1 – President Indira Demeritte-Francis\, Bank Lane\, Saffrey Square Building 1st Floor\, New Providence\, Bahamas
CATEGORIES:Court 1
END:VEVENT
BEGIN:VEVENT
DTSTART;TZID=America/Nassau:20250303T100000
DTEND;TZID=America/Nassau:20250303T170000
DTSTAMP:20260425T165828
CREATED:20250305T184823Z
LAST-MODIFIED:20250305T184823Z
UID:32100-1740996000-1741021200@www.industrialtribunal.bs
SUMMARY:Wesley Strapp/Keith Roye v VRR Building Management Limited and Interior Idea NP2023-128/129
DESCRIPTION:
URL:https://www.industrialtribunal.bs/event/wesley-strapp-keith-roye-v-vrr-building-management-limited-and-interior-idea-np2023-128-129/
LOCATION:Court 3 – Vice President Sharada Humes Ferguson\, First Floor\, Suite 106\, Saffrey Square Building\, Bank Lane and East Street\, Nassau\, New Providence\, Bahamas
CATEGORIES:Court 3
END:VEVENT
BEGIN:VEVENT
DTSTART;TZID=America/Nassau:20250303T100000
DTEND;TZID=America/Nassau:20250303T170000
DTSTAMP:20260425T165828
CREATED:20250317T142747Z
LAST-MODIFIED:20250317T142747Z
UID:32267-1740996000-1741021200@www.industrialtribunal.bs
SUMMARY:Turan Miller v Grand Hyatt Baha Mar NP2023-047
DESCRIPTION:
URL:https://www.industrialtribunal.bs/event/turan-miller-v-grand-hyatt-baha-mar-np2023-047/
LOCATION:Court 5 – Vice President Rionda Godet\, Bank Lane\, Saffrey Square Building 2nd Floor\, New Providence\, Bahamas
CATEGORIES:Court 5
END:VEVENT
BEGIN:VEVENT
DTSTART;TZID=America/Nassau:20250304T100000
DTEND;TZID=America/Nassau:20250304T170000
DTSTAMP:20260425T165828
CREATED:20250305T185304Z
LAST-MODIFIED:20250305T185304Z
UID:32102-1741082400-1741107600@www.industrialtribunal.bs
SUMMARY:Wesley Strapp/Keith Roye v VRR Building  Management Limited and Interior Idea NP2023-128/129
DESCRIPTION:
URL:https://www.industrialtribunal.bs/event/wesley-strapp-keith-roye-v-vrr-building-management-limited-and-interior-idea-np2023-128-129-2/
LOCATION:Court 3 – Vice President Sharada Humes Ferguson\, First Floor\, Suite 106\, Saffrey Square Building\, Bank Lane and East Street\, Nassau\, New Providence\, Bahamas
CATEGORIES:Court 3
END:VEVENT
BEGIN:VEVENT
DTSTART;TZID=America/Nassau:20250310T100000
DTEND;TZID=America/Nassau:20250310T170000
DTSTAMP:20260425T165828
CREATED:20250306T200755Z
LAST-MODIFIED:20250306T200755Z
UID:32120-1741600800-1741626000@www.industrialtribunal.bs
SUMMARY:Alescio L. Fowler v Norman's Cay Operation Limited NP2024-181
DESCRIPTION:
URL:https://www.industrialtribunal.bs/event/alescio-l-fowler-v-normans-cay-operation-limited-np2024-181/
LOCATION:Court 1 – President Indira Demeritte-Francis\, Bank Lane\, Saffrey Square Building 1st Floor\, New Providence\, Bahamas
CATEGORIES:Court 1
END:VEVENT
BEGIN:VEVENT
DTSTART;TZID=America/Nassau:20250310T100000
DTEND;TZID=America/Nassau:20250310T170000
DTSTAMP:20260425T165828
CREATED:20250306T200933Z
LAST-MODIFIED:20250306T200933Z
UID:32122-1741600800-1741626000@www.industrialtribunal.bs
SUMMARY:Dennis Gibson Jr v Greyco Unlimited NP2024-124
DESCRIPTION:
URL:https://www.industrialtribunal.bs/event/dennis-gibson-jr-v-greyco-unlimited-np2024-124/
LOCATION:Court 1 – President Indira Demeritte-Francis\, Bank Lane\, Saffrey Square Building 1st Floor\, New Providence\, Bahamas
CATEGORIES:Court 1
END:VEVENT
BEGIN:VEVENT
DTSTART;TZID=America/Nassau:20250310T100000
DTEND;TZID=America/Nassau:20250310T170000
DTSTAMP:20260425T165828
CREATED:20250306T201113Z
LAST-MODIFIED:20250306T201113Z
UID:32124-1741600800-1741626000@www.industrialtribunal.bs
SUMMARY:Levi Johnson v M.S.I NP2023-138
DESCRIPTION:
URL:https://www.industrialtribunal.bs/event/levi-johnson-v-m-s-i-np2023-138-2/
LOCATION:Court 1 – President Indira Demeritte-Francis\, Bank Lane\, Saffrey Square Building 1st Floor\, New Providence\, Bahamas
CATEGORIES:Court 1
END:VEVENT
BEGIN:VEVENT
DTSTART;TZID=America/Nassau:20250310T100000
DTEND;TZID=America/Nassau:20250310T170000
DTSTAMP:20260425T165828
CREATED:20250306T201202Z
LAST-MODIFIED:20250306T201202Z
UID:32126-1741600800-1741626000@www.industrialtribunal.bs
SUMMARY:Mikin Jean v Breezes Resort NP2023-095
DESCRIPTION:
URL:https://www.industrialtribunal.bs/event/mikin-jean-v-breezes-resort-np2023-095/
LOCATION:Court 1 – President Indira Demeritte-Francis\, Bank Lane\, Saffrey Square Building 1st Floor\, New Providence\, Bahamas
CATEGORIES:Court 1
END:VEVENT
BEGIN:VEVENT
DTSTART;TZID=America/Nassau:20250310T100000
DTEND;TZID=America/Nassau:20250310T170000
DTSTAMP:20260425T165828
CREATED:20250306T201408Z
LAST-MODIFIED:20250306T201408Z
UID:32128-1741600800-1741626000@www.industrialtribunal.bs
SUMMARY:Mark Davies v International Investment Bank NP2024-133
DESCRIPTION:
URL:https://www.industrialtribunal.bs/event/mark-davies-v-international-investment-bank-np2024-133/
LOCATION:Court 1 – President Indira Demeritte-Francis\, Bank Lane\, Saffrey Square Building 1st Floor\, New Providence\, Bahamas
CATEGORIES:Court 1
END:VEVENT
BEGIN:VEVENT
DTSTART;TZID=America/Nassau:20250310T100000
DTEND;TZID=America/Nassau:20250310T170000
DTSTAMP:20260425T165828
CREATED:20250307T180014Z
LAST-MODIFIED:20250307T180014Z
UID:32130-1741600800-1741626000@www.industrialtribunal.bs
SUMMARY:Dameco Anderson v Caribbean Landscape NP2024-104
DESCRIPTION:
URL:https://www.industrialtribunal.bs/event/dameco-anderson-v-caribbean-landscape-np2024-104/
LOCATION:Court 1 – President Indira Demeritte-Francis\, Bank Lane\, Saffrey Square Building 1st Floor\, New Providence\, Bahamas
CATEGORIES:Court 1
END:VEVENT
BEGIN:VEVENT
DTSTART;TZID=America/Nassau:20250310T100000
DTEND;TZID=America/Nassau:20250310T170000
DTSTAMP:20260425T165828
CREATED:20250307T180129Z
LAST-MODIFIED:20250307T180129Z
UID:32132-1741600800-1741626000@www.industrialtribunal.bs
SUMMARY:Dorinda Humes v Drifter's Restaurant NP2024-118
DESCRIPTION:
URL:https://www.industrialtribunal.bs/event/dorinda-humes-v-drifters-restaurant-np2024-118/
LOCATION:Court 1 – President Indira Demeritte-Francis\, Bank Lane\, Saffrey Square Building 1st Floor\, New Providence\, Bahamas
CATEGORIES:Court 1
END:VEVENT
BEGIN:VEVENT
DTSTART;TZID=America/Nassau:20250310T100000
DTEND;TZID=America/Nassau:20250310T170000
DTSTAMP:20260425T165828
CREATED:20250307T180247Z
LAST-MODIFIED:20250307T180247Z
UID:32134-1741600800-1741626000@www.industrialtribunal.bs
SUMMARY:Shelly Oloumou v Silver Autumn Limited/Warwick Paradise Island NP2023-117
DESCRIPTION:
URL:https://www.industrialtribunal.bs/event/shelly-oloumou-v-silver-autumn-limited-warwick-paradise-island-np2023-117/
LOCATION:Court 1 – President Indira Demeritte-Francis\, Bank Lane\, Saffrey Square Building 1st Floor\, New Providence\, Bahamas
CATEGORIES:Court 1
END:VEVENT
BEGIN:VEVENT
DTSTART;TZID=America/Nassau:20250310T100000
DTEND;TZID=America/Nassau:20250310T170000
DTSTAMP:20260425T165828
CREATED:20250307T180410Z
LAST-MODIFIED:20250307T180410Z
UID:32136-1741600800-1741626000@www.industrialtribunal.bs
SUMMARY:Owen Adderley v Antiquities Monuments and Museums NP2024-113
DESCRIPTION:
URL:https://www.industrialtribunal.bs/event/owen-adderley-v-antiquities-monuments-and-museums-np2024-113/
LOCATION:Court 1 – President Indira Demeritte-Francis\, Bank Lane\, Saffrey Square Building 1st Floor\, New Providence\, Bahamas
CATEGORIES:Court 1
END:VEVENT
BEGIN:VEVENT
DTSTART;TZID=America/Nassau:20250310T100000
DTEND;TZID=America/Nassau:20250310T170000
DTSTAMP:20260425T165828
CREATED:20250307T180554Z
LAST-MODIFIED:20250307T180554Z
UID:32138-1741600800-1741626000@www.industrialtribunal.bs
SUMMARY:Rupert Charles Butler Jr v Westech International Security NP2023-136
DESCRIPTION:
URL:https://www.industrialtribunal.bs/event/rupert-charles-butler-jr-v-westech-international-security-np2023-136/
LOCATION:Court 1 – President Indira Demeritte-Francis\, Bank Lane\, Saffrey Square Building 1st Floor\, New Providence\, Bahamas
CATEGORIES:Court 1
END:VEVENT
BEGIN:VEVENT
DTSTART;TZID=America/Nassau:20250310T100000
DTEND;TZID=America/Nassau:20250310T170000
DTSTAMP:20260425T165828
CREATED:20250307T180719Z
LAST-MODIFIED:20250307T180719Z
UID:32140-1741600800-1741626000@www.industrialtribunal.bs
SUMMARY:Tiffany Rolle-Moss v Insurance Commission of The Bahamas NP2024-152
DESCRIPTION:
URL:https://www.industrialtribunal.bs/event/tiffany-rolle-moss-v-insurance-commission-of-the-bahamas-np2024-152/
LOCATION:Court 1 – President Indira Demeritte-Francis\, Bank Lane\, Saffrey Square Building 1st Floor\, New Providence\, Bahamas
CATEGORIES:Court 1
END:VEVENT
BEGIN:VEVENT
DTSTART;TZID=America/Nassau:20250310T100000
DTEND;TZID=America/Nassau:20250310T170000
DTSTAMP:20260425T165828
CREATED:20250307T180838Z
LAST-MODIFIED:20250307T180838Z
UID:32142-1741600800-1741626000@www.industrialtribunal.bs
SUMMARY:Deangelo Moutrie v Sunrise Beach Villas Limited NP2023-148
DESCRIPTION:
URL:https://www.industrialtribunal.bs/event/deangelo-moutrie-v-sunrise-beach-villas-limited-np2023-148/
LOCATION:Court 1 – President Indira Demeritte-Francis\, Bank Lane\, Saffrey Square Building 1st Floor\, New Providence\, Bahamas
CATEGORIES:Court 1
END:VEVENT
BEGIN:VEVENT
DTSTART;TZID=America/Nassau:20250310T100000
DTEND;TZID=America/Nassau:20250310T170000
DTSTAMP:20260425T165828
CREATED:20250307T180945Z
LAST-MODIFIED:20250307T180945Z
UID:32144-1741600800-1741626000@www.industrialtribunal.bs
SUMMARY:Roslyn Collie v Dunmil Security NP2024-038
DESCRIPTION:
URL:https://www.industrialtribunal.bs/event/roslyn-collie-v-dunmil-security-np2024-038-2/
LOCATION:Court 1 – President Indira Demeritte-Francis\, Bank Lane\, Saffrey Square Building 1st Floor\, New Providence\, Bahamas
CATEGORIES:Court 1
END:VEVENT
BEGIN:VEVENT
DTSTART;TZID=America/Nassau:20250310T100000
DTEND;TZID=America/Nassau:20250310T170000
DTSTAMP:20260425T165828
CREATED:20250307T181107Z
LAST-MODIFIED:20250307T181107Z
UID:32146-1741600800-1741626000@www.industrialtribunal.bs
SUMMARY:Javon Noel v SMG Millwork Limited NP2024-138
DESCRIPTION:
URL:https://www.industrialtribunal.bs/event/javon-noel-v-smg-millwork-limited-np2024-138/
LOCATION:Court 1 – President Indira Demeritte-Francis\, Bank Lane\, Saffrey Square Building 1st Floor\, New Providence\, Bahamas
CATEGORIES:Court 1
END:VEVENT
BEGIN:VEVENT
DTSTART;TZID=America/Nassau:20250310T100000
DTEND;TZID=America/Nassau:20250310T170000
DTSTAMP:20260425T165828
CREATED:20250307T181202Z
LAST-MODIFIED:20250307T181202Z
UID:32148-1741600800-1741626000@www.industrialtribunal.bs
SUMMARY:Siann Butler v Albany Resort NP2024-115
DESCRIPTION:
URL:https://www.industrialtribunal.bs/event/siann-butler-v-albany-resort-np2024-115-2/
LOCATION:Court 1 – President Indira Demeritte-Francis\, Bank Lane\, Saffrey Square Building 1st Floor\, New Providence\, Bahamas
CATEGORIES:Court 1
END:VEVENT
BEGIN:VEVENT
DTSTART;TZID=America/Nassau:20250310T100000
DTEND;TZID=America/Nassau:20250310T170000
DTSTAMP:20260425T165828
CREATED:20250307T181334Z
LAST-MODIFIED:20250307T181334Z
UID:32150-1741600800-1741626000@www.industrialtribunal.bs
SUMMARY:Athena Simmons v Trans Island Airways NP2024-144
DESCRIPTION:
URL:https://www.industrialtribunal.bs/event/athena-simmons-v-trans-island-airways-np2024-144/
LOCATION:Court 1 – President Indira Demeritte-Francis\, Bank Lane\, Saffrey Square Building 1st Floor\, New Providence\, Bahamas
CATEGORIES:Court 1
END:VEVENT
BEGIN:VEVENT
DTSTART;TZID=America/Nassau:20250311T100000
DTEND;TZID=America/Nassau:20250311T170000
DTSTAMP:20260425T165828
CREATED:20250317T142928Z
LAST-MODIFIED:20250317T142928Z
UID:32269-1741687200-1741712400@www.industrialtribunal.bs
SUMMARY:Carlton Smith v DTM Security Services & American Bridge NP2023-119
DESCRIPTION:
URL:https://www.industrialtribunal.bs/event/carlton-smith-v-dtm-security-services-american-bridge-np2023-119-2/
LOCATION:Court 5 – Vice President Rionda Godet\, Bank Lane\, Saffrey Square Building 2nd Floor\, New Providence\, Bahamas
CATEGORIES:Court 5
END:VEVENT
BEGIN:VEVENT
DTSTART;TZID=America/Nassau:20250312T100000
DTEND;TZID=America/Nassau:20250312T170000
DTSTAMP:20260425T165828
CREATED:20250317T135936Z
LAST-MODIFIED:20250317T135936Z
UID:32244-1741773600-1741798800@www.industrialtribunal.bs
SUMMARY:Charles Rolle v Aetos Holdings Limited NP2023-067
DESCRIPTION:
URL:https://www.industrialtribunal.bs/event/charles-rolle-v-aetos-holdings-limited-np2023-067-9/
LOCATION:Court 4 – Vice President Ingrid Cooper-Brooks
CATEGORIES:Court 4
END:VEVENT
END:VCALENDAR