BEGIN:VCALENDAR
VERSION:2.0
PRODID:-//Bahamas Industrial Tribunal - ECPv6.15.20//NONSGML v1.0//EN
CALSCALE:GREGORIAN
METHOD:PUBLISH
X-WR-CALNAME:Bahamas Industrial Tribunal
X-ORIGINAL-URL:https://www.industrialtribunal.bs
X-WR-CALDESC:Events for Bahamas Industrial Tribunal
REFRESH-INTERVAL;VALUE=DURATION:PT1H
X-Robots-Tag:noindex
X-PUBLISHED-TTL:PT1H
BEGIN:VTIMEZONE
TZID:America/Nassau
BEGIN:DAYLIGHT
TZOFFSETFROM:-0500
TZOFFSETTO:-0400
TZNAME:EDT
DTSTART:20240310T070000
END:DAYLIGHT
BEGIN:STANDARD
TZOFFSETFROM:-0400
TZOFFSETTO:-0500
TZNAME:EST
DTSTART:20241103T060000
END:STANDARD
BEGIN:DAYLIGHT
TZOFFSETFROM:-0500
TZOFFSETTO:-0400
TZNAME:EDT
DTSTART:20250309T070000
END:DAYLIGHT
BEGIN:STANDARD
TZOFFSETFROM:-0400
TZOFFSETTO:-0500
TZNAME:EST
DTSTART:20251102T060000
END:STANDARD
BEGIN:DAYLIGHT
TZOFFSETFROM:-0500
TZOFFSETTO:-0400
TZNAME:EDT
DTSTART:20260308T070000
END:DAYLIGHT
BEGIN:STANDARD
TZOFFSETFROM:-0400
TZOFFSETTO:-0500
TZNAME:EST
DTSTART:20261101T060000
END:STANDARD
END:VTIMEZONE
BEGIN:VEVENT
DTSTART;TZID=America/Nassau:20250130T100000
DTEND;TZID=America/Nassau:20250130T170000
DTSTAMP:20260425T200944
CREATED:20250113T193245Z
LAST-MODIFIED:20250113T193245Z
UID:31954-1738231200-1738256400@www.industrialtribunal.bs
SUMMARY:Bahamas Public Service Union v University of The Bahamas NP2024-102
DESCRIPTION:
URL:https://www.industrialtribunal.bs/event/bahamas-public-service-union-v-university-of-the-bahamas-np2024-102/
LOCATION:Court 1 – President Indira Demeritte-Francis\, Bank Lane\, Saffrey Square Building 1st Floor\, New Providence\, Bahamas
CATEGORIES:Court 1
END:VEVENT
BEGIN:VEVENT
DTSTART;TZID=America/Nassau:20250130T100000
DTEND;TZID=America/Nassau:20250130T170000
DTSTAMP:20260425T200944
CREATED:20250113T193349Z
LAST-MODIFIED:20250113T193349Z
UID:31956-1738231200-1738256400@www.industrialtribunal.bs
SUMMARY:Anthony Richardson BPSU v University of The Bahamas NP2024-110
DESCRIPTION:
URL:https://www.industrialtribunal.bs/event/anthony-richardson-bpsu-v-university-of-the-bahamas-np2024-110/
LOCATION:Court 1 – President Indira Demeritte-Francis\, Bank Lane\, Saffrey Square Building 1st Floor\, New Providence\, Bahamas
CATEGORIES:Court 1
END:VEVENT
BEGIN:VEVENT
DTSTART;TZID=America/Nassau:20250130T100000
DTEND;TZID=America/Nassau:20250130T170000
DTSTAMP:20260425T200944
CREATED:20250113T193454Z
LAST-MODIFIED:20250113T193454Z
UID:31958-1738231200-1738256400@www.industrialtribunal.bs
SUMMARY:Lavonne Lees Neely-BPSU v University of The Bahamas NP2024-101
DESCRIPTION:
URL:https://www.industrialtribunal.bs/event/lavonne-lees-neely-bpsu-v-university-of-the-bahamas-np2024-101/
LOCATION:Court 1 – President Indira Demeritte-Francis\, Bank Lane\, Saffrey Square Building 1st Floor\, New Providence\, Bahamas
CATEGORIES:Court 1
END:VEVENT
BEGIN:VEVENT
DTSTART;TZID=America/Nassau:20250130T100000
DTEND;TZID=America/Nassau:20250130T170000
DTSTAMP:20260425T200944
CREATED:20250113T193546Z
LAST-MODIFIED:20250113T193546Z
UID:31960-1738231200-1738256400@www.industrialtribunal.bs
SUMMARY:Domingo D. Colebrook v Earco Elite NP2023-019
DESCRIPTION:
URL:https://www.industrialtribunal.bs/event/domingo-d-colebrook-v-earco-elite-np2023-019/
LOCATION:Court 1 – President Indira Demeritte-Francis\, Bank Lane\, Saffrey Square Building 1st Floor\, New Providence\, Bahamas
CATEGORIES:Court 1
END:VEVENT
BEGIN:VEVENT
DTSTART;TZID=America/Nassau:20250130T100000
DTEND;TZID=America/Nassau:20250130T170000
DTSTAMP:20260425T200944
CREATED:20250113T193636Z
LAST-MODIFIED:20250113T193636Z
UID:31962-1738231200-1738256400@www.industrialtribunal.bs
SUMMARY:Hakeem Knowles v Sysco Bahamas NP2023-039
DESCRIPTION:
URL:https://www.industrialtribunal.bs/event/hakeem-knowles-v-sysco-bahamas-np2023-039-3/
LOCATION:Court 1 – President Indira Demeritte-Francis\, Bank Lane\, Saffrey Square Building 1st Floor\, New Providence\, Bahamas
CATEGORIES:Court 1
END:VEVENT
BEGIN:VEVENT
DTSTART;TZID=America/Nassau:20250130T100000
DTEND;TZID=America/Nassau:20250130T170000
DTSTAMP:20260425T200944
CREATED:20250113T193747Z
LAST-MODIFIED:20250113T193747Z
UID:31964-1738231200-1738256400@www.industrialtribunal.bs
SUMMARY:Kendera Moss v Rainbow Dental Centre NP2023-108
DESCRIPTION:
URL:https://www.industrialtribunal.bs/event/kendera-moss-v-rainbow-dental-centre-np2023-108/
LOCATION:Court 1 – President Indira Demeritte-Francis\, Bank Lane\, Saffrey Square Building 1st Floor\, New Providence\, Bahamas
CATEGORIES:Court 1
END:VEVENT
BEGIN:VEVENT
DTSTART;TZID=America/Nassau:20250130T100000
DTEND;TZID=America/Nassau:20250130T170000
DTSTAMP:20260425T200944
CREATED:20250113T193839Z
LAST-MODIFIED:20250113T193839Z
UID:31966-1738231200-1738256400@www.industrialtribunal.bs
SUMMARY:Lynden Curtis v Baha Mar NP2023-125
DESCRIPTION:
URL:https://www.industrialtribunal.bs/event/lynden-curtis-v-baha-mar-np2023-125/
LOCATION:Court 1 – President Indira Demeritte-Francis\, Bank Lane\, Saffrey Square Building 1st Floor\, New Providence\, Bahamas
CATEGORIES:Court 1
END:VEVENT
BEGIN:VEVENT
DTSTART;TZID=America/Nassau:20250130T100000
DTEND;TZID=America/Nassau:20250130T170000
DTSTAMP:20260425T200944
CREATED:20250113T193937Z
LAST-MODIFIED:20250113T193937Z
UID:31968-1738231200-1738256400@www.industrialtribunal.bs
SUMMARY:Wayne O. Newman Jr. v Tactical Security NP2023-127
DESCRIPTION:
URL:https://www.industrialtribunal.bs/event/wayne-o-newman-jr-v-tactical-security-np2023-127/
LOCATION:Court 1 – President Indira Demeritte-Francis\, Bank Lane\, Saffrey Square Building 1st Floor\, New Providence\, Bahamas
CATEGORIES:Court 1
END:VEVENT
BEGIN:VEVENT
DTSTART;TZID=America/Nassau:20250130T100000
DTEND;TZID=America/Nassau:20250130T170000
DTSTAMP:20260425T200944
CREATED:20250113T194040Z
LAST-MODIFIED:20250113T194040Z
UID:31970-1738231200-1738256400@www.industrialtribunal.bs
SUMMARY:Robynn Johnson -Thurston v Scotia Bank Bahamas Limited NP2023-136
DESCRIPTION:
URL:https://www.industrialtribunal.bs/event/robynn-johnson-thurston-v-scotia-bank-bahamas-limited-np2023-136/
LOCATION:Court 1 – President Indira Demeritte-Francis\, Bank Lane\, Saffrey Square Building 1st Floor\, New Providence\, Bahamas
CATEGORIES:Court 1
END:VEVENT
BEGIN:VEVENT
DTSTART;TZID=America/Nassau:20250130T100000
DTEND;TZID=America/Nassau:20250130T170000
DTSTAMP:20260425T200944
CREATED:20250113T194141Z
LAST-MODIFIED:20250113T194141Z
UID:31972-1738231200-1738256400@www.industrialtribunal.bs
SUMMARY:Deanza Andrews v Trans Island Airways (LPIA) NP2023-135
DESCRIPTION:
URL:https://www.industrialtribunal.bs/event/deanza-andrews-v-trans-island-airways-lpia-np2023-135/
LOCATION:Court 1 – President Indira Demeritte-Francis\, Bank Lane\, Saffrey Square Building 1st Floor\, New Providence\, Bahamas
CATEGORIES:Court 1
END:VEVENT
BEGIN:VEVENT
DTSTART;TZID=America/Nassau:20250131T100000
DTEND;TZID=America/Nassau:20250131T170000
DTSTAMP:20260425T200944
CREATED:20241210T175144Z
LAST-MODIFIED:20241210T175144Z
UID:31890-1738317600-1738342800@www.industrialtribunal.bs
SUMMARY:Satara Pinder v Silver Airways LLC NR/NES/021/2024
DESCRIPTION:
URL:https://www.industrialtribunal.bs/event/satara-pinder-v-silver-airways-llc-nr-nes-021-2024/
LOCATION:Court 2 – Vice President Helen Almorales-Jones\, Suites 2 & 3 Freeport Insurance Center\, 21 B West Mall & Poinciana Dr.\, Freeport\, Grand Bahama\, Bahamas
CATEGORIES:Court 2
END:VEVENT
BEGIN:VEVENT
DTSTART;TZID=America/Nassau:20250131T100000
DTEND;TZID=America/Nassau:20250131T170000
DTSTAMP:20260425T200944
CREATED:20250113T191312Z
LAST-MODIFIED:20250113T191312Z
UID:31918-1738317600-1738342800@www.industrialtribunal.bs
SUMMARY:Wendell Demeritte v Dolphin Encounters NP2023-029
DESCRIPTION:
URL:https://www.industrialtribunal.bs/event/wendell-demeritte-v-dolphin-encounters-np2023-029/
LOCATION:Court 1 – President Indira Demeritte-Francis\, Bank Lane\, Saffrey Square Building 1st Floor\, New Providence\, Bahamas
CATEGORIES:Court 1
END:VEVENT
BEGIN:VEVENT
DTSTART;TZID=America/Nassau:20250131T100000
DTEND;TZID=America/Nassau:20250131T170000
DTSTAMP:20260425T200944
CREATED:20250113T191430Z
LAST-MODIFIED:20250113T191430Z
UID:31920-1738317600-1738342800@www.industrialtribunal.bs
SUMMARY:Alicia Strachan v A Service Bahamas Limited d/b/a Ocean Club Four Seasons Resort NP2023-086
DESCRIPTION:
URL:https://www.industrialtribunal.bs/event/alicia-strachan-v-a-service-bahamas-limited-d-b-a-ocean-club-four-seasons-resort-np2023-086/
LOCATION:Court 1 – President Indira Demeritte-Francis\, Bank Lane\, Saffrey Square Building 1st Floor\, New Providence\, Bahamas
CATEGORIES:Court 1
END:VEVENT
BEGIN:VEVENT
DTSTART;TZID=America/Nassau:20250131T100000
DTEND;TZID=America/Nassau:20250131T170000
DTSTAMP:20260425T200944
CREATED:20250113T191543Z
LAST-MODIFIED:20250113T191543Z
UID:31922-1738317600-1738342800@www.industrialtribunal.bs
SUMMARY:Charlin Jean - Jacques v Talcove Constructive NP2023-087
DESCRIPTION:
URL:https://www.industrialtribunal.bs/event/charlin-jean-jacques-v-talcove-constructive-np2023-087/
LOCATION:Court 1 – President Indira Demeritte-Francis\, Bank Lane\, Saffrey Square Building 1st Floor\, New Providence\, Bahamas
CATEGORIES:Court 1
END:VEVENT
BEGIN:VEVENT
DTSTART;TZID=America/Nassau:20250131T100000
DTEND;TZID=America/Nassau:20250131T170000
DTSTAMP:20260425T200944
CREATED:20250113T191657Z
LAST-MODIFIED:20250113T191657Z
UID:31924-1738317600-1738342800@www.industrialtribunal.bs
SUMMARY:Delvin Mcintosh v Alarms Limited NP2023-134
DESCRIPTION:
URL:https://www.industrialtribunal.bs/event/delvin-mcintosh-v-alarms-limited-np2023-134/
LOCATION:Court 1 – President Indira Demeritte-Francis\, Bank Lane\, Saffrey Square Building 1st Floor\, New Providence\, Bahamas
CATEGORIES:Court 1
END:VEVENT
BEGIN:VEVENT
DTSTART;TZID=America/Nassau:20250131T100000
DTEND;TZID=America/Nassau:20250131T170000
DTSTAMP:20260425T200944
CREATED:20250113T191800Z
LAST-MODIFIED:20250113T191800Z
UID:31926-1738317600-1738342800@www.industrialtribunal.bs
SUMMARY:Franciso Mackey v American Bridge NP2023-112
DESCRIPTION:
URL:https://www.industrialtribunal.bs/event/franciso-mackey-v-american-bridge-np2023-112/
LOCATION:Court 1 – President Indira Demeritte-Francis\, Bank Lane\, Saffrey Square Building 1st Floor\, New Providence\, Bahamas
CATEGORIES:Court 1
END:VEVENT
BEGIN:VEVENT
DTSTART;TZID=America/Nassau:20250131T100000
DTEND;TZID=America/Nassau:20250131T170000
DTSTAMP:20260425T200944
CREATED:20250113T191909Z
LAST-MODIFIED:20250113T191909Z
UID:31928-1738317600-1738342800@www.industrialtribunal.bs
SUMMARY:Ashlyn Miller v Delta Airlines/DAL Global Services NP2023-123
DESCRIPTION:
URL:https://www.industrialtribunal.bs/event/ashlyn-miller-v-delta-airlines-dal-global-services-np2023-123/
LOCATION:Court 1 – President Indira Demeritte-Francis\, Bank Lane\, Saffrey Square Building 1st Floor\, New Providence\, Bahamas
CATEGORIES:Court 1
END:VEVENT
BEGIN:VEVENT
DTSTART;TZID=America/Nassau:20250131T100000
DTEND;TZID=America/Nassau:20250131T170000
DTSTAMP:20260425T200944
CREATED:20250113T192012Z
LAST-MODIFIED:20250113T192012Z
UID:31930-1738317600-1738342800@www.industrialtribunal.bs
SUMMARY:Lula Johnson v North Eleuthera District Council NP2020-86
DESCRIPTION:
URL:https://www.industrialtribunal.bs/event/lula-johnson-v-north-eleuthera-district-council-np2020-86/
LOCATION:Court 1 – President Indira Demeritte-Francis\, Bank Lane\, Saffrey Square Building 1st Floor\, New Providence\, Bahamas
CATEGORIES:Court 1
END:VEVENT
BEGIN:VEVENT
DTSTART;TZID=America/Nassau:20250203T100000
DTEND;TZID=America/Nassau:20250203T170000
DTSTAMP:20260425T200944
CREATED:20250205T194848Z
LAST-MODIFIED:20250205T194848Z
UID:32042-1738576800-1738602000@www.industrialtribunal.bs
SUMMARY:Frederick Hanna v Island Hotel Company Limited NP2023-028
DESCRIPTION:
URL:https://www.industrialtribunal.bs/event/frederick-hanna-v-island-hotel-company-limited-np2023-028-5/
LOCATION:Court 5 – Vice President Rionda Godet\, Bank Lane\, Saffrey Square Building 2nd Floor\, New Providence\, Bahamas
CATEGORIES:Court 5
END:VEVENT
BEGIN:VEVENT
DTSTART;TZID=America/Nassau:20250205T100000
DTEND;TZID=America/Nassau:20250205T170000
DTSTAMP:20260425T200944
CREATED:20250203T171709Z
LAST-MODIFIED:20250203T171709Z
UID:32003-1738749600-1738774800@www.industrialtribunal.bs
SUMMARY:Volvick Louis v Play Tech System t/a Island Luck NR/NES/062/2024
DESCRIPTION:
URL:https://www.industrialtribunal.bs/event/volvick-louis-v-play-tech-system-t-a-island-luck-nr-nes-062-2024/
LOCATION:Court 2 – Vice President Helen Almorales-Jones\, Suites 2 & 3 Freeport Insurance Center\, 21 B West Mall & Poinciana Dr.\, Freeport\, Grand Bahama\, Bahamas
CATEGORIES:Court 2
END:VEVENT
BEGIN:VEVENT
DTSTART;TZID=America/Nassau:20250206T100000
DTEND;TZID=America/Nassau:20250206T170000
DTSTAMP:20260425T200944
CREATED:20250203T172021Z
LAST-MODIFIED:20250203T172021Z
UID:32005-1738836000-1738861200@www.industrialtribunal.bs
SUMMARY:Shane Williams v Little Island Roofing Ltd NR/NES/035/2023
DESCRIPTION:
URL:https://www.industrialtribunal.bs/event/shane-williams-v-little-island-roofing-ltd-nr-nes-035-2023-13/
LOCATION:Court 2 – Vice President Helen Almorales-Jones\, Suites 2 & 3 Freeport Insurance Center\, 21 B West Mall & Poinciana Dr.\, Freeport\, Grand Bahama\, Bahamas
CATEGORIES:Court 2
END:VEVENT
BEGIN:VEVENT
DTSTART;TZID=America/Nassau:20250207T100000
DTEND;TZID=America/Nassau:20250207T170000
DTSTAMP:20260425T200944
CREATED:20250203T174040Z
LAST-MODIFIED:20250203T174040Z
UID:32007-1738922400-1738947600@www.industrialtribunal.bs
SUMMARY:Satara Pinder v Silver Airways LLC NR/NES/015/2024 NR/NES/061/2024
DESCRIPTION:
URL:https://www.industrialtribunal.bs/event/satara-pinder-v-silver-airways-llc-nr-nes-015-2024-nr-nes-061-2024-3/
LOCATION:Court 2 – Vice President Helen Almorales-Jones\, Suites 2 & 3 Freeport Insurance Center\, 21 B West Mall & Poinciana Dr.\, Freeport\, Grand Bahama\, Bahamas
CATEGORIES:Court 2
END:VEVENT
BEGIN:VEVENT
DTSTART;TZID=America/Nassau:20250210T100000
DTEND;TZID=America/Nassau:20250210T170000
DTSTAMP:20260425T200944
CREATED:20250203T164737Z
LAST-MODIFIED:20250203T164737Z
UID:31997-1739181600-1739206800@www.industrialtribunal.bs
SUMMARY:Calan Gibson Jr v Westech Security International NP2023-033
DESCRIPTION:
URL:https://www.industrialtribunal.bs/event/calan-gibson-jr-v-westech-security-international-np2023-033-4/
LOCATION:Court 3 – Vice President Sharada Humes Ferguson\, First Floor\, Suite 106\, Saffrey Square Building\, Bank Lane and East Street\, Nassau\, New Providence\, Bahamas
CATEGORIES:Court 3
END:VEVENT
BEGIN:VEVENT
DTSTART;TZID=America/Nassau:20250210T100000
DTEND;TZID=America/Nassau:20250210T170000
DTSTAMP:20260425T200944
CREATED:20250203T174430Z
LAST-MODIFIED:20250203T174430Z
UID:32009-1739181600-1739206800@www.industrialtribunal.bs
SUMMARY:Matthew Carey v Last Mile Communications Ltd t/a Bahamas Wimax NR/NES/045/2024
DESCRIPTION:
URL:https://www.industrialtribunal.bs/event/matthew-carey-v-last-mile-communications-ltd-t-a-bahamas-wimax-nr-nes-045-2024/
LOCATION:Court 2 – Vice President Helen Almorales-Jones\, Suites 2 & 3 Freeport Insurance Center\, 21 B West Mall & Poinciana Dr.\, Freeport\, Grand Bahama\, Bahamas
CATEGORIES:Court 2
END:VEVENT
BEGIN:VEVENT
DTSTART;TZID=America/Nassau:20250211T100000
DTEND;TZID=America/Nassau:20250211T170000
DTSTAMP:20260425T200944
CREATED:20250131T180304Z
LAST-MODIFIED:20250131T180304Z
UID:31977-1739268000-1739293200@www.industrialtribunal.bs
SUMMARY:Stephano Greene v Bahamas Power & Light NP2023-081
DESCRIPTION:
URL:https://www.industrialtribunal.bs/event/stephano-greene-v-bahamas-power-light-np2023-081/
LOCATION:Court 4 – Vice President Ingrid Cooper-Brooks
CATEGORIES:Court 4
END:VEVENT
BEGIN:VEVENT
DTSTART;TZID=America/Nassau:20250211T100000
DTEND;TZID=America/Nassau:20250211T170000
DTSTAMP:20260425T200944
CREATED:20250203T181140Z
LAST-MODIFIED:20250203T181140Z
UID:32011-1739268000-1739293200@www.industrialtribunal.bs
SUMMARY:Matthew Carey v Last Mile Communications Ltd t/a Bahamas Wimax NR/NES/045/2024
DESCRIPTION:
URL:https://www.industrialtribunal.bs/event/matthew-carey-v-last-mile-communications-ltd-t-a-bahamas-wimax-nr-nes-045-2024-2/
LOCATION:Court 2 – Vice President Helen Almorales-Jones\, Suites 2 & 3 Freeport Insurance Center\, 21 B West Mall & Poinciana Dr.\, Freeport\, Grand Bahama\, Bahamas
CATEGORIES:Court 2
END:VEVENT
BEGIN:VEVENT
DTSTART;TZID=America/Nassau:20250212T100000
DTEND;TZID=America/Nassau:20250212T170000
DTSTAMP:20260425T200944
CREATED:20250131T180518Z
LAST-MODIFIED:20250131T180518Z
UID:31979-1739354400-1739379600@www.industrialtribunal.bs
SUMMARY:Charles Rolle v Aetos Holdings Limited NP2023-067
DESCRIPTION:
URL:https://www.industrialtribunal.bs/event/charles-rolle-v-aetos-holdings-limited-np2023-067-7/
LOCATION:Court 4 – Vice President Ingrid Cooper-Brooks
CATEGORIES:Court 4
END:VEVENT
BEGIN:VEVENT
DTSTART;TZID=America/Nassau:20250212T100000
DTEND;TZID=America/Nassau:20250212T170000
DTSTAMP:20260425T200944
CREATED:20250203T181528Z
LAST-MODIFIED:20250203T181528Z
UID:32013-1739354400-1739379600@www.industrialtribunal.bs
SUMMARY:Brian Collie\, Cleon Newton v Commonwealth Electrical Workers Union NR/ES/005/2024
DESCRIPTION:
URL:https://www.industrialtribunal.bs/event/brian-collie-cleon-newton-v-commonwealth-electrical-workers-union-nr-es-005-2024/
LOCATION:Court 2 – Vice President Helen Almorales-Jones\, Suites 2 & 3 Freeport Insurance Center\, 21 B West Mall & Poinciana Dr.\, Freeport\, Grand Bahama\, Bahamas
CATEGORIES:Court 2
END:VEVENT
BEGIN:VEVENT
DTSTART;TZID=America/Nassau:20250213T100000
DTEND;TZID=America/Nassau:20250213T170000
DTSTAMP:20260425T200944
CREATED:20250131T180702Z
LAST-MODIFIED:20250131T180702Z
UID:31981-1739440800-1739466000@www.industrialtribunal.bs
SUMMARY:Charles Rolle v Aetos Holdings Limited NP2023-067
DESCRIPTION:
URL:https://www.industrialtribunal.bs/event/charles-rolle-v-aetos-holdings-limited-np2023-067-8/
LOCATION:Court 4 – Vice President Ingrid Cooper-Brooks
CATEGORIES:Court 4
END:VEVENT
BEGIN:VEVENT
DTSTART;TZID=America/Nassau:20250213T100000
DTEND;TZID=America/Nassau:20250213T170000
DTSTAMP:20260425T200944
CREATED:20250203T182005Z
LAST-MODIFIED:20250203T182005Z
UID:32015-1739440800-1739466000@www.industrialtribunal.bs
SUMMARY:Renadia Dean v Infinity Communication Ltd. t/a Dove 103.7 FM NR/NES/070/2024
DESCRIPTION:
URL:https://www.industrialtribunal.bs/event/renadia-dean-v-infinity-communication-ltd-t-a-dove-103-7-fm-nr-nes-070-2024/
LOCATION:Court 2 – Vice President Helen Almorales-Jones\, Suites 2 & 3 Freeport Insurance Center\, 21 B West Mall & Poinciana Dr.\, Freeport\, Grand Bahama\, Bahamas
CATEGORIES:Court 2
END:VEVENT
END:VCALENDAR