BEGIN:VCALENDAR
VERSION:2.0
PRODID:-//Bahamas Industrial Tribunal - ECPv6.15.20//NONSGML v1.0//EN
CALSCALE:GREGORIAN
METHOD:PUBLISH
X-WR-CALNAME:Bahamas Industrial Tribunal
X-ORIGINAL-URL:https://www.industrialtribunal.bs
X-WR-CALDESC:Events for Bahamas Industrial Tribunal
REFRESH-INTERVAL;VALUE=DURATION:PT1H
X-Robots-Tag:noindex
X-PUBLISHED-TTL:PT1H
BEGIN:VTIMEZONE
TZID:America/Nassau
BEGIN:DAYLIGHT
TZOFFSETFROM:-0500
TZOFFSETTO:-0400
TZNAME:EDT
DTSTART:20240310T070000
END:DAYLIGHT
BEGIN:STANDARD
TZOFFSETFROM:-0400
TZOFFSETTO:-0500
TZNAME:EST
DTSTART:20241103T060000
END:STANDARD
BEGIN:DAYLIGHT
TZOFFSETFROM:-0500
TZOFFSETTO:-0400
TZNAME:EDT
DTSTART:20250309T070000
END:DAYLIGHT
BEGIN:STANDARD
TZOFFSETFROM:-0400
TZOFFSETTO:-0500
TZNAME:EST
DTSTART:20251102T060000
END:STANDARD
BEGIN:DAYLIGHT
TZOFFSETFROM:-0500
TZOFFSETTO:-0400
TZNAME:EDT
DTSTART:20260308T070000
END:DAYLIGHT
BEGIN:STANDARD
TZOFFSETFROM:-0400
TZOFFSETTO:-0500
TZNAME:EST
DTSTART:20261101T060000
END:STANDARD
END:VTIMEZONE
BEGIN:VEVENT
DTSTART;TZID=America/Nassau:20250218T100000
DTEND;TZID=America/Nassau:20250218T170000
DTSTAMP:20260425T200957
CREATED:20250131T181309Z
LAST-MODIFIED:20250131T181309Z
UID:31989-1739872800-1739898000@www.industrialtribunal.bs
SUMMARY:Omar Davis v Island Hotel Company Limited D/B/A Atlantis NP2022-134
DESCRIPTION:
URL:https://www.industrialtribunal.bs/event/omar-davis-v-island-hotel-company-limited-d-b-a-atlantis-np2022-134-2/
LOCATION:Court 4 – Vice President Ingrid Cooper-Brooks
CATEGORIES:Court 4
END:VEVENT
BEGIN:VEVENT
DTSTART;TZID=America/Nassau:20250218T100000
DTEND;TZID=America/Nassau:20250218T170000
DTSTAMP:20260425T200957
CREATED:20250203T183212Z
LAST-MODIFIED:20250203T183212Z
UID:32024-1739872800-1739898000@www.industrialtribunal.bs
SUMMARY:Kaylyn Stuart v Arawak Service Industries Company Limited NR/NES/059/2024
DESCRIPTION:
URL:https://www.industrialtribunal.bs/event/kaylyn-stuart-v-arawak-service-industries-company-limited-nr-nes-059-2024-3/
LOCATION:Court 2 – Vice President Helen Almorales-Jones\, Suites 2 & 3 Freeport Insurance Center\, 21 B West Mall & Poinciana Dr.\, Freeport\, Grand Bahama\, Bahamas
CATEGORIES:Court 2
END:VEVENT
BEGIN:VEVENT
DTSTART;TZID=America/Nassau:20250218T100000
DTEND;TZID=America/Nassau:20250218T170000
DTSTAMP:20260425T200957
CREATED:20250203T183603Z
LAST-MODIFIED:20250203T183603Z
UID:32026-1739872800-1739898000@www.industrialtribunal.bs
SUMMARY:Edricka Russell v Senor Frogs Grand Bahama Ltd NR/NES/083/2024
DESCRIPTION:
URL:https://www.industrialtribunal.bs/event/edricka-russell-v-senor-frogs-grand-bahama-ltd-nr-nes-083-2024/
LOCATION:Court 2 – Vice President Helen Almorales-Jones\, Suites 2 & 3 Freeport Insurance Center\, 21 B West Mall & Poinciana Dr.\, Freeport\, Grand Bahama\, Bahamas
CATEGORIES:Court 2
END:VEVENT
BEGIN:VEVENT
DTSTART;TZID=America/Nassau:20250219T100000
DTEND;TZID=America/Nassau:20250219T170000
DTSTAMP:20260425T200957
CREATED:20250131T181545Z
LAST-MODIFIED:20250131T181545Z
UID:31991-1739959200-1739984400@www.industrialtribunal.bs
SUMMARY:Omar Davis v Island Hotel Company Limited D/B/A Atlantis NP2022-134
DESCRIPTION:
URL:https://www.industrialtribunal.bs/event/omar-davis-v-island-hotel-company-limited-d-b-a-atlantis-np2022-134-3/
LOCATION:Court 4 – Vice President Ingrid Cooper-Brooks
CATEGORIES:Court 4
END:VEVENT
BEGIN:VEVENT
DTSTART;TZID=America/Nassau:20250219T100000
DTEND;TZID=America/Nassau:20250219T170000
DTSTAMP:20260425T200957
CREATED:20250203T184010Z
LAST-MODIFIED:20250203T184010Z
UID:32028-1739959200-1739984400@www.industrialtribunal.bs
SUMMARY:Kaylyn Stuart v Arawak Service Industries Company Limited NR/NES/059/2024
DESCRIPTION:
URL:https://www.industrialtribunal.bs/event/kaylyn-stuart-v-arawak-service-industries-company-limited-nr-nes-059-2024-4/
LOCATION:Court 2 – Vice President Helen Almorales-Jones\, Suites 2 & 3 Freeport Insurance Center\, 21 B West Mall & Poinciana Dr.\, Freeport\, Grand Bahama\, Bahamas
CATEGORIES:Court 2
END:VEVENT
BEGIN:VEVENT
DTSTART;TZID=America/Nassau:20250220T100000
DTEND;TZID=America/Nassau:20250220T170000
DTSTAMP:20260425T200957
CREATED:20250203T164908Z
LAST-MODIFIED:20250203T164908Z
UID:31999-1740045600-1740070800@www.industrialtribunal.bs
SUMMARY:Latoya Cockburn v Diamonds International NP2023-146
DESCRIPTION:
URL:https://www.industrialtribunal.bs/event/latoya-cockburn-v-diamonds-international-np2023-146-2/
LOCATION:Court 3 – Vice President Sharada Humes Ferguson\, First Floor\, Suite 106\, Saffrey Square Building\, Bank Lane and East Street\, Nassau\, New Providence\, Bahamas
CATEGORIES:Court 3
END:VEVENT
BEGIN:VEVENT
DTSTART;TZID=America/Nassau:20250220T100000
DTEND;TZID=America/Nassau:20250220T170000
DTSTAMP:20260425T200957
CREATED:20250203T184207Z
LAST-MODIFIED:20250203T184207Z
UID:32030-1740045600-1740070800@www.industrialtribunal.bs
SUMMARY:Stevie Francois v Clear Blue Maritime Agency Ltd NR/NES/057/2024
DESCRIPTION:
URL:https://www.industrialtribunal.bs/event/stevie-francois-v-clear-blue-maritime-agency-ltd-nr-nes-057-2024-2/
LOCATION:Court 2 – Vice President Helen Almorales-Jones\, Suites 2 & 3 Freeport Insurance Center\, 21 B West Mall & Poinciana Dr.\, Freeport\, Grand Bahama\, Bahamas
CATEGORIES:Court 2
END:VEVENT
BEGIN:VEVENT
DTSTART;TZID=America/Nassau:20250224T100000
DTEND;TZID=America/Nassau:20250224T170000
DTSTAMP:20260425T200957
CREATED:20250203T165142Z
LAST-MODIFIED:20250203T165142Z
UID:32001-1740391200-1740416400@www.industrialtribunal.bs
SUMMARY:Latoya Cockburn v Diamonds International NP2023-146
DESCRIPTION:
URL:https://www.industrialtribunal.bs/event/latoya-cockburn-v-diamonds-international-np2023-146-3/
LOCATION:Court 3 – Vice President Sharada Humes Ferguson\, First Floor\, Suite 106\, Saffrey Square Building\, Bank Lane and East Street\, Nassau\, New Providence\, Bahamas
CATEGORIES:Court 3
END:VEVENT
BEGIN:VEVENT
DTSTART;TZID=America/Nassau:20250224T100000
DTEND;TZID=America/Nassau:20250224T170000
DTSTAMP:20260425T200957
CREATED:20250203T184739Z
LAST-MODIFIED:20250203T184739Z
UID:32032-1740391200-1740416400@www.industrialtribunal.bs
SUMMARY:Gereko Swain v Firefly Sunset Resort NR/NES/068/2024
DESCRIPTION:
URL:https://www.industrialtribunal.bs/event/gereko-swain-v-firefly-sunset-resort-nr-nes-068-2024/
LOCATION:Court 2 – Vice President Helen Almorales-Jones\, Suites 2 & 3 Freeport Insurance Center\, 21 B West Mall & Poinciana Dr.\, Freeport\, Grand Bahama\, Bahamas
CATEGORIES:Court 2
END:VEVENT
BEGIN:VEVENT
DTSTART;TZID=America/Nassau:20250225T100000
DTEND;TZID=America/Nassau:20250225T170000
DTSTAMP:20260425T200957
CREATED:20250203T184916Z
LAST-MODIFIED:20250203T184916Z
UID:32034-1740477600-1740502800@www.industrialtribunal.bs
SUMMARY:Daquan Swain v Fidelity Bank (Bahamas) Limited NR/NES/053/2024
DESCRIPTION:
URL:https://www.industrialtribunal.bs/event/daquan-swain-v-fidelity-bank-bahamas-limited-nr-nes-053-2024-2/
LOCATION:Court 2 – Vice President Helen Almorales-Jones\, Suites 2 & 3 Freeport Insurance Center\, 21 B West Mall & Poinciana Dr.\, Freeport\, Grand Bahama\, Bahamas
CATEGORIES:Court 2
END:VEVENT
BEGIN:VEVENT
DTSTART;TZID=America/Nassau:20250225T100000
DTEND;TZID=America/Nassau:20250225T170000
DTSTAMP:20260425T200957
CREATED:20250205T195634Z
LAST-MODIFIED:20250205T195634Z
UID:32044-1740477600-1740502800@www.industrialtribunal.bs
SUMMARY:Kendino Mortimer v Palm Cay Development Company T/A Palm Cay Marina & Beach Club NP2024-076
DESCRIPTION:
URL:https://www.industrialtribunal.bs/event/kendino-mortimer-v-palm-cay-development-company-t-a-palm-cay-marina-beach-club-np2024-076/
LOCATION:Court 5 – Vice President Rionda Godet\, Bank Lane\, Saffrey Square Building 2nd Floor\, New Providence\, Bahamas
CATEGORIES:Court 5
END:VEVENT
BEGIN:VEVENT
DTSTART;TZID=America/Nassau:20250225T100000
DTEND;TZID=America/Nassau:20250225T170000
DTSTAMP:20260425T200957
CREATED:20250205T195805Z
LAST-MODIFIED:20250205T195805Z
UID:32046-1740477600-1740502800@www.industrialtribunal.bs
SUMMARY:Anthon Johnson v Bahamas Public Park & Public Beaches Authority NP2024-066
DESCRIPTION:
URL:https://www.industrialtribunal.bs/event/anthon-johnson-v-bahamas-public-park-public-beaches-authority-np2024-066/
LOCATION:Court 5 – Vice President Rionda Godet\, Bank Lane\, Saffrey Square Building 2nd Floor\, New Providence\, Bahamas
CATEGORIES:Court 5
END:VEVENT
BEGIN:VEVENT
DTSTART;TZID=America/Nassau:20250226T100000
DTEND;TZID=America/Nassau:20250226T170000
DTSTAMP:20260425T200957
CREATED:20250131T181709Z
LAST-MODIFIED:20250131T181709Z
UID:31993-1740564000-1740589200@www.industrialtribunal.bs
SUMMARY:Preston Clarke v Courtyard Marriot NP2023-141
DESCRIPTION:
URL:https://www.industrialtribunal.bs/event/preston-clarke-v-courtyard-marriot-np2023-141-5/
LOCATION:Court 4 – Vice President Ingrid Cooper-Brooks
CATEGORIES:Court 4
END:VEVENT
BEGIN:VEVENT
DTSTART;TZID=America/Nassau:20250226T100000
DTEND;TZID=America/Nassau:20250226T170000
DTSTAMP:20260425T200957
CREATED:20250203T185131Z
LAST-MODIFIED:20250203T185131Z
UID:32036-1740564000-1740589200@www.industrialtribunal.bs
SUMMARY:Leslie A. Lewis v E. A Hepburn Industrial Contractors NR/NES/074/2024
DESCRIPTION:
URL:https://www.industrialtribunal.bs/event/leslie-a-lewis-v-e-a-hepburn-industrial-contractors-nr-nes-074-2024/
LOCATION:Court 2 – Vice President Helen Almorales-Jones\, Suites 2 & 3 Freeport Insurance Center\, 21 B West Mall & Poinciana Dr.\, Freeport\, Grand Bahama\, Bahamas
CATEGORIES:Court 2
END:VEVENT
BEGIN:VEVENT
DTSTART;TZID=America/Nassau:20250226T100000
DTEND;TZID=America/Nassau:20250226T170000
DTSTAMP:20260425T200957
CREATED:20250203T185314Z
LAST-MODIFIED:20250203T185314Z
UID:32038-1740564000-1740589200@www.industrialtribunal.bs
SUMMARY:Shawn Laramore v E. A Hepburn Industrial Contractors NR/NES/075/2024
DESCRIPTION:
URL:https://www.industrialtribunal.bs/event/shawn-laramore-v-e-a-hepburn-industrial-contractors-nr-nes-075-2024/
LOCATION:Court 2 – Vice President Helen Almorales-Jones\, Suites 2 & 3 Freeport Insurance Center\, 21 B West Mall & Poinciana Dr.\, Freeport\, Grand Bahama\, Bahamas
CATEGORIES:Court 2
END:VEVENT
BEGIN:VEVENT
DTSTART;TZID=America/Nassau:20250226T100000
DTEND;TZID=America/Nassau:20250226T170000
DTSTAMP:20260425T200957
CREATED:20250203T185454Z
LAST-MODIFIED:20250203T185454Z
UID:32040-1740564000-1740589200@www.industrialtribunal.bs
SUMMARY:Jerome Johnson v Universal System & Security Services Ltd NR/NES/076/2024
DESCRIPTION:
URL:https://www.industrialtribunal.bs/event/jerome-johnson-v-universal-system-security-services-ltd-nr-nes-076-2024/
LOCATION:Court 2 – Vice President Helen Almorales-Jones\, Suites 2 & 3 Freeport Insurance Center\, 21 B West Mall & Poinciana Dr.\, Freeport\, Grand Bahama\, Bahamas
CATEGORIES:Court 2
END:VEVENT
BEGIN:VEVENT
DTSTART;TZID=America/Nassau:20250226T100000
DTEND;TZID=America/Nassau:20250226T170000
DTSTAMP:20260425T200957
CREATED:20250205T195932Z
LAST-MODIFIED:20250205T195932Z
UID:32048-1740564000-1740589200@www.industrialtribunal.bs
SUMMARY:De'mon Charlton v Ultra Games NP2023-076
DESCRIPTION:
URL:https://www.industrialtribunal.bs/event/demon-charlton-v-ultra-games-np2023-076-2/
LOCATION:Court 5 – Vice President Rionda Godet\, Bank Lane\, Saffrey Square Building 2nd Floor\, New Providence\, Bahamas
CATEGORIES:Court 5
END:VEVENT
BEGIN:VEVENT
DTSTART;TZID=America/Nassau:20250227T100000
DTEND;TZID=America/Nassau:20250227T170000
DTSTAMP:20260425T200957
CREATED:20250131T181831Z
LAST-MODIFIED:20250131T181831Z
UID:31995-1740650400-1740675600@www.industrialtribunal.bs
SUMMARY:Preston Clarke v Courtyard Marriot NP2023-141
DESCRIPTION:
URL:https://www.industrialtribunal.bs/event/preston-clarke-v-courtyard-marriot-np2023-141-6/
LOCATION:Court 4 – Vice President Ingrid Cooper-Brooks
CATEGORIES:Court 4
END:VEVENT
BEGIN:VEVENT
DTSTART;TZID=America/Nassau:20250228T100000
DTEND;TZID=America/Nassau:20250228T170000
DTSTAMP:20260425T200957
CREATED:20250226T153603Z
LAST-MODIFIED:20250226T153603Z
UID:32083-1740736800-1740762000@www.industrialtribunal.bs
SUMMARY:Shakara Smith v The Carriearl Hotel\, Great Harbour Cay Berry Island Bahamas NP2021-154
DESCRIPTION:
URL:https://www.industrialtribunal.bs/event/shakara-smith-v-the-carriearl-hotel-great-harbour-cay-berry-island-bahamas-np2021-154/
LOCATION:Court 1 – President Indira Demeritte-Francis\, Bank Lane\, Saffrey Square Building 1st Floor\, New Providence\, Bahamas
CATEGORIES:Court 1
END:VEVENT
BEGIN:VEVENT
DTSTART;TZID=America/Nassau:20250228T100000
DTEND;TZID=America/Nassau:20250228T170000
DTSTAMP:20260425T200957
CREATED:20250226T153917Z
LAST-MODIFIED:20250226T153917Z
UID:32085-1740736800-1740762000@www.industrialtribunal.bs
SUMMARY:Winder Similien v Oasis Landscaping NP2024-068
DESCRIPTION:
URL:https://www.industrialtribunal.bs/event/winder-similien-v-oasis-landscaping-np2024-068/
LOCATION:Court 1 – President Indira Demeritte-Francis\, Bank Lane\, Saffrey Square Building 1st Floor\, New Providence\, Bahamas
CATEGORIES:Court 1
END:VEVENT
BEGIN:VEVENT
DTSTART;TZID=America/Nassau:20250228T100000
DTEND;TZID=America/Nassau:20250228T170000
DTSTAMP:20260425T200957
CREATED:20250226T154038Z
LAST-MODIFIED:20250226T154038Z
UID:32087-1740736800-1740762000@www.industrialtribunal.bs
SUMMARY:Andero Curry v Prosea's Plumbing NP2024-134
DESCRIPTION:
URL:https://www.industrialtribunal.bs/event/andero-curry-v-proseas-plumbing-np2024-134/
LOCATION:Court 1 – President Indira Demeritte-Francis\, Bank Lane\, Saffrey Square Building 1st Floor\, New Providence\, Bahamas
CATEGORIES:Court 1
END:VEVENT
BEGIN:VEVENT
DTSTART;TZID=America/Nassau:20250228T100000
DTEND;TZID=America/Nassau:20250228T170000
DTSTAMP:20260425T200957
CREATED:20250226T154137Z
LAST-MODIFIED:20250226T154137Z
UID:32089-1740736800-1740762000@www.industrialtribunal.bs
SUMMARY:Ashley Williams v Vaughn Jones Memorial Center NP2024-129
DESCRIPTION:
URL:https://www.industrialtribunal.bs/event/ashley-williams-v-vaughn-jones-memorial-center-np2024-129/
LOCATION:Court 1 – President Indira Demeritte-Francis\, Bank Lane\, Saffrey Square Building 1st Floor\, New Providence\, Bahamas
CATEGORIES:Court 1
END:VEVENT
BEGIN:VEVENT
DTSTART;TZID=America/Nassau:20250228T100000
DTEND;TZID=America/Nassau:20250228T170000
DTSTAMP:20260425T200957
CREATED:20250226T154403Z
LAST-MODIFIED:20250226T154403Z
UID:32091-1740736800-1740762000@www.industrialtribunal.bs
SUMMARY:Latoya Pinder  v Top Notch Catering NP2024-128
DESCRIPTION:
URL:https://www.industrialtribunal.bs/event/latoya-pinder-v-top-notch-catering-np2024-128/
LOCATION:Court 1 – President Indira Demeritte-Francis\, Bank Lane\, Saffrey Square Building 1st Floor\, New Providence\, Bahamas
CATEGORIES:Court 1
END:VEVENT
BEGIN:VEVENT
DTSTART;TZID=America/Nassau:20250228T100000
DTEND;TZID=America/Nassau:20250228T170000
DTSTAMP:20260425T200957
CREATED:20250226T154700Z
LAST-MODIFIED:20250226T154700Z
UID:32093-1740736800-1740762000@www.industrialtribunal.bs
SUMMARY:Kevin Adderley v Aetos Holdings Limited NP2024-112
DESCRIPTION:
URL:https://www.industrialtribunal.bs/event/kevin-adderley-v-aetos-holdings-limited-np2024-112/
LOCATION:Court 1 – President Indira Demeritte-Francis\, Bank Lane\, Saffrey Square Building 1st Floor\, New Providence\, Bahamas
CATEGORIES:Court 1
END:VEVENT
BEGIN:VEVENT
DTSTART;TZID=America/Nassau:20250228T100000
DTEND;TZID=America/Nassau:20250228T170000
DTSTAMP:20260425T200957
CREATED:20250226T154924Z
LAST-MODIFIED:20250226T154924Z
UID:32095-1740736800-1740762000@www.industrialtribunal.bs
SUMMARY:Portia Knowles v Dunmil Security NP2024-074
DESCRIPTION:
URL:https://www.industrialtribunal.bs/event/portia-knowles-v-dunmil-security-np2024-074/
LOCATION:Court 1 – President Indira Demeritte-Francis\, Bank Lane\, Saffrey Square Building 1st Floor\, New Providence\, Bahamas
CATEGORIES:Court 1
END:VEVENT
BEGIN:VEVENT
DTSTART;TZID=America/Nassau:20250228T100000
DTEND;TZID=America/Nassau:20250228T170000
DTSTAMP:20260425T200957
CREATED:20250226T155129Z
LAST-MODIFIED:20250226T155129Z
UID:32097-1740736800-1740762000@www.industrialtribunal.bs
SUMMARY:Clifford Andre Ricardo Theobalds v Caribbean Builders and Construction Co. Ltd NP2024-060
DESCRIPTION:
URL:https://www.industrialtribunal.bs/event/clifford-andre-ricardo-theobalds-v-caribbean-builders-and-construction-co-ltd-np2024-060/
LOCATION:Court 1 – President Indira Demeritte-Francis\, Bank Lane\, Saffrey Square Building 1st Floor\, New Providence\, Bahamas
CATEGORIES:Court 1
END:VEVENT
BEGIN:VEVENT
DTSTART;TZID=America/Nassau:20250303T100000
DTEND;TZID=America/Nassau:20250303T170000
DTSTAMP:20260425T200957
CREATED:20250305T184823Z
LAST-MODIFIED:20250305T184823Z
UID:32100-1740996000-1741021200@www.industrialtribunal.bs
SUMMARY:Wesley Strapp/Keith Roye v VRR Building Management Limited and Interior Idea NP2023-128/129
DESCRIPTION:
URL:https://www.industrialtribunal.bs/event/wesley-strapp-keith-roye-v-vrr-building-management-limited-and-interior-idea-np2023-128-129/
LOCATION:Court 3 – Vice President Sharada Humes Ferguson\, First Floor\, Suite 106\, Saffrey Square Building\, Bank Lane and East Street\, Nassau\, New Providence\, Bahamas
CATEGORIES:Court 3
END:VEVENT
BEGIN:VEVENT
DTSTART;TZID=America/Nassau:20250303T100000
DTEND;TZID=America/Nassau:20250303T170000
DTSTAMP:20260425T200957
CREATED:20250317T142747Z
LAST-MODIFIED:20250317T142747Z
UID:32267-1740996000-1741021200@www.industrialtribunal.bs
SUMMARY:Turan Miller v Grand Hyatt Baha Mar NP2023-047
DESCRIPTION:
URL:https://www.industrialtribunal.bs/event/turan-miller-v-grand-hyatt-baha-mar-np2023-047/
LOCATION:Court 5 – Vice President Rionda Godet\, Bank Lane\, Saffrey Square Building 2nd Floor\, New Providence\, Bahamas
CATEGORIES:Court 5
END:VEVENT
BEGIN:VEVENT
DTSTART;TZID=America/Nassau:20250304T100000
DTEND;TZID=America/Nassau:20250304T170000
DTSTAMP:20260425T200957
CREATED:20250305T185304Z
LAST-MODIFIED:20250305T185304Z
UID:32102-1741082400-1741107600@www.industrialtribunal.bs
SUMMARY:Wesley Strapp/Keith Roye v VRR Building  Management Limited and Interior Idea NP2023-128/129
DESCRIPTION:
URL:https://www.industrialtribunal.bs/event/wesley-strapp-keith-roye-v-vrr-building-management-limited-and-interior-idea-np2023-128-129-2/
LOCATION:Court 3 – Vice President Sharada Humes Ferguson\, First Floor\, Suite 106\, Saffrey Square Building\, Bank Lane and East Street\, Nassau\, New Providence\, Bahamas
CATEGORIES:Court 3
END:VEVENT
BEGIN:VEVENT
DTSTART;TZID=America/Nassau:20250310T100000
DTEND;TZID=America/Nassau:20250310T170000
DTSTAMP:20260425T200957
CREATED:20250306T200755Z
LAST-MODIFIED:20250306T200755Z
UID:32120-1741600800-1741626000@www.industrialtribunal.bs
SUMMARY:Alescio L. Fowler v Norman's Cay Operation Limited NP2024-181
DESCRIPTION:
URL:https://www.industrialtribunal.bs/event/alescio-l-fowler-v-normans-cay-operation-limited-np2024-181/
LOCATION:Court 1 – President Indira Demeritte-Francis\, Bank Lane\, Saffrey Square Building 1st Floor\, New Providence\, Bahamas
CATEGORIES:Court 1
END:VEVENT
END:VCALENDAR