BEGIN:VCALENDAR
VERSION:2.0
PRODID:-//Bahamas Industrial Tribunal - ECPv6.15.20//NONSGML v1.0//EN
CALSCALE:GREGORIAN
METHOD:PUBLISH
X-WR-CALNAME:Bahamas Industrial Tribunal
X-ORIGINAL-URL:https://www.industrialtribunal.bs
X-WR-CALDESC:Events for Bahamas Industrial Tribunal
REFRESH-INTERVAL;VALUE=DURATION:PT1H
X-Robots-Tag:noindex
X-PUBLISHED-TTL:PT1H
BEGIN:VTIMEZONE
TZID:America/Nassau
BEGIN:DAYLIGHT
TZOFFSETFROM:-0500
TZOFFSETTO:-0400
TZNAME:EDT
DTSTART:20240310T070000
END:DAYLIGHT
BEGIN:STANDARD
TZOFFSETFROM:-0400
TZOFFSETTO:-0500
TZNAME:EST
DTSTART:20241103T060000
END:STANDARD
BEGIN:DAYLIGHT
TZOFFSETFROM:-0500
TZOFFSETTO:-0400
TZNAME:EDT
DTSTART:20250309T070000
END:DAYLIGHT
BEGIN:STANDARD
TZOFFSETFROM:-0400
TZOFFSETTO:-0500
TZNAME:EST
DTSTART:20251102T060000
END:STANDARD
BEGIN:DAYLIGHT
TZOFFSETFROM:-0500
TZOFFSETTO:-0400
TZNAME:EDT
DTSTART:20260308T070000
END:DAYLIGHT
BEGIN:STANDARD
TZOFFSETFROM:-0400
TZOFFSETTO:-0500
TZNAME:EST
DTSTART:20261101T060000
END:STANDARD
END:VTIMEZONE
BEGIN:VEVENT
DTSTART;TZID=America/Nassau:20251020T100000
DTEND;TZID=America/Nassau:20251020T170000
DTSTAMP:20260425T102610
CREATED:20251017T151004Z
LAST-MODIFIED:20251017T151004Z
UID:33037-1760954400-1760979600@www.industrialtribunal.bs
SUMMARY:Janessa Ferguson v Air Canada Yadiz NP2025-084
DESCRIPTION:
URL:https://www.industrialtribunal.bs/event/janessa-ferguson-v-air-canada-yadiz-np2025-084/
CATEGORIES:Court 1
END:VEVENT
BEGIN:VEVENT
DTSTART;TZID=America/Nassau:20251020T100000
DTEND;TZID=America/Nassau:20251020T170000
DTSTAMP:20260425T102610
CREATED:20251008T140919Z
LAST-MODIFIED:20251008T141205Z
UID:32990-1760954400-1760979600@www.industrialtribunal.bs
SUMMARY:Nicola Saunders v Rentokil Initial Bahamas Ltd. NP2023-036
DESCRIPTION:
URL:https://www.industrialtribunal.bs/event/eric-eugene-riley-v-direct-waste-limited-np2022-058-3/
CATEGORIES:Court 4
END:VEVENT
BEGIN:VEVENT
DTSTART;TZID=America/Nassau:20251020T100000
DTEND;TZID=America/Nassau:20251020T170000
DTSTAMP:20260425T102610
CREATED:20251003T144044Z
LAST-MODIFIED:20251016T135013Z
UID:32929-1760954400-1760979600@www.industrialtribunal.bs
SUMMARY:Christine Sweeting v Dan Brad Limited NP2024-140
DESCRIPTION:
URL:https://www.industrialtribunal.bs/event/christine-sweeting-v-dan-brad-limited-np2024-140-2/
CATEGORIES:Court 3
END:VEVENT
BEGIN:VEVENT
DTSTART;TZID=America/Nassau:20251015T100000
DTEND;TZID=America/Nassau:20251015T170000
DTSTAMP:20260425T102610
CREATED:20251017T150846Z
LAST-MODIFIED:20251017T150846Z
UID:33035-1760522400-1760547600@www.industrialtribunal.bs
SUMMARY:Kristin Harding v Bahamas Design NP2025-066
DESCRIPTION:
URL:https://www.industrialtribunal.bs/event/kristin-harding-v-bahamas-design-np2025-066/
CATEGORIES:Court 1
END:VEVENT
BEGIN:VEVENT
DTSTART;TZID=America/Nassau:20251015T100000
DTEND;TZID=America/Nassau:20251015T170000
DTSTAMP:20260425T102610
CREATED:20251017T150728Z
LAST-MODIFIED:20251017T150728Z
UID:33033-1760522400-1760547600@www.industrialtribunal.bs
SUMMARY:Rhonda Henfield v Charmones Shipping NP2025-067
DESCRIPTION:
URL:https://www.industrialtribunal.bs/event/rhonda-henfield-v-charmones-shipping-np2025-067/
CATEGORIES:Court 1
END:VEVENT
BEGIN:VEVENT
DTSTART;TZID=America/Nassau:20251015T100000
DTEND;TZID=America/Nassau:20251015T170000
DTSTAMP:20260425T102610
CREATED:20251017T150621Z
LAST-MODIFIED:20251017T150621Z
UID:33031-1760522400-1760547600@www.industrialtribunal.bs
SUMMARY:Fidel Joseph v Private Fire NP2025-079
DESCRIPTION:
URL:https://www.industrialtribunal.bs/event/fidel-joseph-v-private-fire-np2025-079/
CATEGORIES:Court 1
END:VEVENT
BEGIN:VEVENT
DTSTART;TZID=America/Nassau:20251015T100000
DTEND;TZID=America/Nassau:20251015T170000
DTSTAMP:20260425T102610
CREATED:20251008T140500Z
LAST-MODIFIED:20251008T140515Z
UID:32988-1760522400-1760547600@www.industrialtribunal.bs
SUMMARY:Eric Eugene Riley v Direct Waste Limited NP2022-058
DESCRIPTION:
URL:https://www.industrialtribunal.bs/event/eric-eugene-riley-v-direct-waste-limited-np2022-058-2/
CATEGORIES:Court 4
END:VEVENT
BEGIN:VEVENT
DTSTART;TZID=America/Nassau:20251015T100000
DTEND;TZID=America/Nassau:20251015T170000
DTSTAMP:20260425T102610
CREATED:20251003T150523Z
LAST-MODIFIED:20251003T150523Z
UID:32965-1760522400-1760547600@www.industrialtribunal.bs
SUMMARY:Eric Rolle v. Bahamas Dream Web Cafe NP2024-059
DESCRIPTION:
URL:https://www.industrialtribunal.bs/event/eric-rolle-v-bahamas-dream-web-cafe-np2024-059/
CATEGORIES:Court 6
END:VEVENT
BEGIN:VEVENT
DTSTART;TZID=America/Nassau:20251015T100000
DTEND;TZID=America/Nassau:20251015T170000
DTSTAMP:20260425T102610
CREATED:20251003T143926Z
LAST-MODIFIED:20251003T143926Z
UID:32927-1760522400-1760547600@www.industrialtribunal.bs
SUMMARY:Janeen Clarke v. Solomon Super Center (AML) NP2024-052
DESCRIPTION:
URL:https://www.industrialtribunal.bs/event/janeen-clarke-v-solomon-super-center-aml-np2024-052-2/
CATEGORIES:Court 3
END:VEVENT
BEGIN:VEVENT
DTSTART;TZID=America/Nassau:20251010T100000
DTEND;TZID=America/Nassau:20251010T170000
DTSTAMP:20260425T102610
CREATED:20251008T140124Z
LAST-MODIFIED:20251008T140124Z
UID:32986-1760090400-1760115600@www.industrialtribunal.bs
SUMMARY:Preston Clarke v Courtyard Marriot NP2023-141
DESCRIPTION:
URL:https://www.industrialtribunal.bs/event/preston-clarke-v-courtyard-marriot-np2023-141-7/
CATEGORIES:Court 4
END:VEVENT
BEGIN:VEVENT
DTSTART;TZID=America/Nassau:20251010T100000
DTEND;TZID=America/Nassau:20251010T170000
DTSTAMP:20260425T102610
CREATED:20251008T135957Z
LAST-MODIFIED:20251008T135957Z
UID:32984-1760090400-1760115600@www.industrialtribunal.bs
SUMMARY:Rickoda Wood-Smith v Ministry of Education Technical and Vocational Training NP2024-022
DESCRIPTION:
URL:https://www.industrialtribunal.bs/event/rickoda-wood-smith-v-ministry-of-education-technical-and-vocational-training-np2024-022/
CATEGORIES:Court 4
END:VEVENT
BEGIN:VEVENT
DTSTART;TZID=America/Nassau:20251010T100000
DTEND;TZID=America/Nassau:20251010T170000
DTSTAMP:20260425T102610
CREATED:20251008T135825Z
LAST-MODIFIED:20251008T135825Z
UID:32982-1760090400-1760115600@www.industrialtribunal.bs
SUMMARY:Mikel Wright v Shore Thing Escape NP2023-109
DESCRIPTION:
URL:https://www.industrialtribunal.bs/event/mikel-wright-v-shore-thing-escape-np2023-109/
CATEGORIES:Court 4
END:VEVENT
BEGIN:VEVENT
DTSTART;TZID=America/Nassau:20251009T100000
DTEND;TZID=America/Nassau:20251009T170000
DTSTAMP:20260425T102610
CREATED:20251008T164555Z
LAST-MODIFIED:20251008T164655Z
UID:33005-1760004000-1760029200@www.industrialtribunal.bs
SUMMARY:Alexandrea Cooper v Paradise Games NP2025-032
DESCRIPTION:
URL:https://www.industrialtribunal.bs/event/alexandrea-cooper-v-paradise-games-np2025-032/
CATEGORIES:Court 3
END:VEVENT
BEGIN:VEVENT
DTSTART;TZID=America/Nassau:20251009T100000
DTEND;TZID=America/Nassau:20251009T170000
DTSTAMP:20260425T102610
CREATED:20251008T135716Z
LAST-MODIFIED:20251008T135716Z
UID:32980-1760004000-1760029200@www.industrialtribunal.bs
SUMMARY:Patrice Panza v Holland Americ/Half Moon Cay NP2023-113
DESCRIPTION:
URL:https://www.industrialtribunal.bs/event/patrice-panza-v-holland-americ-half-moon-cay-np2023-113/
CATEGORIES:Court 4
END:VEVENT
BEGIN:VEVENT
DTSTART;TZID=America/Nassau:20251007T100000
DTEND;TZID=America/Nassau:20251007T170000
DTSTAMP:20260425T102610
CREATED:20251008T135507Z
LAST-MODIFIED:20251008T135507Z
UID:32978-1759831200-1759856400@www.industrialtribunal.bs
SUMMARY:Galen Ford v Cable Bahamas NP2024-017
DESCRIPTION:
URL:https://www.industrialtribunal.bs/event/galen-ford-v-cable-bahamas-np2024-017-2/
CATEGORIES:Court 4
END:VEVENT
BEGIN:VEVENT
DTSTART;TZID=America/Nassau:20251007T100000
DTEND;TZID=America/Nassau:20251007T170000
DTSTAMP:20260425T102610
CREATED:20251008T135407Z
LAST-MODIFIED:20251008T135603Z
UID:32976-1759831200-1759856400@www.industrialtribunal.bs
SUMMARY:Arlene Anderson v Island Hotel Company Limited Paradise Island NP2024-082
DESCRIPTION:
URL:https://www.industrialtribunal.bs/event/arlene-anderson-v-island-hotel-company-limited-paradise-island-np2024-082-3/
CATEGORIES:Court 4
END:VEVENT
BEGIN:VEVENT
DTSTART;TZID=America/Nassau:20251006T100000
DTEND;TZID=America/Nassau:20251006T170000
DTSTAMP:20260425T102610
CREATED:20251017T150508Z
LAST-MODIFIED:20251017T150529Z
UID:33029-1759744800-1759770000@www.industrialtribunal.bs
SUMMARY:Anjanicka Davis v Old Fort Bay Club NP2025-093
DESCRIPTION:
URL:https://www.industrialtribunal.bs/event/anjanicka-davis-v-old-fort-bay-club-np2025-093/
CATEGORIES:Court 1
END:VEVENT
BEGIN:VEVENT
DTSTART;TZID=America/Nassau:20251006T100000
DTEND;TZID=America/Nassau:20251006T170000
DTSTAMP:20260425T102610
CREATED:20251008T135333Z
LAST-MODIFIED:20251008T135333Z
UID:32974-1759744800-1759770000@www.industrialtribunal.bs
SUMMARY:Arlene Anderson v Island Hotel Company Limited Paradise Island NP2024-082
DESCRIPTION:
URL:https://www.industrialtribunal.bs/event/arlene-anderson-v-island-hotel-company-limited-paradise-island-np2024-082-2/
CATEGORIES:Court 4
END:VEVENT
BEGIN:VEVENT
DTSTART;TZID=America/Nassau:20251006T100000
DTEND;TZID=America/Nassau:20251006T170000
DTSTAMP:20260425T102610
CREATED:20251003T150421Z
LAST-MODIFIED:20251003T150421Z
UID:32963-1759744800-1759770000@www.industrialtribunal.bs
SUMMARY:Vicente Roberts v. The University of The Bahamas
DESCRIPTION:
URL:https://www.industrialtribunal.bs/event/vicente-roberts-v-the-university-of-the-bahamas/
CATEGORIES:Court 6
END:VEVENT
BEGIN:VEVENT
DTSTART;TZID=America/Nassau:20251006T100000
DTEND;TZID=America/Nassau:20251006T170000
DTSTAMP:20260425T102610
CREATED:20251003T150315Z
LAST-MODIFIED:20251003T150315Z
UID:32961-1759744800-1759770000@www.industrialtribunal.bs
SUMMARY:Dr. Cheyanne Harvey v. The University of The Bahamas NR2025-023
DESCRIPTION:
URL:https://www.industrialtribunal.bs/event/dr-cheyanne-harvey-v-the-university-of-the-bahamas-nr2025-023/
CATEGORIES:Court 6
END:VEVENT
BEGIN:VEVENT
DTSTART;TZID=America/Nassau:20251006T100000
DTEND;TZID=America/Nassau:20251006T170000
DTSTAMP:20260425T102610
CREATED:20251003T150144Z
LAST-MODIFIED:20251003T150144Z
UID:32959-1759744800-1759770000@www.industrialtribunal.bs
SUMMARY:Quinton Johnson v. Double S. Steve Doring NP2024-172
DESCRIPTION:
URL:https://www.industrialtribunal.bs/event/quinton-johnson-v-double-s-steve-doring-np2024-172/
CATEGORIES:Court 6
END:VEVENT
BEGIN:VEVENT
DTSTART;TZID=America/Nassau:20251006T100000
DTEND;TZID=America/Nassau:20251006T170000
DTSTAMP:20260425T102610
CREATED:20251003T150031Z
LAST-MODIFIED:20251003T150031Z
UID:32957-1759744800-1759770000@www.industrialtribunal.bs
SUMMARY:Alicia S. Williams v. Lumpy's Bar NP2025-102
DESCRIPTION:
URL:https://www.industrialtribunal.bs/event/alicia-s-williams-v-lumpys-bar-np2025-102/
CATEGORIES:Court 6
END:VEVENT
BEGIN:VEVENT
DTSTART;TZID=America/Nassau:20251003T100000
DTEND;TZID=America/Nassau:20251003T170000
DTSTAMP:20260425T102610
CREATED:20251003T145923Z
LAST-MODIFIED:20251003T145923Z
UID:32955-1759485600-1759510800@www.industrialtribunal.bs
SUMMARY:Quency Russell v. National Insurance Board NR2025-035
DESCRIPTION:
URL:https://www.industrialtribunal.bs/event/quency-russell-v-national-insurance-board-nr2025-035/
CATEGORIES:Court 6
END:VEVENT
BEGIN:VEVENT
DTSTART;TZID=America/Nassau:20251003T100000
DTEND;TZID=America/Nassau:20251003T170000
DTSTAMP:20260425T102610
CREATED:20251003T145756Z
LAST-MODIFIED:20251003T145756Z
UID:32953-1759485600-1759510800@www.industrialtribunal.bs
SUMMARY:Erica Honorat v. The Pumpkin Patch NR2025-031
DESCRIPTION:
URL:https://www.industrialtribunal.bs/event/erica-honorat-v-the-pumpkin-patch-nr2025-031/
CATEGORIES:Court 6
END:VEVENT
BEGIN:VEVENT
DTSTART;TZID=America/Nassau:20251003T100000
DTEND;TZID=America/Nassau:20251003T170000
DTSTAMP:20260425T102610
CREATED:20251003T145655Z
LAST-MODIFIED:20251003T145655Z
UID:32951-1759485600-1759510800@www.industrialtribunal.bs
SUMMARY:Altes Louidor v Forene Ltd NR2025-029
DESCRIPTION:
URL:https://www.industrialtribunal.bs/event/altes-louidor-v-forene-ltd-nr2025-029/
CATEGORIES:Court 6
END:VEVENT
BEGIN:VEVENT
DTSTART;TZID=America/Nassau:20251003T100000
DTEND;TZID=America/Nassau:20251003T170000
DTSTAMP:20260425T102610
CREATED:20251003T145537Z
LAST-MODIFIED:20251003T145537Z
UID:32949-1759485600-1759510800@www.industrialtribunal.bs
SUMMARY:Georgette Moxey v. Universal Systems & Security NR2025-028
DESCRIPTION:
URL:https://www.industrialtribunal.bs/event/georgette-moxey-v-universal-systems-security-nr2025-028/
CATEGORIES:Court 6
END:VEVENT
BEGIN:VEVENT
DTSTART;TZID=America/Nassau:20251003T100000
DTEND;TZID=America/Nassau:20251003T170000
DTSTAMP:20260425T102610
CREATED:20251003T145430Z
LAST-MODIFIED:20251003T145430Z
UID:32947-1759485600-1759510800@www.industrialtribunal.bs
SUMMARY:Bahamas Public Service Union Rickelle Albury v. UB NR2025-014
DESCRIPTION:
URL:https://www.industrialtribunal.bs/event/bahamas-public-service-union-rickelle-albury-v-ub-nr2025-014/
CATEGORIES:Court 6
END:VEVENT
BEGIN:VEVENT
DTSTART;TZID=America/Nassau:20251003T100000
DTEND;TZID=America/Nassau:20251003T170000
DTSTAMP:20260425T102610
CREATED:20251003T145213Z
LAST-MODIFIED:20251003T145213Z
UID:32945-1759485600-1759510800@www.industrialtribunal.bs
SUMMARY:Stephen Sands v Resort World Bimini NR2025-010
DESCRIPTION:
URL:https://www.industrialtribunal.bs/event/stephen-sands-v-resort-world-bimini-nr2025-010/
CATEGORIES:Court 6
END:VEVENT
BEGIN:VEVENT
DTSTART;TZID=America/Nassau:20251002T100000
DTEND;TZID=America/Nassau:20251002T170000
DTSTAMP:20260425T102610
CREATED:20251017T150332Z
LAST-MODIFIED:20251017T150332Z
UID:33027-1759399200-1759424400@www.industrialtribunal.bs
SUMMARY:Cassandra Simms v Terry Burrows NP2025-077
DESCRIPTION:
URL:https://www.industrialtribunal.bs/event/cassandra-simms-v-terry-burrows-np2025-077/
CATEGORIES:Court 1
END:VEVENT
BEGIN:VEVENT
DTSTART;TZID=America/Nassau:20251002T100000
DTEND;TZID=America/Nassau:20251002T170000
DTSTAMP:20260425T102610
CREATED:20251017T150220Z
LAST-MODIFIED:20251017T150220Z
UID:33025-1759399200-1759424400@www.industrialtribunal.bs
SUMMARY:Vernell Brown v Manvelo's Restaurant NP2025-074
DESCRIPTION:
URL:https://www.industrialtribunal.bs/event/vernell-brown-v-manvelos-restaurant-np2025-074/
CATEGORIES:Court 1
END:VEVENT
END:VCALENDAR