BEGIN:VCALENDAR
VERSION:2.0
PRODID:-//Bahamas Industrial Tribunal - ECPv6.15.20//NONSGML v1.0//EN
CALSCALE:GREGORIAN
METHOD:PUBLISH
X-ORIGINAL-URL:https://www.industrialtribunal.bs
X-WR-CALDESC:Events for Bahamas Industrial Tribunal
REFRESH-INTERVAL;VALUE=DURATION:PT1H
X-Robots-Tag:noindex
X-PUBLISHED-TTL:PT1H
BEGIN:VTIMEZONE
TZID:America/Nassau
BEGIN:DAYLIGHT
TZOFFSETFROM:-0500
TZOFFSETTO:-0400
TZNAME:EDT
DTSTART:20240310T070000
END:DAYLIGHT
BEGIN:STANDARD
TZOFFSETFROM:-0400
TZOFFSETTO:-0500
TZNAME:EST
DTSTART:20241103T060000
END:STANDARD
BEGIN:DAYLIGHT
TZOFFSETFROM:-0500
TZOFFSETTO:-0400
TZNAME:EDT
DTSTART:20250309T070000
END:DAYLIGHT
BEGIN:STANDARD
TZOFFSETFROM:-0400
TZOFFSETTO:-0500
TZNAME:EST
DTSTART:20251102T060000
END:STANDARD
BEGIN:DAYLIGHT
TZOFFSETFROM:-0500
TZOFFSETTO:-0400
TZNAME:EDT
DTSTART:20260308T070000
END:DAYLIGHT
BEGIN:STANDARD
TZOFFSETFROM:-0400
TZOFFSETTO:-0500
TZNAME:EST
DTSTART:20261101T060000
END:STANDARD
END:VTIMEZONE
BEGIN:VEVENT
DTSTART;TZID=America/Nassau:20251027T100000
DTEND;TZID=America/Nassau:20251027T170000
DTSTAMP:20260425T102610
CREATED:20251008T141502Z
LAST-MODIFIED:20251008T141502Z
UID:32999-1761559200-1761584400@www.industrialtribunal.bs
SUMMARY:Tanya Jones v Albany Resort NP2024-119
DESCRIPTION:
URL:https://www.industrialtribunal.bs/event/tanya-jones-v-albany-resort-np2024-119-3/
CATEGORIES:Court 4
END:VEVENT
BEGIN:VEVENT
DTSTART;TZID=America/Nassau:20251027T100000
DTEND;TZID=America/Nassau:20251027T170000
DTSTAMP:20260425T102610
CREATED:20251008T141610Z
LAST-MODIFIED:20251008T141610Z
UID:33001-1761559200-1761584400@www.industrialtribunal.bs
SUMMARY:Siann Butler v Albany Resort NP2024-115
DESCRIPTION:
URL:https://www.industrialtribunal.bs/event/siann-butler-v-albany-resort-np2024-115-3/
CATEGORIES:Court 4
END:VEVENT
BEGIN:VEVENT
DTSTART;TZID=America/Nassau:20251028T100000
DTEND;TZID=America/Nassau:20251028T170000
DTSTAMP:20260425T102610
CREATED:20251003T144348Z
LAST-MODIFIED:20251003T144348Z
UID:32935-1761645600-1761670800@www.industrialtribunal.bs
SUMMARY:Terrance Newbold v Apex Pavers NP2024-098
DESCRIPTION:
URL:https://www.industrialtribunal.bs/event/terrance-newbold-v-apex-pavers-np2024-098-3/
CATEGORIES:Court 3
END:VEVENT
BEGIN:VEVENT
DTSTART;TZID=America/Nassau:20251028T100000
DTEND;TZID=America/Nassau:20251028T170000
DTSTAMP:20260425T102610
CREATED:20251008T141726Z
LAST-MODIFIED:20251008T141726Z
UID:33003-1761645600-1761670800@www.industrialtribunal.bs
SUMMARY:Vonya Williams v Adeana Creation NP2024-051
DESCRIPTION:
URL:https://www.industrialtribunal.bs/event/vonya-williams-v-adeana-creation-np2024-051/
CATEGORIES:Court 4
END:VEVENT
BEGIN:VEVENT
DTSTART;TZID=America/Nassau:20251029T100000
DTEND;TZID=America/Nassau:20251029T170000
DTSTAMP:20260425T102610
CREATED:20251003T144454Z
LAST-MODIFIED:20251003T144454Z
UID:32937-1761732000-1761757200@www.industrialtribunal.bs
SUMMARY:Luckner Jean Francois v Cuts Landscaping
DESCRIPTION:
URL:https://www.industrialtribunal.bs/event/luckner-jean-francois-v-cuts-landscaping/
CATEGORIES:Court 3
END:VEVENT
BEGIN:VEVENT
DTSTART;TZID=America/Nassau:20251029T100000
DTEND;TZID=America/Nassau:20251029T170000
DTSTAMP:20260425T102610
CREATED:20251003T144613Z
LAST-MODIFIED:20251003T144613Z
UID:32939-1761732000-1761757200@www.industrialtribunal.bs
SUMMARY:Michael A. Seymour v Gloria's Daiquiris & Tropical Delights NP2025-008
DESCRIPTION:
URL:https://www.industrialtribunal.bs/event/michael-a-seymour-v-glorias-daiquiris-tropical-delights-np2025-008/
CATEGORIES:Court 3
END:VEVENT
BEGIN:VEVENT
DTSTART;TZID=America/Nassau:20251103T100000
DTEND;TZID=America/Nassau:20251103T170000
DTSTAMP:20260425T102610
CREATED:20251030T142522Z
LAST-MODIFIED:20251030T142522Z
UID:33059-1762164000-1762189200@www.industrialtribunal.bs
SUMMARY:Carolyn Bethel v Oral Care Consultants Limited NP2025-042
DESCRIPTION:
URL:https://www.industrialtribunal.bs/event/carolyn-bethel-v-oral-care-consultants-limited-np2025-042/
CATEGORIES:Court 3
END:VEVENT
BEGIN:VEVENT
DTSTART;TZID=America/Nassau:20251103T100000
DTEND;TZID=America/Nassau:20251103T170000
DTSTAMP:20260425T102610
CREATED:20251030T142634Z
LAST-MODIFIED:20251030T142634Z
UID:33061-1762164000-1762189200@www.industrialtribunal.bs
SUMMARY:Evernique Moss v Bahamas Telecommunication Company NP2023-116
DESCRIPTION:
URL:https://www.industrialtribunal.bs/event/evernique-moss-v-bahamas-telecommunication-company-np2023-116/
CATEGORIES:Court 3
END:VEVENT
BEGIN:VEVENT
DTSTART;TZID=America/Nassau:20251103T100000
DTEND;TZID=America/Nassau:20251103T170000
DTSTAMP:20260425T102610
CREATED:20251030T142805Z
LAST-MODIFIED:20251030T142805Z
UID:33063-1762164000-1762189200@www.industrialtribunal.bs
SUMMARY:Lilly Taylor v Atlantis\, Coral Towers NP2024-165
DESCRIPTION:
URL:https://www.industrialtribunal.bs/event/lilly-taylor-v-atlantis-coral-towers-np2024-165-2/
CATEGORIES:Court 3
END:VEVENT
BEGIN:VEVENT
DTSTART;TZID=America/Nassau:20251103T100000
DTEND;TZID=America/Nassau:20251103T170000
DTSTAMP:20260425T102610
CREATED:20251030T142940Z
LAST-MODIFIED:20251030T142940Z
UID:33065-1762164000-1762189200@www.industrialtribunal.bs
SUMMARY:Phase Etienne v Experience Pool & Spa Construction NP2025-033
DESCRIPTION:
URL:https://www.industrialtribunal.bs/event/phase-etienne-v-experience-pool-spa-construction-np2025-033/
CATEGORIES:Court 3
END:VEVENT
BEGIN:VEVENT
DTSTART;TZID=America/Nassau:20251103T100000
DTEND;TZID=America/Nassau:20251103T170000
DTSTAMP:20260425T102610
CREATED:20251105T210237Z
LAST-MODIFIED:20251105T210237Z
UID:33089-1762164000-1762189200@www.industrialtribunal.bs
SUMMARY:Bernard Cooper v Baron Capital Management Partners Inc. NR/NES/009/2025
DESCRIPTION:
URL:https://www.industrialtribunal.bs/event/bernard-cooper-v-baron-capital-management-partners-inc-nr-nes-009-2025/
CATEGORIES:Court 2
END:VEVENT
BEGIN:VEVENT
DTSTART;TZID=America/Nassau:20251104T100000
DTEND;TZID=America/Nassau:20251104T170000
DTSTAMP:20260425T102610
CREATED:20251105T210310Z
LAST-MODIFIED:20251105T210310Z
UID:33091-1762250400-1762275600@www.industrialtribunal.bs
SUMMARY:Bernard Cooper v Baron Capital Management Partners Inc. NR/NES/009/2025
DESCRIPTION:
URL:https://www.industrialtribunal.bs/event/bernard-cooper-v-baron-capital-management-partners-inc-nr-nes-009-2025-2/
CATEGORIES:Court 2
END:VEVENT
BEGIN:VEVENT
DTSTART;TZID=America/Nassau:20251105T100000
DTEND;TZID=America/Nassau:20251105T170000
DTSTAMP:20260425T102610
CREATED:20251030T143108Z
LAST-MODIFIED:20251030T143108Z
UID:33067-1762336800-1762362000@www.industrialtribunal.bs
SUMMARY:Robynn Johnson-Thurston v Scotia Bank (Bahamas) Limited NP2023-136
DESCRIPTION:
URL:https://www.industrialtribunal.bs/event/robynn-johnson-thurston-v-scotia-bank-bahamas-limited-np2023-136-3/
CATEGORIES:Court 3
END:VEVENT
BEGIN:VEVENT
DTSTART;TZID=America/Nassau:20251105T100000
DTEND;TZID=America/Nassau:20251105T170000
DTSTAMP:20260425T102610
CREATED:20251030T143244Z
LAST-MODIFIED:20251030T143244Z
UID:33069-1762336800-1762362000@www.industrialtribunal.bs
SUMMARY:Timothy Ingraham v Armored Services Limited NP2025-069
DESCRIPTION:
URL:https://www.industrialtribunal.bs/event/timothy-ingraham-v-armored-services-limited-np2025-069/
CATEGORIES:Court 3
END:VEVENT
BEGIN:VEVENT
DTSTART;TZID=America/Nassau:20251105T100000
DTEND;TZID=America/Nassau:20251105T170000
DTSTAMP:20260425T102610
CREATED:20251112T202341Z
LAST-MODIFIED:20251112T202341Z
UID:33166-1762336800-1762362000@www.industrialtribunal.bs
SUMMARY:Stephano Green v Bahamas Power & Light NP2023-081
DESCRIPTION:
URL:https://www.industrialtribunal.bs/event/stephano-green-v-bahamas-power-light-np2023-081-2/
CATEGORIES:Court 4
END:VEVENT
BEGIN:VEVENT
DTSTART;TZID=America/Nassau:20251106T100000
DTEND;TZID=America/Nassau:20251106T170000
DTSTAMP:20260425T102610
CREATED:20251105T210505Z
LAST-MODIFIED:20251105T210505Z
UID:33093-1762423200-1762448400@www.industrialtribunal.bs
SUMMARY:Solomon A. Hield v I.C.S of the Bahamas Co. Ltd. NR/NES/039/2025
DESCRIPTION:
URL:https://www.industrialtribunal.bs/event/solomon-a-hield-v-i-c-s-of-the-bahamas-co-ltd-nr-nes-039-2025/
CATEGORIES:Court 2
END:VEVENT
BEGIN:VEVENT
DTSTART;TZID=America/Nassau:20251106T100000
DTEND;TZID=America/Nassau:20251106T170000
DTSTAMP:20260425T102610
CREATED:20251105T210727Z
LAST-MODIFIED:20251105T210727Z
UID:33095-1762423200-1762448400@www.industrialtribunal.bs
SUMMARY:Douglas O. Dames v I.C.S of the Bahamas Co. Ltd. NR/NES/043/2025
DESCRIPTION:
URL:https://www.industrialtribunal.bs/event/douglas-o-dames-v-i-c-s-of-the-bahamas-co-ltd-nr-nes-043-2025/
CATEGORIES:Court 2
END:VEVENT
BEGIN:VEVENT
DTSTART;TZID=America/Nassau:20251106T100000
DTEND;TZID=America/Nassau:20251106T170000
DTSTAMP:20260425T102610
CREATED:20251105T210935Z
LAST-MODIFIED:20251105T210935Z
UID:33097-1762423200-1762448400@www.industrialtribunal.bs
SUMMARY:Ruth Sophia Howden v Weslyan Methodist Trust Association t/a St. Paul's Methodist College NR/NES/058/2025
DESCRIPTION:
URL:https://www.industrialtribunal.bs/event/ruth-sophia-howden-v-weslyan-methodist-trust-association-t-a-st-pauls-methodist-college-nr-nes-058-2025/
CATEGORIES:Court 2
END:VEVENT
BEGIN:VEVENT
DTSTART;TZID=America/Nassau:20251106T100000
DTEND;TZID=America/Nassau:20251106T170000
DTSTAMP:20260425T102610
CREATED:20251105T211053Z
LAST-MODIFIED:20251105T211053Z
UID:33099-1762423200-1762448400@www.industrialtribunal.bs
SUMMARY:Randy Brown v Orion Marine Construction Bahamas LLC NR/NES/059/2025
DESCRIPTION:
URL:https://www.industrialtribunal.bs/event/randy-brown-v-orion-marine-construction-bahamas-llc-nr-nes-059-2025/
CATEGORIES:Court 2
END:VEVENT
BEGIN:VEVENT
DTSTART;TZID=America/Nassau:20251106T100000
DTEND;TZID=America/Nassau:20251106T170000
DTSTAMP:20260425T102610
CREATED:20251112T203402Z
LAST-MODIFIED:20251112T203402Z
UID:33178-1762423200-1762448400@www.industrialtribunal.bs
SUMMARY:Maegan Neymour v Margaritaville Beach Resort NP2024-011
DESCRIPTION:
URL:https://www.industrialtribunal.bs/event/maegan-neymour-v-margaritaville-beach-resort-np2024-011-3/
CATEGORIES:Court 3
END:VEVENT
BEGIN:VEVENT
DTSTART;TZID=America/Nassau:20251106T100000
DTEND;TZID=America/Nassau:20251106T170000
DTSTAMP:20260425T102610
CREATED:20251112T203524Z
LAST-MODIFIED:20251112T203524Z
UID:33180-1762423200-1762448400@www.industrialtribunal.bs
SUMMARY:Adrian Griffin v Enve Lounge NP2025-073
DESCRIPTION:
URL:https://www.industrialtribunal.bs/event/adrian-griffin-v-enve-lounge-np2025-073/
CATEGORIES:Court 3
END:VEVENT
BEGIN:VEVENT
DTSTART;TZID=America/Nassau:20251106T100000
DTEND;TZID=America/Nassau:20251106T170000
DTSTAMP:20260425T102610
CREATED:20251112T203746Z
LAST-MODIFIED:20251112T203746Z
UID:33182-1762423200-1762448400@www.industrialtribunal.bs
SUMMARY:Sherene Burrows v Sunrise Beach Villas Limited and Scott Meinerz and Luann Namowiz NP2025-082
DESCRIPTION:
URL:https://www.industrialtribunal.bs/event/sherene-burrows-v-sunrise-beach-villas-limited-and-scott-meinerz-and-luann-namowiz-np2025-082/
CATEGORIES:Court 3
END:VEVENT
BEGIN:VEVENT
DTSTART;TZID=America/Nassau:20251107T100000
DTEND;TZID=America/Nassau:20251107T170000
DTSTAMP:20260425T102610
CREATED:20251105T211309Z
LAST-MODIFIED:20251105T211309Z
UID:33101-1762509600-1762534800@www.industrialtribunal.bs
SUMMARY:Shantell Jeshell Sherman v Ministry of Public Service NR/NES/027/2025
DESCRIPTION:
URL:https://www.industrialtribunal.bs/event/shantell-jeshell-sherman-v-ministry-of-public-service-nr-nes-027-2025/
CATEGORIES:Court 2
END:VEVENT
BEGIN:VEVENT
DTSTART;TZID=America/Nassau:20251110T100000
DTEND;TZID=America/Nassau:20251110T170000
DTSTAMP:20260425T102610
CREATED:20251030T143353Z
LAST-MODIFIED:20251030T143353Z
UID:33071-1762768800-1762794000@www.industrialtribunal.bs
SUMMARY:Wilfred Deon St. Louis v A.M.L Foods Limited NP2023-007
DESCRIPTION:
URL:https://www.industrialtribunal.bs/event/wilfred-deon-st-louis-v-a-m-l-foods-limited-np2023-007/
CATEGORIES:Court 3
END:VEVENT
BEGIN:VEVENT
DTSTART;TZID=America/Nassau:20251110T100000
DTEND;TZID=America/Nassau:20251110T170000
DTSTAMP:20260425T102610
CREATED:20251030T143520Z
LAST-MODIFIED:20251030T143520Z
UID:33073-1762768800-1762794000@www.industrialtribunal.bs
SUMMARY:Jamal J. Davis v Bahamas First Corporate Services Ltd NP2024-105
DESCRIPTION:
URL:https://www.industrialtribunal.bs/event/jamal-j-davis-v-bahamas-first-corporate-services-ltd-np2024-105/
CATEGORIES:Court 3
END:VEVENT
BEGIN:VEVENT
DTSTART;TZID=America/Nassau:20251110T100000
DTEND;TZID=America/Nassau:20251110T170000
DTSTAMP:20260425T102610
CREATED:20251030T143709Z
LAST-MODIFIED:20251030T143709Z
UID:33075-1762768800-1762794000@www.industrialtribunal.bs
SUMMARY:Vanette Johnson v Coral Harbour Beach House & Villas NP2024-155
DESCRIPTION:
URL:https://www.industrialtribunal.bs/event/vanette-johnson-v-coral-harbour-beach-house-villas-np2024-155/
CATEGORIES:Court 3
END:VEVENT
BEGIN:VEVENT
DTSTART;TZID=America/Nassau:20251110T100000
DTEND;TZID=America/Nassau:20251110T170000
DTSTAMP:20260425T102610
CREATED:20251105T211523Z
LAST-MODIFIED:20251105T211523Z
UID:33103-1762768800-1762794000@www.industrialtribunal.bs
SUMMARY:Darryl Darville v Last Mile Communication Ltd. t/a Bahamas Wimax NR/NES/033/2025
DESCRIPTION:
URL:https://www.industrialtribunal.bs/event/darryl-darville-v-last-mile-communication-ltd-t-a-bahamas-wimax-nr-nes-033-2025/
CATEGORIES:Court 2
END:VEVENT
BEGIN:VEVENT
DTSTART;TZID=America/Nassau:20251111T100000
DTEND;TZID=America/Nassau:20251111T170000
DTSTAMP:20260425T102610
CREATED:20251105T211602Z
LAST-MODIFIED:20251105T211602Z
UID:33105-1762855200-1762880400@www.industrialtribunal.bs
SUMMARY:Darryl Darville v Last Mile Communication Ltd. t/a Bahamas Wimax NR/NES/033/2025
DESCRIPTION:
URL:https://www.industrialtribunal.bs/event/darryl-darville-v-last-mile-communication-ltd-t-a-bahamas-wimax-nr-nes-033-2025-2/
CATEGORIES:Court 2
END:VEVENT
BEGIN:VEVENT
DTSTART;TZID=America/Nassau:20251111T100000
DTEND;TZID=America/Nassau:20251111T170000
DTSTAMP:20260425T102610
CREATED:20251112T202521Z
LAST-MODIFIED:20251112T202521Z
UID:33168-1762855200-1762880400@www.industrialtribunal.bs
SUMMARY:Kelia Nottage v Blue Lagoon Island and Dolphin Encounters NP2023-053
DESCRIPTION:
URL:https://www.industrialtribunal.bs/event/kelia-nottage-v-blue-lagoon-island-and-dolphin-encounters-np2023-053/
CATEGORIES:Court 4
END:VEVENT
BEGIN:VEVENT
DTSTART;TZID=America/Nassau:20251111T100000
DTEND;TZID=America/Nassau:20251111T170000
DTSTAMP:20260425T102610
CREATED:20251112T202641Z
LAST-MODIFIED:20251112T202641Z
UID:33170-1762855200-1762880400@www.industrialtribunal.bs
SUMMARY:Carol Camille Smith v Maxwell I Storr NP2024-123
DESCRIPTION:
URL:https://www.industrialtribunal.bs/event/carol-camille-smith-v-maxwell-i-storr-np2024-123/
CATEGORIES:Court 4
END:VEVENT
END:VCALENDAR