BEGIN:VCALENDAR
VERSION:2.0
PRODID:-//Bahamas Industrial Tribunal - ECPv6.15.20//NONSGML v1.0//EN
CALSCALE:GREGORIAN
METHOD:PUBLISH
X-WR-CALNAME:Bahamas Industrial Tribunal
X-ORIGINAL-URL:https://www.industrialtribunal.bs
X-WR-CALDESC:Events for Bahamas Industrial Tribunal
REFRESH-INTERVAL;VALUE=DURATION:PT1H
X-Robots-Tag:noindex
X-PUBLISHED-TTL:PT1H
BEGIN:VTIMEZONE
TZID:America/Nassau
BEGIN:DAYLIGHT
TZOFFSETFROM:-0500
TZOFFSETTO:-0400
TZNAME:EDT
DTSTART:20240310T070000
END:DAYLIGHT
BEGIN:STANDARD
TZOFFSETFROM:-0400
TZOFFSETTO:-0500
TZNAME:EST
DTSTART:20241103T060000
END:STANDARD
BEGIN:DAYLIGHT
TZOFFSETFROM:-0500
TZOFFSETTO:-0400
TZNAME:EDT
DTSTART:20250309T070000
END:DAYLIGHT
BEGIN:STANDARD
TZOFFSETFROM:-0400
TZOFFSETTO:-0500
TZNAME:EST
DTSTART:20251102T060000
END:STANDARD
BEGIN:DAYLIGHT
TZOFFSETFROM:-0500
TZOFFSETTO:-0400
TZNAME:EDT
DTSTART:20260308T070000
END:DAYLIGHT
BEGIN:STANDARD
TZOFFSETFROM:-0400
TZOFFSETTO:-0500
TZNAME:EST
DTSTART:20261101T060000
END:STANDARD
END:VTIMEZONE
BEGIN:VEVENT
DTSTART;TZID=America/Nassau:20250331T100000
DTEND;TZID=America/Nassau:20250331T170000
DTSTAMP:20260425T234738
CREATED:20250307T202535Z
LAST-MODIFIED:20250307T202535Z
UID:32212-1743415200-1743440400@www.industrialtribunal.bs
SUMMARY:Alexis Williams v Lowes Pharmacy NP2024-094
DESCRIPTION:
URL:https://www.industrialtribunal.bs/event/alexis-williams-v-lowes-pharmacy-np2024-094/
LOCATION:Court 1 – President Indira Demeritte-Francis\, Bank Lane\, Saffrey Square Building 1st Floor\, New Providence\, Bahamas
CATEGORIES:Court 1
END:VEVENT
BEGIN:VEVENT
DTSTART;TZID=America/Nassau:20250331T100000
DTEND;TZID=America/Nassau:20250331T170000
DTSTAMP:20260425T234738
CREATED:20250307T202424Z
LAST-MODIFIED:20250307T202424Z
UID:32210-1743415200-1743440400@www.industrialtribunal.bs
SUMMARY:Philip Ferguson v British American Financial (BAF) NP2024-072
DESCRIPTION:
URL:https://www.industrialtribunal.bs/event/philip-ferguson-v-british-american-financial-baf-np2024-072/
LOCATION:Court 1 – President Indira Demeritte-Francis\, Bank Lane\, Saffrey Square Building 1st Floor\, New Providence\, Bahamas
CATEGORIES:Court 1
END:VEVENT
BEGIN:VEVENT
DTSTART;TZID=America/Nassau:20250328T100000
DTEND;TZID=America/Nassau:20250328T170000
DTSTAMP:20260425T234738
CREATED:20250307T204822Z
LAST-MODIFIED:20250307T204822Z
UID:32220-1743156000-1743181200@www.industrialtribunal.bs
SUMMARY:Wesley Strapp/Keith Roye v VRR Building Management Limited and Interior Idea NP2023-128/129
DESCRIPTION:
URL:https://www.industrialtribunal.bs/event/wesley-strapp-keith-roye-v-vrr-building-management-limited-and-interior-idea-np2023-128-129-3/
LOCATION:Court 3 – Vice President Sharada Humes Ferguson\, First Floor\, Suite 106\, Saffrey Square Building\, Bank Lane and East Street\, Nassau\, New Providence\, Bahamas
CATEGORIES:Court 3
END:VEVENT
BEGIN:VEVENT
DTSTART;TZID=America/Nassau:20250327T100000
DTEND;TZID=America/Nassau:20250327T170000
DTSTAMP:20260425T234738
CREATED:20250317T143620Z
LAST-MODIFIED:20250317T143620Z
UID:32279-1743069600-1743094800@www.industrialtribunal.bs
SUMMARY:Frederick Hanna v Island Hotel Company Limited NP2023-028
DESCRIPTION:
URL:https://www.industrialtribunal.bs/event/frederick-hanna-v-island-hotel-company-limited-np2023-028-6/
LOCATION:Court 5 – Vice President Rionda Godet\, Bank Lane\, Saffrey Square Building 2nd Floor\, New Providence\, Bahamas
CATEGORIES:Court 5
END:VEVENT
BEGIN:VEVENT
DTSTART;TZID=America/Nassau:20250327T100000
DTEND;TZID=America/Nassau:20250327T170000
DTSTAMP:20260425T234738
CREATED:20250307T202314Z
LAST-MODIFIED:20250307T202314Z
UID:32208-1743069600-1743094800@www.industrialtribunal.bs
SUMMARY:Deanza Andrews v Trans Island Airways (LPIA) NP2023-135
DESCRIPTION:
URL:https://www.industrialtribunal.bs/event/deanza-andrews-v-trans-island-airways-lpia-np2023-135-2/
LOCATION:Court 1 – President Indira Demeritte-Francis\, Bank Lane\, Saffrey Square Building 1st Floor\, New Providence\, Bahamas
CATEGORIES:Court 1
END:VEVENT
BEGIN:VEVENT
DTSTART;TZID=America/Nassau:20250327T100000
DTEND;TZID=America/Nassau:20250327T170000
DTSTAMP:20260425T234738
CREATED:20250307T202150Z
LAST-MODIFIED:20250307T202150Z
UID:32206-1743069600-1743094800@www.industrialtribunal.bs
SUMMARY:Robynn Johnson -Thurston v Scotia Bank (Bahamas) NP2023-136
DESCRIPTION:
URL:https://www.industrialtribunal.bs/event/robynn-johnson-thurston-v-scotia-bank-bahamas-np2023-136/
LOCATION:Court 1 – President Indira Demeritte-Francis\, Bank Lane\, Saffrey Square Building 1st Floor\, New Providence\, Bahamas
CATEGORIES:Court 1
END:VEVENT
BEGIN:VEVENT
DTSTART;TZID=America/Nassau:20250327T100000
DTEND;TZID=America/Nassau:20250327T170000
DTSTAMP:20260425T234738
CREATED:20250307T202029Z
LAST-MODIFIED:20250307T202029Z
UID:32204-1743069600-1743094800@www.industrialtribunal.bs
SUMMARY:Wayne O. Newman Jr v Tactical Security NP2023-127
DESCRIPTION:
URL:https://www.industrialtribunal.bs/event/wayne-o-newman-jr-v-tactical-security-np2023-127-2/
LOCATION:Court 1 – President Indira Demeritte-Francis\, Bank Lane\, Saffrey Square Building 1st Floor\, New Providence\, Bahamas
CATEGORIES:Court 1
END:VEVENT
BEGIN:VEVENT
DTSTART;TZID=America/Nassau:20250327T100000
DTEND;TZID=America/Nassau:20250327T170000
DTSTAMP:20260425T234738
CREATED:20250307T201901Z
LAST-MODIFIED:20250307T201901Z
UID:32202-1743069600-1743094800@www.industrialtribunal.bs
SUMMARY:Lynden Curtis v Baha Mar NP2023-125
DESCRIPTION:
URL:https://www.industrialtribunal.bs/event/lynden-curtis-v-baha-mar-np2023-125-2/
LOCATION:Court 1 – President Indira Demeritte-Francis\, Bank Lane\, Saffrey Square Building 1st Floor\, New Providence\, Bahamas
CATEGORIES:Court 1
END:VEVENT
BEGIN:VEVENT
DTSTART;TZID=America/Nassau:20250327T100000
DTEND;TZID=America/Nassau:20250327T170000
DTSTAMP:20260425T234738
CREATED:20250307T201644Z
LAST-MODIFIED:20250307T201644Z
UID:32200-1743069600-1743094800@www.industrialtribunal.bs
SUMMARY:Hakeem Knowles v Sysco Bahamas NP2023-039
DESCRIPTION:
URL:https://www.industrialtribunal.bs/event/hakeem-knowles-v-sysco-bahamas-np2023-039-4/
LOCATION:Court 1 – President Indira Demeritte-Francis\, Bank Lane\, Saffrey Square Building 1st Floor\, New Providence\, Bahamas
CATEGORIES:Court 1
END:VEVENT
BEGIN:VEVENT
DTSTART;TZID=America/Nassau:20250327T100000
DTEND;TZID=America/Nassau:20250327T170000
DTSTAMP:20260425T234738
CREATED:20250307T201431Z
LAST-MODIFIED:20250307T201431Z
UID:32198-1743069600-1743094800@www.industrialtribunal.bs
SUMMARY:Lavonne Lees Neely -BPSU v University of The Bahamas NP2024-101
DESCRIPTION:
URL:https://www.industrialtribunal.bs/event/lavonne-lees-neely-bpsu-v-university-of-the-bahamas-np2024-101-2/
LOCATION:Court 1 – President Indira Demeritte-Francis\, Bank Lane\, Saffrey Square Building 1st Floor\, New Providence\, Bahamas
CATEGORIES:Court 1
END:VEVENT
BEGIN:VEVENT
DTSTART;TZID=America/Nassau:20250327T100000
DTEND;TZID=America/Nassau:20250327T170000
DTSTAMP:20260425T234738
CREATED:20250307T201303Z
LAST-MODIFIED:20250307T201303Z
UID:32196-1743069600-1743094800@www.industrialtribunal.bs
SUMMARY:Anthony Richardson -BPSU v University of The Bahamas NP2024-110
DESCRIPTION:
URL:https://www.industrialtribunal.bs/event/anthony-richardson-bpsu-v-university-of-the-bahamas-np2024-110-2/
LOCATION:Court 1 – President Indira Demeritte-Francis\, Bank Lane\, Saffrey Square Building 1st Floor\, New Providence\, Bahamas
CATEGORIES:Court 1
END:VEVENT
BEGIN:VEVENT
DTSTART;TZID=America/Nassau:20250327T100000
DTEND;TZID=America/Nassau:20250327T170000
DTSTAMP:20260425T234738
CREATED:20250307T201147Z
LAST-MODIFIED:20250307T201147Z
UID:32194-1743069600-1743094800@www.industrialtribunal.bs
SUMMARY:Teddy Johnson v Nassau Engineering Welding & Steel Company NP2024-143
DESCRIPTION:
URL:https://www.industrialtribunal.bs/event/teddy-johnson-v-nassau-engineering-welding-steel-company-np2024-143/
LOCATION:Court 1 – President Indira Demeritte-Francis\, Bank Lane\, Saffrey Square Building 1st Floor\, New Providence\, Bahamas
CATEGORIES:Court 1
END:VEVENT
BEGIN:VEVENT
DTSTART;TZID=America/Nassau:20250327T100000
DTEND;TZID=America/Nassau:20250327T170000
DTSTAMP:20260425T234738
CREATED:20250307T201012Z
LAST-MODIFIED:20250307T201012Z
UID:32192-1743069600-1743094800@www.industrialtribunal.bs
SUMMARY:Nicholas Sweeting v Lowes Wholesale Drug Agencies Limited NP2024-141
DESCRIPTION:
URL:https://www.industrialtribunal.bs/event/nicholas-sweeting-v-lowes-wholesale-drug-agencies-limited-np2024-141-2/
LOCATION:Court 1 – President Indira Demeritte-Francis\, Bank Lane\, Saffrey Square Building 1st Floor\, New Providence\, Bahamas
CATEGORIES:Court 1
END:VEVENT
BEGIN:VEVENT
DTSTART;TZID=America/Nassau:20250327T100000
DTEND;TZID=America/Nassau:20250327T170000
DTSTAMP:20260425T234738
CREATED:20250307T200807Z
LAST-MODIFIED:20250307T200807Z
UID:32190-1743069600-1743094800@www.industrialtribunal.bs
SUMMARY:Donald Smith v Jona Telecom/Aliv NP2024-156
DESCRIPTION:
URL:https://www.industrialtribunal.bs/event/donald-smith-v-jona-telecom-aliv-np2024-156/
LOCATION:Court 1 – President Indira Demeritte-Francis\, Bank Lane\, Saffrey Square Building 1st Floor\, New Providence\, Bahamas
CATEGORIES:Court 1
END:VEVENT
BEGIN:VEVENT
DTSTART;TZID=America/Nassau:20250326T100000
DTEND;TZID=America/Nassau:20250326T170000
DTSTAMP:20260425T234738
CREATED:20250307T200703Z
LAST-MODIFIED:20250307T200703Z
UID:32188-1742983200-1743008400@www.industrialtribunal.bs
SUMMARY:Gregory Grant v Scuba Bimini Center/Tide High Ltd NP2024-146
DESCRIPTION:
URL:https://www.industrialtribunal.bs/event/gregory-grant-v-scuba-bimini-center-tide-high-ltd-np2024-146/
LOCATION:Court 1 – President Indira Demeritte-Francis\, Bank Lane\, Saffrey Square Building 1st Floor\, New Providence\, Bahamas
CATEGORIES:Court 1
END:VEVENT
BEGIN:VEVENT
DTSTART;TZID=America/Nassau:20250326T100000
DTEND;TZID=America/Nassau:20250326T170000
DTSTAMP:20260425T234738
CREATED:20250307T200458Z
LAST-MODIFIED:20250307T200458Z
UID:32186-1742983200-1743008400@www.industrialtribunal.bs
SUMMARY:Ifody Atus v Gunnar Krug Construction NP2024-114
DESCRIPTION:
URL:https://www.industrialtribunal.bs/event/ifody-atus-v-gunnar-krug-construction-np2024-114-2/
LOCATION:Court 1 – President Indira Demeritte-Francis\, Bank Lane\, Saffrey Square Building 1st Floor\, New Providence\, Bahamas
CATEGORIES:Court 1
END:VEVENT
BEGIN:VEVENT
DTSTART;TZID=America/Nassau:20250326T100000
DTEND;TZID=America/Nassau:20250326T170000
DTSTAMP:20260425T234738
CREATED:20250307T200154Z
LAST-MODIFIED:20250307T200154Z
UID:32184-1742983200-1743008400@www.industrialtribunal.bs
SUMMARY:Jermaine Gibson v Island Hotel Company NP2024-071
DESCRIPTION:
URL:https://www.industrialtribunal.bs/event/jermaine-gibson-v-island-hotel-company-np2024-071/
LOCATION:Court 1 – President Indira Demeritte-Francis\, Bank Lane\, Saffrey Square Building 1st Floor\, New Providence\, Bahamas
CATEGORIES:Court 1
END:VEVENT
BEGIN:VEVENT
DTSTART;TZID=America/Nassau:20250326T100000
DTEND;TZID=America/Nassau:20250326T170000
DTSTAMP:20260425T234738
CREATED:20250307T195933Z
LAST-MODIFIED:20250307T195933Z
UID:32182-1742983200-1743008400@www.industrialtribunal.bs
SUMMARY:Serina W. Johnson v Bahamas Technical and Vocational Institute (B.T.V.I) NP2024-107
DESCRIPTION:
URL:https://www.industrialtribunal.bs/event/serina-w-johnson-v-bahamas-technical-and-vocational-institute-b-t-v-i-np2024-107/
LOCATION:Court 1 – President Indira Demeritte-Francis\, Bank Lane\, Saffrey Square Building 1st Floor\, New Providence\, Bahamas
CATEGORIES:Court 1
END:VEVENT
BEGIN:VEVENT
DTSTART;TZID=America/Nassau:20250326T100000
DTEND;TZID=America/Nassau:20250326T170000
DTSTAMP:20260425T234738
CREATED:20250307T195746Z
LAST-MODIFIED:20250307T195746Z
UID:32180-1742983200-1743008400@www.industrialtribunal.bs
SUMMARY:Kendesha Forbes v Boost Academy NP2024-084
DESCRIPTION:
URL:https://www.industrialtribunal.bs/event/kendesha-forbes-v-boost-academy-np2024-084-2/
LOCATION:Court 1 – President Indira Demeritte-Francis\, Bank Lane\, Saffrey Square Building 1st Floor\, New Providence\, Bahamas
CATEGORIES:Court 1
END:VEVENT
BEGIN:VEVENT
DTSTART;TZID=America/Nassau:20250326T100000
DTEND;TZID=America/Nassau:20250326T170000
DTSTAMP:20260425T234738
CREATED:20250307T195655Z
LAST-MODIFIED:20250307T195655Z
UID:32178-1742983200-1743008400@www.industrialtribunal.bs
SUMMARY:Darren Ferguson v Sandilands Rehabilitation Centre NP2024-090
DESCRIPTION:
URL:https://www.industrialtribunal.bs/event/darren-ferguson-v-sandilands-rehabilitation-centre-np2024-090-2/
LOCATION:Court 1 – President Indira Demeritte-Francis\, Bank Lane\, Saffrey Square Building 1st Floor\, New Providence\, Bahamas
CATEGORIES:Court 1
END:VEVENT
BEGIN:VEVENT
DTSTART;TZID=America/Nassau:20250326T100000
DTEND;TZID=America/Nassau:20250326T170000
DTSTAMP:20260425T234738
CREATED:20250307T195550Z
LAST-MODIFIED:20250307T195550Z
UID:32176-1742983200-1743008400@www.industrialtribunal.bs
SUMMARY:Eugina Mckenzie v Albury's Locksmithing Company NP2024-073
DESCRIPTION:
URL:https://www.industrialtribunal.bs/event/eugina-mckenzie-v-alburys-locksmithing-company-np2024-073/
LOCATION:Court 1 – President Indira Demeritte-Francis\, Bank Lane\, Saffrey Square Building 1st Floor\, New Providence\, Bahamas
CATEGORIES:Court 1
END:VEVENT
BEGIN:VEVENT
DTSTART;TZID=America/Nassau:20250326T100000
DTEND;TZID=America/Nassau:20250326T170000
DTSTAMP:20260425T234738
CREATED:20250307T195439Z
LAST-MODIFIED:20250307T195439Z
UID:32174-1742983200-1743008400@www.industrialtribunal.bs
SUMMARY:Mary Fernander v Albany Resort NP2024-106
DESCRIPTION:
URL:https://www.industrialtribunal.bs/event/mary-fernander-v-albany-resort-np2024-106-2/
LOCATION:Court 1 – President Indira Demeritte-Francis\, Bank Lane\, Saffrey Square Building 1st Floor\, New Providence\, Bahamas
CATEGORIES:Court 1
END:VEVENT
BEGIN:VEVENT
DTSTART;TZID=America/Nassau:20250326T100000
DTEND;TZID=America/Nassau:20250326T170000
DTSTAMP:20260425T234738
CREATED:20250307T195338Z
LAST-MODIFIED:20250307T195338Z
UID:32172-1742983200-1743008400@www.industrialtribunal.bs
SUMMARY:Lula Johnson v North Eleuthera District Council NP2020-86
DESCRIPTION:
URL:https://www.industrialtribunal.bs/event/lula-johnson-v-north-eleuthera-district-council-np2020-86-2/
LOCATION:Court 1 – President Indira Demeritte-Francis\, Bank Lane\, Saffrey Square Building 1st Floor\, New Providence\, Bahamas
CATEGORIES:Court 1
END:VEVENT
BEGIN:VEVENT
DTSTART;TZID=America/Nassau:20250326T100000
DTEND;TZID=America/Nassau:20250326T170000
DTSTAMP:20260425T234738
CREATED:20250307T195233Z
LAST-MODIFIED:20250307T195233Z
UID:32170-1742983200-1743008400@www.industrialtribunal.bs
SUMMARY:Charlin Jean -Jacques v Talcove Construction NP2023-087
DESCRIPTION:
URL:https://www.industrialtribunal.bs/event/charlin-jean-jacques-v-talcove-construction-np2023-087/
LOCATION:Court 1 – President Indira Demeritte-Francis\, Bank Lane\, Saffrey Square Building 1st Floor\, New Providence\, Bahamas
CATEGORIES:Court 1
END:VEVENT
BEGIN:VEVENT
DTSTART;TZID=America/Nassau:20250326T100000
DTEND;TZID=America/Nassau:20250326T170000
DTSTAMP:20260425T234738
CREATED:20250307T195044Z
LAST-MODIFIED:20250307T195044Z
UID:32168-1742983200-1743008400@www.industrialtribunal.bs
SUMMARY:Ashlyn Miller v Delta Airlines DAL Global Services NP2023-132
DESCRIPTION:
URL:https://www.industrialtribunal.bs/event/ashlyn-miller-v-delta-airlines-dal-global-services-np2023-132/
LOCATION:Court 1 – President Indira Demeritte-Francis\, Bank Lane\, Saffrey Square Building 1st Floor\, New Providence\, Bahamas
CATEGORIES:Court 1
END:VEVENT
BEGIN:VEVENT
DTSTART;TZID=America/Nassau:20250326T100000
DTEND;TZID=America/Nassau:20250326T170000
DTSTAMP:20260425T234738
CREATED:20250307T194836Z
LAST-MODIFIED:20250307T194836Z
UID:32166-1742983200-1743008400@www.industrialtribunal.bs
SUMMARY:Delvin McIntosh v Alarms Limited NP2023-134
DESCRIPTION:
URL:https://www.industrialtribunal.bs/event/delvin-mcintosh-v-alarms-limited-np2023-134-2/
LOCATION:Court 1 – President Indira Demeritte-Francis\, Bank Lane\, Saffrey Square Building 1st Floor\, New Providence\, Bahamas
CATEGORIES:Court 1
END:VEVENT
BEGIN:VEVENT
DTSTART;TZID=America/Nassau:20250326T100000
DTEND;TZID=America/Nassau:20250326T170000
DTSTAMP:20260425T234738
CREATED:20250305T191055Z
LAST-MODIFIED:20250305T191055Z
UID:32118-1742983200-1743008400@www.industrialtribunal.bs
SUMMARY:Kimsley Ferguson BPSU Lucille Strachan & Algeria Lewis v Department of Statistics NP2021-186
DESCRIPTION:
URL:https://www.industrialtribunal.bs/event/kimsley-ferguson-bpsu-lucille-strachan-algeria-lewis-v-department-of-statistics-np2021-186-3/
LOCATION:Court 3 – Vice President Sharada Humes Ferguson\, First Floor\, Suite 106\, Saffrey Square Building\, Bank Lane and East Street\, Nassau\, New Providence\, Bahamas
CATEGORIES:Court 3
END:VEVENT
BEGIN:VEVENT
DTSTART;TZID=America/Nassau:20250325T100000
DTEND;TZID=America/Nassau:20250325T170000
DTSTAMP:20260425T234738
CREATED:20250317T142324Z
LAST-MODIFIED:20250317T142324Z
UID:32265-1742896800-1742922000@www.industrialtribunal.bs
SUMMARY:Vonette Johnson v Coral Harbour Beach House & Villas NP2024-155
DESCRIPTION:
URL:https://www.industrialtribunal.bs/event/vonette-johnson-v-coral-harbour-beach-house-villas-np2024-155/
LOCATION:Court 4 – Vice President Ingrid Cooper-Brooks
CATEGORIES:Court 4
END:VEVENT
BEGIN:VEVENT
DTSTART;TZID=America/Nassau:20250325T100000
DTEND;TZID=America/Nassau:20250325T170000
DTSTAMP:20260425T234738
CREATED:20250317T142235Z
LAST-MODIFIED:20250317T142235Z
UID:32263-1742896800-1742922000@www.industrialtribunal.bs
SUMMARY:Sherell Major v Commonwealth Brewery Limited NP2024-150
DESCRIPTION:
URL:https://www.industrialtribunal.bs/event/sherell-major-v-commonwealth-brewery-limited-np2024-150/
LOCATION:Court 4 – Vice President Ingrid Cooper-Brooks
CATEGORIES:Court 4
END:VEVENT
BEGIN:VEVENT
DTSTART;TZID=America/Nassau:20250325T100000
DTEND;TZID=America/Nassau:20250325T170000
DTSTAMP:20260425T234738
CREATED:20250317T142134Z
LAST-MODIFIED:20250317T142134Z
UID:32261-1742896800-1742922000@www.industrialtribunal.bs
SUMMARY:Carol Camille Smith v Maxwell I Storr/Owner NP2024-123
DESCRIPTION:
URL:https://www.industrialtribunal.bs/event/carol-camille-smith-v-maxwell-i-storr-owner-np2024-123/
LOCATION:Court 4 – Vice President Ingrid Cooper-Brooks
CATEGORIES:Court 4
END:VEVENT
END:VCALENDAR