BEGIN:VCALENDAR
VERSION:2.0
PRODID:-//Bahamas Industrial Tribunal - ECPv6.15.20//NONSGML v1.0//EN
CALSCALE:GREGORIAN
METHOD:PUBLISH
X-WR-CALNAME:Bahamas Industrial Tribunal
X-ORIGINAL-URL:https://www.industrialtribunal.bs
X-WR-CALDESC:Events for Bahamas Industrial Tribunal
REFRESH-INTERVAL;VALUE=DURATION:PT1H
X-Robots-Tag:noindex
X-PUBLISHED-TTL:PT1H
BEGIN:VTIMEZONE
TZID:America/Nassau
BEGIN:DAYLIGHT
TZOFFSETFROM:-0500
TZOFFSETTO:-0400
TZNAME:EDT
DTSTART:20240310T070000
END:DAYLIGHT
BEGIN:STANDARD
TZOFFSETFROM:-0400
TZOFFSETTO:-0500
TZNAME:EST
DTSTART:20241103T060000
END:STANDARD
BEGIN:DAYLIGHT
TZOFFSETFROM:-0500
TZOFFSETTO:-0400
TZNAME:EDT
DTSTART:20250309T070000
END:DAYLIGHT
BEGIN:STANDARD
TZOFFSETFROM:-0400
TZOFFSETTO:-0500
TZNAME:EST
DTSTART:20251102T060000
END:STANDARD
BEGIN:DAYLIGHT
TZOFFSETFROM:-0500
TZOFFSETTO:-0400
TZNAME:EDT
DTSTART:20260308T070000
END:DAYLIGHT
BEGIN:STANDARD
TZOFFSETFROM:-0400
TZOFFSETTO:-0500
TZNAME:EST
DTSTART:20261101T060000
END:STANDARD
END:VTIMEZONE
BEGIN:VEVENT
DTSTART;TZID=America/Nassau:20251128T100000
DTEND;TZID=America/Nassau:20251128T170000
DTSTAMP:20260425T102626
CREATED:20251106T204241Z
LAST-MODIFIED:20251106T204241Z
UID:33154-1764324000-1764349200@www.industrialtribunal.bs
SUMMARY:Krystal Jones-Clarke v St. Thomas Medical Center NR/NES/061/2025
DESCRIPTION:
URL:https://www.industrialtribunal.bs/event/krystal-jones-clarke-v-st-thomas-medical-center-nr-nes-061-2025/
CATEGORIES:Court 2
END:VEVENT
BEGIN:VEVENT
DTSTART;TZID=America/Nassau:20251128T100000
DTEND;TZID=America/Nassau:20251128T170000
DTSTAMP:20260425T102626
CREATED:20251106T204123Z
LAST-MODIFIED:20251106T204123Z
UID:33152-1764324000-1764349200@www.industrialtribunal.bs
SUMMARY:Vaughn Strachan v Sawyer's Food Supplies Ltd. t/a Sawyer's Fresh Market NR/NES/060/2025
DESCRIPTION:
URL:https://www.industrialtribunal.bs/event/vaughn-strachan-v-sawyers-food-supplies-ltd-t-a-sawyers-fresh-market-nr-nes-060-2025/
CATEGORIES:Court 2
END:VEVENT
BEGIN:VEVENT
DTSTART;TZID=America/Nassau:20251128T100000
DTEND;TZID=America/Nassau:20251128T170000
DTSTAMP:20260425T102626
CREATED:20251106T203935Z
LAST-MODIFIED:20251106T203935Z
UID:33150-1764324000-1764349200@www.industrialtribunal.bs
SUMMARY:Nicholas Darville v Schooner Bay Ventures Ltd. NR/NES/057/2025
DESCRIPTION:
URL:https://www.industrialtribunal.bs/event/nicholas-darville-v-schooner-bay-ventures-ltd-nr-nes-057-2025/
CATEGORIES:Court 2
END:VEVENT
BEGIN:VEVENT
DTSTART;TZID=America/Nassau:20251128T100000
DTEND;TZID=America/Nassau:20251128T170000
DTSTAMP:20260425T102626
CREATED:20251106T203818Z
LAST-MODIFIED:20251106T203818Z
UID:33148-1764324000-1764349200@www.industrialtribunal.bs
SUMMARY:Curtis Wildgoose v I.C.S of the Bahamas Co. Ltd. NR/NES/056/2025
DESCRIPTION:
URL:https://www.industrialtribunal.bs/event/curtis-wildgoose-v-i-c-s-of-the-bahamas-co-ltd-nr-nes-056-2025/
CATEGORIES:Court 2
END:VEVENT
BEGIN:VEVENT
DTSTART;TZID=America/Nassau:20251128T100000
DTEND;TZID=America/Nassau:20251128T170000
DTSTAMP:20260425T102626
CREATED:20251106T203628Z
LAST-MODIFIED:20251106T203628Z
UID:33145-1764324000-1764349200@www.industrialtribunal.bs
SUMMARY:Sandra L. Sands v I.C.S of the Bahamas Co. Ltd. NR/NES/055/2025
DESCRIPTION:
URL:https://www.industrialtribunal.bs/event/sandra-l-sands-v-i-c-s-of-the-bahamas-co-ltd-nr-nes-055-2025/
CATEGORIES:Court 2
END:VEVENT
BEGIN:VEVENT
DTSTART;TZID=America/Nassau:20251128T100000
DTEND;TZID=America/Nassau:20251128T170000
DTSTAMP:20260425T102626
CREATED:20251106T203506Z
LAST-MODIFIED:20251106T203506Z
UID:33143-1764324000-1764349200@www.industrialtribunal.bs
SUMMARY:Dornell Rolle v Silver Airways NR/NES/054/2025
DESCRIPTION:
URL:https://www.industrialtribunal.bs/event/dornell-rolle-v-silver-airways-nr-nes-054-2025/
CATEGORIES:Court 2
END:VEVENT
BEGIN:VEVENT
DTSTART;TZID=America/Nassau:20251128T100000
DTEND;TZID=America/Nassau:20251128T170000
DTSTAMP:20260425T102626
CREATED:20251106T203358Z
LAST-MODIFIED:20251106T203358Z
UID:33141-1764324000-1764349200@www.industrialtribunal.bs
SUMMARY:Melinda Parker v A and W Janitorial Services NR/NES/050/2025
DESCRIPTION:
URL:https://www.industrialtribunal.bs/event/melinda-parker-v-a-and-w-janitorial-services-nr-nes-050-2025/
CATEGORIES:Court 2
END:VEVENT
BEGIN:VEVENT
DTSTART;TZID=America/Nassau:20251128T100000
DTEND;TZID=America/Nassau:20251128T170000
DTSTAMP:20260425T102626
CREATED:20251106T203239Z
LAST-MODIFIED:20251106T203239Z
UID:33139-1764324000-1764349200@www.industrialtribunal.bs
SUMMARY:Quinique Cartwright v Sasha Pinder Trading as Be My Guest Development NR/NES/044/2025
DESCRIPTION:
URL:https://www.industrialtribunal.bs/event/quinique-cartwright-v-sasha-pinder-trading-as-be-my-guest-development-nr-nes-044-2025/
CATEGORIES:Court 2
END:VEVENT
BEGIN:VEVENT
DTSTART;TZID=America/Nassau:20251128T100000
DTEND;TZID=America/Nassau:20251128T170000
DTSTAMP:20260425T102626
CREATED:20251105T214106Z
LAST-MODIFIED:20251105T214106Z
UID:33137-1764324000-1764349200@www.industrialtribunal.bs
SUMMARY:Tinia Parker v GWS Worldwide Express NR/NES/011/2025
DESCRIPTION:
URL:https://www.industrialtribunal.bs/event/tinia-parker-v-gws-worldwide-express-nr-nes-011-2025/
CATEGORIES:Court 2
END:VEVENT
BEGIN:VEVENT
DTSTART;TZID=America/Nassau:20251127T100000
DTEND;TZID=America/Nassau:20251127T170000
DTSTAMP:20260425T102626
CREATED:20251112T203116Z
LAST-MODIFIED:20251112T203116Z
UID:33176-1764237600-1764262800@www.industrialtribunal.bs
SUMMARY:Anthony Saunders v Life Style Luxury Vacation Club NP2023-063
DESCRIPTION:
URL:https://www.industrialtribunal.bs/event/anthony-saunders-v-life-style-luxury-vacation-club-np2023-063-2/
CATEGORIES:Court 4
END:VEVENT
BEGIN:VEVENT
DTSTART;TZID=America/Nassau:20251124T100000
DTEND;TZID=America/Nassau:20251124T170000
DTSTAMP:20260425T102626
CREATED:20251105T213956Z
LAST-MODIFIED:20251105T213956Z
UID:33135-1763978400-1764003600@www.industrialtribunal.bs
SUMMARY:Shantell Jeshell Sherman v Ministry of Public Service NR/NES/027/2025
DESCRIPTION:
URL:https://www.industrialtribunal.bs/event/shantell-jeshell-sherman-v-ministry-of-public-service-nr-nes-027-2025-2/
CATEGORIES:Court 2
END:VEVENT
BEGIN:VEVENT
DTSTART;TZID=America/Nassau:20251120T100000
DTEND;TZID=America/Nassau:20251120T170000
DTSTAMP:20260425T102626
CREATED:20251105T213803Z
LAST-MODIFIED:20251105T213803Z
UID:33133-1763632800-1763658000@www.industrialtribunal.bs
SUMMARY:Ashanti McIntosh v Collette Bootle t/a Fine Living Customs Brokerage and Ships Logistics NR/NES/0027/2025
DESCRIPTION:
URL:https://www.industrialtribunal.bs/event/ashanti-mcintosh-v-collette-bootle-t-a-fine-living-customs-brokerage-and-ships-logistics-nr-nes-0027-2025/
CATEGORIES:Court 2
END:VEVENT
BEGIN:VEVENT
DTSTART;TZID=America/Nassau:20251119T100000
DTEND;TZID=America/Nassau:20251119T170000
DTSTAMP:20260425T102626
CREATED:20251112T203024Z
LAST-MODIFIED:20251112T203024Z
UID:33174-1763546400-1763571600@www.industrialtribunal.bs
SUMMARY:Anthony Saunders v Life Style Luxury Vacation Club NP2023-063
DESCRIPTION:
URL:https://www.industrialtribunal.bs/event/anthony-saunders-v-life-style-luxury-vacation-club-np2023-063/
CATEGORIES:Court 4
END:VEVENT
BEGIN:VEVENT
DTSTART;TZID=America/Nassau:20251118T100000
DTEND;TZID=America/Nassau:20251118T170000
DTSTAMP:20260425T102626
CREATED:20251112T202834Z
LAST-MODIFIED:20251112T202834Z
UID:33172-1763460000-1763485200@www.industrialtribunal.bs
SUMMARY:David Barlett v Nassau Cruise Port T/A Global Ports Holdings NP2024-026
DESCRIPTION:
URL:https://www.industrialtribunal.bs/event/david-barlett-v-nassau-cruise-port-t-a-global-ports-holdings-np2024-026/
CATEGORIES:Court 4
END:VEVENT
BEGIN:VEVENT
DTSTART;TZID=America/Nassau:20251118T100000
DTEND;TZID=America/Nassau:20251118T170000
DTSTAMP:20260425T102626
CREATED:20251105T213605Z
LAST-MODIFIED:20251105T213605Z
UID:33131-1763460000-1763485200@www.industrialtribunal.bs
SUMMARY:Shawn Laramore v Elvis Andrew Hepburn t/a E.A. Hepburn Industrial Contractors NR/NES/075/2025
DESCRIPTION:
URL:https://www.industrialtribunal.bs/event/shawn-laramore-v-elvis-andrew-hepburn-t-a-e-a-hepburn-industrial-contractors-nr-nes-075-2025-2/
CATEGORIES:Court 2
END:VEVENT
BEGIN:VEVENT
DTSTART;TZID=America/Nassau:20251118T100000
DTEND;TZID=America/Nassau:20251118T170000
DTSTAMP:20260425T102626
CREATED:20251105T213452Z
LAST-MODIFIED:20251105T213452Z
UID:33129-1763460000-1763485200@www.industrialtribunal.bs
SUMMARY:Leslie A. Lewis v Elvis Andrew Hepburn t/a E.A. Hepburn Industrial Contractors NR/NES/074/2025
DESCRIPTION:
URL:https://www.industrialtribunal.bs/event/leslie-a-lewis-v-elvis-andrew-hepburn-t-a-e-a-hepburn-industrial-contractors-nr-nes-074-2025-2/
CATEGORIES:Court 2
END:VEVENT
BEGIN:VEVENT
DTSTART;TZID=America/Nassau:20251117T100000
DTEND;TZID=America/Nassau:20251117T170000
DTSTAMP:20260425T102626
CREATED:20251105T213402Z
LAST-MODIFIED:20251105T213402Z
UID:33127-1763373600-1763398800@www.industrialtribunal.bs
SUMMARY:Shawn Laramore v Elvis Andrew Hepburn t/a E.A. Hepburn Industrial Contractors NR/NES/075/2025
DESCRIPTION:
URL:https://www.industrialtribunal.bs/event/shawn-laramore-v-elvis-andrew-hepburn-t-a-e-a-hepburn-industrial-contractors-nr-nes-075-2025/
CATEGORIES:Court 2
END:VEVENT
BEGIN:VEVENT
DTSTART;TZID=America/Nassau:20251117T100000
DTEND;TZID=America/Nassau:20251117T170000
DTSTAMP:20260425T102626
CREATED:20251105T213236Z
LAST-MODIFIED:20251105T213236Z
UID:33125-1763373600-1763398800@www.industrialtribunal.bs
SUMMARY:Leslie A. Lewis v Elvis Andrew Hepburn t/a E.A. Hepburn Industrial Contractors NR/NES/074/2025
DESCRIPTION:
URL:https://www.industrialtribunal.bs/event/leslie-a-lewis-v-elvis-andrew-hepburn-t-a-e-a-hepburn-industrial-contractors-nr-nes-074-2025/
CATEGORIES:Court 2
END:VEVENT
BEGIN:VEVENT
DTSTART;TZID=America/Nassau:20251114T100000
DTEND;TZID=America/Nassau:20251114T170000
DTSTAMP:20260425T102626
CREATED:20251105T213051Z
LAST-MODIFIED:20251105T213051Z
UID:33123-1763114400-1763139600@www.industrialtribunal.bs
SUMMARY:Stephona Rolle v Dr. Charlene Reid t/a Easy Dental Car NR/NES/018/2025
DESCRIPTION:
URL:https://www.industrialtribunal.bs/event/stephona-rolle-v-dr-charlene-reid-t-a-easy-dental-car-nr-nes-018-2025/
CATEGORIES:Court 2
END:VEVENT
BEGIN:VEVENT
DTSTART;TZID=America/Nassau:20251113T100000
DTEND;TZID=America/Nassau:20251113T170000
DTSTAMP:20260425T102626
CREATED:20251105T212815Z
LAST-MODIFIED:20251105T212815Z
UID:33119-1763028000-1763053200@www.industrialtribunal.bs
SUMMARY:Maria Taylor v Lucayan Renewal Holdings Ltd. NR/NES/053/2025
DESCRIPTION:
URL:https://www.industrialtribunal.bs/event/maria-taylor-v-lucayan-renewal-holdings-ltd-nr-nes-053-2025/
CATEGORIES:Court 2
END:VEVENT
BEGIN:VEVENT
DTSTART;TZID=America/Nassau:20251113T100000
DTEND;TZID=America/Nassau:20251113T170000
DTSTAMP:20260425T102626
CREATED:20251105T212630Z
LAST-MODIFIED:20251105T212910Z
UID:33117-1763028000-1763053200@www.industrialtribunal.bs
SUMMARY:Timmeka Pinder v RAV Bahamas Limited NR/NES/052/2025
DESCRIPTION:
URL:https://www.industrialtribunal.bs/event/timmeka-pinder-v-rav-bahamas-limited-nr-nes-053-2025/
CATEGORIES:Court 2
END:VEVENT
BEGIN:VEVENT
DTSTART;TZID=America/Nassau:20251113T100000
DTEND;TZID=America/Nassau:20251113T170000
DTSTAMP:20260425T102626
CREATED:20251105T212516Z
LAST-MODIFIED:20251105T212845Z
UID:33115-1763028000-1763053200@www.industrialtribunal.bs
SUMMARY:Timmeka Pinder v OPAC Bahamas Limited\, Resorts World Bimini NR/NES/051/2025
DESCRIPTION:
URL:https://www.industrialtribunal.bs/event/timmeka-pinder-v-opac-bahamas-limited-resorts-world-bimini-nr-nes-052-2025/
CATEGORIES:Court 2
END:VEVENT
BEGIN:VEVENT
DTSTART;TZID=America/Nassau:20251113T100000
DTEND;TZID=America/Nassau:20251113T170000
DTSTAMP:20260425T102626
CREATED:20251105T212329Z
LAST-MODIFIED:20251105T212329Z
UID:33113-1763028000-1763053200@www.industrialtribunal.bs
SUMMARY:Trevon S. Laing v Lucayan Renewal Holding Ltd. NR/NES/049/2025
DESCRIPTION:
URL:https://www.industrialtribunal.bs/event/trevon-s-laing-v-lucayan-renewal-holding-ltd-nr-nes-049-2025-2/
CATEGORIES:Court 2
END:VEVENT
BEGIN:VEVENT
DTSTART;TZID=America/Nassau:20251113T100000
DTEND;TZID=America/Nassau:20251113T170000
DTSTAMP:20260425T102626
CREATED:20251105T212122Z
LAST-MODIFIED:20251105T212122Z
UID:33111-1763028000-1763053200@www.industrialtribunal.bs
SUMMARY:Ricardo Jones v Tropical Gyros Ltd. t/a Tropical Gyros North NR/NES/036/2025
DESCRIPTION:
URL:https://www.industrialtribunal.bs/event/ricardo-jones-v-tropical-gyros-ltd-t-a-tropical-gyros-north-nr-nes-036-2025/
CATEGORIES:Court 2
END:VEVENT
BEGIN:VEVENT
DTSTART;TZID=America/Nassau:20251113T100000
DTEND;TZID=America/Nassau:20251113T170000
DTSTAMP:20260425T102626
CREATED:20251030T143922Z
LAST-MODIFIED:20251030T143922Z
UID:33079-1763028000-1763053200@www.industrialtribunal.bs
SUMMARY:Patina S. Armbrister v Sharkeez Freeport Ltd NP2022-061
DESCRIPTION:
URL:https://www.industrialtribunal.bs/event/patina-s-armbrister-v-sharkeez-freeport-ltd-np2022-061-3/
CATEGORIES:Court 3
END:VEVENT
BEGIN:VEVENT
DTSTART;TZID=America/Nassau:20251112T100000
DTEND;TZID=America/Nassau:20251112T170000
DTSTAMP:20260425T102626
CREATED:20251105T211937Z
LAST-MODIFIED:20251105T211937Z
UID:33109-1762941600-1762966800@www.industrialtribunal.bs
SUMMARY:Roshonda McIntosh v St. Thomas Medical Centre NR/NES/048/2025
DESCRIPTION:
URL:https://www.industrialtribunal.bs/event/roshonda-mcintosh-v-st-thomas-medical-centre-nr-nes-048-2025-2/
CATEGORIES:Court 2
END:VEVENT
BEGIN:VEVENT
DTSTART;TZID=America/Nassau:20251112T100000
DTEND;TZID=America/Nassau:20251112T170000
DTSTAMP:20260425T102626
CREATED:20251105T211729Z
LAST-MODIFIED:20251105T211729Z
UID:33107-1762941600-1762966800@www.industrialtribunal.bs
SUMMARY:Quency Russell v National Insurance Board NR/NES/035/2025
DESCRIPTION:
URL:https://www.industrialtribunal.bs/event/quency-russell-v-national-insurance-board-nr-nes-035-2025/
CATEGORIES:Court 2
END:VEVENT
BEGIN:VEVENT
DTSTART;TZID=America/Nassau:20251112T100000
DTEND;TZID=America/Nassau:20251112T170000
DTSTAMP:20260425T102626
CREATED:20251030T143847Z
LAST-MODIFIED:20251030T143847Z
UID:33077-1762941600-1762966800@www.industrialtribunal.bs
SUMMARY:Patina S. Armbrister v Sharkeez Freeport Ltd NP2022-061
DESCRIPTION:
URL:https://www.industrialtribunal.bs/event/patina-s-armbrister-v-sharkeez-freeport-ltd-np2022-061-2/
CATEGORIES:Court 3
END:VEVENT
BEGIN:VEVENT
DTSTART;TZID=America/Nassau:20251111T100000
DTEND;TZID=America/Nassau:20251111T170000
DTSTAMP:20260425T102626
CREATED:20251112T202641Z
LAST-MODIFIED:20251112T202641Z
UID:33170-1762855200-1762880400@www.industrialtribunal.bs
SUMMARY:Carol Camille Smith v Maxwell I Storr NP2024-123
DESCRIPTION:
URL:https://www.industrialtribunal.bs/event/carol-camille-smith-v-maxwell-i-storr-np2024-123/
CATEGORIES:Court 4
END:VEVENT
BEGIN:VEVENT
DTSTART;TZID=America/Nassau:20251111T100000
DTEND;TZID=America/Nassau:20251111T170000
DTSTAMP:20260425T102626
CREATED:20251112T202521Z
LAST-MODIFIED:20251112T202521Z
UID:33168-1762855200-1762880400@www.industrialtribunal.bs
SUMMARY:Kelia Nottage v Blue Lagoon Island and Dolphin Encounters NP2023-053
DESCRIPTION:
URL:https://www.industrialtribunal.bs/event/kelia-nottage-v-blue-lagoon-island-and-dolphin-encounters-np2023-053/
CATEGORIES:Court 4
END:VEVENT
END:VCALENDAR