BEGIN:VCALENDAR
VERSION:2.0
PRODID:-//Bahamas Industrial Tribunal - ECPv6.15.20//NONSGML v1.0//EN
CALSCALE:GREGORIAN
METHOD:PUBLISH
X-ORIGINAL-URL:https://www.industrialtribunal.bs
X-WR-CALDESC:Events for Bahamas Industrial Tribunal
REFRESH-INTERVAL;VALUE=DURATION:PT1H
X-Robots-Tag:noindex
X-PUBLISHED-TTL:PT1H
BEGIN:VTIMEZONE
TZID:America/Nassau
BEGIN:DAYLIGHT
TZOFFSETFROM:-0500
TZOFFSETTO:-0400
TZNAME:EDT
DTSTART:20250309T070000
END:DAYLIGHT
BEGIN:STANDARD
TZOFFSETFROM:-0400
TZOFFSETTO:-0500
TZNAME:EST
DTSTART:20251102T060000
END:STANDARD
BEGIN:DAYLIGHT
TZOFFSETFROM:-0500
TZOFFSETTO:-0400
TZNAME:EDT
DTSTART:20260308T070000
END:DAYLIGHT
BEGIN:STANDARD
TZOFFSETFROM:-0400
TZOFFSETTO:-0500
TZNAME:EST
DTSTART:20261101T060000
END:STANDARD
BEGIN:DAYLIGHT
TZOFFSETFROM:-0500
TZOFFSETTO:-0400
TZNAME:EDT
DTSTART:20270314T070000
END:DAYLIGHT
BEGIN:STANDARD
TZOFFSETFROM:-0400
TZOFFSETTO:-0500
TZNAME:EST
DTSTART:20271107T060000
END:STANDARD
END:VTIMEZONE
BEGIN:VEVENT
DTSTART;TZID=America/Nassau:20260323T100000
DTEND;TZID=America/Nassau:20260323T170000
DTSTAMP:20260425T065642
CREATED:20260304T201755Z
LAST-MODIFIED:20260304T201755Z
UID:33665-1774260000-1774285200@www.industrialtribunal.bs
SUMMARY:Patina S. Armbrister v Sharkeez Freeport Ltd NP2022-061
DESCRIPTION:
URL:https://www.industrialtribunal.bs/event/patina-s-armbrister-v-sharkeez-freeport-ltd-np2022-061-4/
CATEGORIES:Court 3
END:VEVENT
BEGIN:VEVENT
DTSTART;TZID=America/Nassau:20260323T100000
DTEND;TZID=America/Nassau:20260323T170000
DTSTAMP:20260425T065642
CREATED:20260304T204053Z
LAST-MODIFIED:20260304T204053Z
UID:33691-1774260000-1774285200@www.industrialtribunal.bs
SUMMARY:Daquan Swain v Fidelity Bank (Bahamas) Limited NR/NES/053/2024
DESCRIPTION:
URL:https://www.industrialtribunal.bs/event/daquan-swain-v-fidelity-bank-bahamas-limited-nr-nes-053-2024-3/
CATEGORIES:Court 2
END:VEVENT
BEGIN:VEVENT
DTSTART;TZID=America/Nassau:20260324T100000
DTEND;TZID=America/Nassau:20260324T170000
DTSTAMP:20260425T065642
CREATED:20260304T201817Z
LAST-MODIFIED:20260304T201817Z
UID:33667-1774346400-1774371600@www.industrialtribunal.bs
SUMMARY:Patina S. Armbrister v Sharkeez Freeport Ltd NP2022-061
DESCRIPTION:
URL:https://www.industrialtribunal.bs/event/patina-s-armbrister-v-sharkeez-freeport-ltd-np2022-061-5/
CATEGORIES:Court 3
END:VEVENT
BEGIN:VEVENT
DTSTART;TZID=America/Nassau:20260324T100000
DTEND;TZID=America/Nassau:20260324T170000
DTSTAMP:20260425T065642
CREATED:20260304T204120Z
LAST-MODIFIED:20260304T204120Z
UID:33693-1774346400-1774371600@www.industrialtribunal.bs
SUMMARY:Daquan Swain v Fidelity Bank (Bahamas) Limited NR/NES/053/2024
DESCRIPTION:
URL:https://www.industrialtribunal.bs/event/daquan-swain-v-fidelity-bank-bahamas-limited-nr-nes-053-2024-4/
CATEGORIES:Court 2
END:VEVENT
BEGIN:VEVENT
DTSTART;TZID=America/Nassau:20260326T100000
DTEND;TZID=America/Nassau:20260326T170000
DTSTAMP:20260425T065642
CREATED:20260304T204242Z
LAST-MODIFIED:20260304T204242Z
UID:33695-1774519200-1774544400@www.industrialtribunal.bs
SUMMARY:Santana Pinder v Grand Sun Investment Limited NR/NES/003/2024
DESCRIPTION:
URL:https://www.industrialtribunal.bs/event/santana-pinder-v-grand-sun-investment-limited-nr-nes-003-2024-5/
CATEGORIES:Court 2
END:VEVENT
BEGIN:VEVENT
DTSTART;TZID=America/Nassau:20260330T100000
DTEND;TZID=America/Nassau:20260330T170000
DTSTAMP:20260425T065642
CREATED:20260304T204354Z
LAST-MODIFIED:20260304T204354Z
UID:33697-1774864800-1774890000@www.industrialtribunal.bs
SUMMARY:Bernard Cooper v Baron Capital Management Partners Inc. NR/NES/009/2025
DESCRIPTION:
URL:https://www.industrialtribunal.bs/event/bernard-cooper-v-baron-capital-management-partners-inc-nr-nes-009-2025-3/
CATEGORIES:Court 2
END:VEVENT
BEGIN:VEVENT
DTSTART;TZID=America/Nassau:20260331T100000
DTEND;TZID=America/Nassau:20260331T170000
DTSTAMP:20260425T065642
CREATED:20260304T204538Z
LAST-MODIFIED:20260304T204538Z
UID:33699-1774951200-1774976400@www.industrialtribunal.bs
SUMMARY:Ashanti McIntosh v Collette Bootle t/a Fine Living Customs Brokerage and Ships Logistics NR/NES/062/2025
DESCRIPTION:
URL:https://www.industrialtribunal.bs/event/ashanti-mcintosh-v-collette-bootle-t-a-fine-living-customs-brokerage-and-ships-logistics-nr-nes-062-2025/
CATEGORIES:Court 2
END:VEVENT
BEGIN:VEVENT
DTSTART;TZID=America/Nassau:20260331T100000
DTEND;TZID=America/Nassau:20260331T170000
DTSTAMP:20260425T065642
CREATED:20260304T205820Z
LAST-MODIFIED:20260304T205820Z
UID:33717-1774951200-1774976400@www.industrialtribunal.bs
SUMMARY:Raquel Smith v Furniture Plus NP2024-057
DESCRIPTION:
URL:https://www.industrialtribunal.bs/event/raquel-smith-v-furniture-plus-np2024-057-2/
CATEGORIES:Court 5
END:VEVENT
BEGIN:VEVENT
DTSTART;TZID=America/Nassau:20260331T100000
DTEND;TZID=America/Nassau:20260331T170000
DTSTAMP:20260425T065642
CREATED:20260304T205933Z
LAST-MODIFIED:20260304T205933Z
UID:33719-1774951200-1774976400@www.industrialtribunal.bs
SUMMARY:Fiona Edwards v CTF BM Operation Ltd (Bahamar) NP2025-002
DESCRIPTION:
URL:https://www.industrialtribunal.bs/event/fiona-edwards-v-ctf-bm-operation-ltd-bahamar-np2025-002/
CATEGORIES:Court 5
END:VEVENT
BEGIN:VEVENT
DTSTART;TZID=America/Nassau:20260331T100000
DTEND;TZID=America/Nassau:20260331T170000
DTSTAMP:20260425T065642
CREATED:20260304T210036Z
LAST-MODIFIED:20260304T210036Z
UID:33721-1774951200-1774976400@www.industrialtribunal.bs
SUMMARY:Kevin Adderley v Aetos Holdings Limited NP2024-112
DESCRIPTION:
URL:https://www.industrialtribunal.bs/event/kevin-adderley-v-aetos-holdings-limited-np2024-112-2/
CATEGORIES:Court 5
END:VEVENT
BEGIN:VEVENT
DTSTART;TZID=America/Nassau:20260331T100000
DTEND;TZID=America/Nassau:20260331T170000
DTSTAMP:20260425T065642
CREATED:20260309T165111Z
LAST-MODIFIED:20260309T165111Z
UID:33763-1774951200-1774976400@www.industrialtribunal.bs
SUMMARY:Gaynell Knowles v Esso East Street Balfour Service Station NP2024-061
DESCRIPTION:
URL:https://www.industrialtribunal.bs/event/gaynell-knowles-v-esso-east-street-balfour-service-station-np2024-061/
CATEGORIES:Court 1
END:VEVENT
BEGIN:VEVENT
DTSTART;TZID=America/Nassau:20260331T100000
DTEND;TZID=America/Nassau:20260331T170000
DTSTAMP:20260425T065642
CREATED:20260309T165234Z
LAST-MODIFIED:20260309T165234Z
UID:33765-1774951200-1774976400@www.industrialtribunal.bs
SUMMARY:Dianna Lockhart v Esso East Street Balfour Service Station NP2024-048
DESCRIPTION:
URL:https://www.industrialtribunal.bs/event/dianna-lockhart-v-esso-east-street-balfour-service-station-np2024-048/
CATEGORIES:Court 1
END:VEVENT
BEGIN:VEVENT
DTSTART;TZID=America/Nassau:20260331T100000
DTEND;TZID=America/Nassau:20260331T170000
DTSTAMP:20260425T065642
CREATED:20260309T165420Z
LAST-MODIFIED:20260309T165420Z
UID:33767-1774951200-1774976400@www.industrialtribunal.bs
SUMMARY:Dianna Lockhart v Esso East Street Balfour Service Station NP2024-030
DESCRIPTION:
URL:https://www.industrialtribunal.bs/event/dianna-lockhart-v-esso-east-street-balfour-service-station-np2024-030/
CATEGORIES:Court 1
END:VEVENT
BEGIN:VEVENT
DTSTART;TZID=America/Nassau:20260331T100000
DTEND;TZID=America/Nassau:20260331T170000
DTSTAMP:20260425T065642
CREATED:20260309T165538Z
LAST-MODIFIED:20260309T165538Z
UID:33769-1774951200-1774976400@www.industrialtribunal.bs
SUMMARY:Gaynell Knowles v Esso East Street Balfour Service Station NP2024-029
DESCRIPTION:
URL:https://www.industrialtribunal.bs/event/gaynell-knowles-v-esso-east-street-balfour-service-station-np2024-029-2/
CATEGORIES:Court 1
END:VEVENT
BEGIN:VEVENT
DTSTART;TZID=America/Nassau:20260401T100000
DTEND;TZID=America/Nassau:20260401T170000
DTSTAMP:20260425T065642
CREATED:20260326T135050Z
LAST-MODIFIED:20260326T135050Z
UID:33837-1775037600-1775062800@www.industrialtribunal.bs
SUMMARY:Nikeya Cash v Mt Carmel Preparatory Academy NP2022-054
DESCRIPTION:
URL:https://www.industrialtribunal.bs/event/nikeya-cash-v-mt-carmel-preparatory-academy-np2022-054-6/
CATEGORIES:Court 3
END:VEVENT
BEGIN:VEVENT
DTSTART;TZID=America/Nassau:20260401T100000
DTEND;TZID=America/Nassau:20260401T170000
DTSTAMP:20260425T065642
CREATED:20260408T143013Z
LAST-MODIFIED:20260408T143013Z
UID:33853-1775037600-1775062800@www.industrialtribunal.bs
SUMMARY:Ashanti McIntosh v Collette Bootle t/a Fine Living Customs Brokerage and Ships Logistics NR/NES/062/2025
DESCRIPTION:
URL:https://www.industrialtribunal.bs/event/ashanti-mcintosh-v-collette-bootle-t-a-fine-living-customs-brokerage-and-ships-logistics-nr-nes-062-2025-2/
CATEGORIES:Court 2
END:VEVENT
BEGIN:VEVENT
DTSTART;TZID=America/Nassau:20260402T100000
DTEND;TZID=America/Nassau:20260402T170000
DTSTAMP:20260425T065642
CREATED:20260326T135221Z
LAST-MODIFIED:20260326T135221Z
UID:33839-1775124000-1775149200@www.industrialtribunal.bs
SUMMARY:Bildad Saintil v Titans Hospitality (Swimming Pigs) NP2024-130
DESCRIPTION:
URL:https://www.industrialtribunal.bs/event/bildad-saintil-v-titans-hospitality-swimming-pigs-np2024-130-2/
CATEGORIES:Court 3
END:VEVENT
BEGIN:VEVENT
DTSTART;TZID=America/Nassau:20260402T100000
DTEND;TZID=America/Nassau:20260402T170000
DTSTAMP:20260425T065642
CREATED:20260326T135350Z
LAST-MODIFIED:20260326T135350Z
UID:33841-1775124000-1775149200@www.industrialtribunal.bs
SUMMARY:Carolyn Bethel v Oral Care Consultants Limited NP2025-042
DESCRIPTION:
URL:https://www.industrialtribunal.bs/event/carolyn-bethel-v-oral-care-consultants-limited-np2025-042-2/
CATEGORIES:Court 3
END:VEVENT
BEGIN:VEVENT
DTSTART;TZID=America/Nassau:20260402T100000
DTEND;TZID=America/Nassau:20260402T170000
DTSTAMP:20260425T065642
CREATED:20260408T143337Z
LAST-MODIFIED:20260408T143337Z
UID:33855-1775124000-1775149200@www.industrialtribunal.bs
SUMMARY:Tinia Parker v GWS Worldwide Express Limited aka GWS Worldwide Express Ltd. NR/NES/011/2025
DESCRIPTION:
URL:https://www.industrialtribunal.bs/event/tinia-parker-v-gws-worldwide-express-limited-aka-gws-worldwide-express-ltd-nr-nes-011-2025/
CATEGORIES:Court 2
END:VEVENT
BEGIN:VEVENT
DTSTART;TZID=America/Nassau:20260407T100000
DTEND;TZID=America/Nassau:20260407T170000
DTSTAMP:20260425T065642
CREATED:20260311T194937Z
LAST-MODIFIED:20260311T195018Z
UID:33802-1775556000-1775581200@www.industrialtribunal.bs
SUMMARY:Maryann Belleza v Sea Through Property NP2025-019
DESCRIPTION:
URL:https://www.industrialtribunal.bs/event/maryann-belleza-v-sea-through-property-np2025-019/
CATEGORIES:Court 6
END:VEVENT
BEGIN:VEVENT
DTSTART;TZID=America/Nassau:20260407T100000
DTEND;TZID=America/Nassau:20260407T170000
DTSTAMP:20260425T065642
CREATED:20260408T143502Z
LAST-MODIFIED:20260408T143502Z
UID:33857-1775556000-1775581200@www.industrialtribunal.bs
SUMMARY:Davia Jones v Heavenly Beauty Supply NR/NES/037/2025
DESCRIPTION:
URL:https://www.industrialtribunal.bs/event/davia-jones-v-heavenly-beauty-supply-nr-nes-037-2025/
CATEGORIES:Court 2
END:VEVENT
BEGIN:VEVENT
DTSTART;TZID=America/Nassau:20260408T100000
DTEND;TZID=America/Nassau:20260408T170000
DTSTAMP:20260425T065642
CREATED:20260311T195730Z
LAST-MODIFIED:20260311T195730Z
UID:33806-1775642400-1775667600@www.industrialtribunal.bs
SUMMARY:Caroline Thompson v SMG Millwork Limited NP2025-123
DESCRIPTION:
URL:https://www.industrialtribunal.bs/event/caroline-thompson-v-smg-millwork-limited-np2025-123-2/
CATEGORIES:Court 6
END:VEVENT
BEGIN:VEVENT
DTSTART;TZID=America/Nassau:20260408T100000
DTEND;TZID=America/Nassau:20260408T170000
DTSTAMP:20260425T065642
CREATED:20260311T195903Z
LAST-MODIFIED:20260311T195903Z
UID:33808-1775642400-1775667600@www.industrialtribunal.bs
SUMMARY:Leslie Ellis-Tynes v Scoops & Tingz Ltd T/A Tipsy Scoop NP2025-125
DESCRIPTION:
URL:https://www.industrialtribunal.bs/event/leslie-ellis-tynes-v-scoops-tingz-ltd-t-a-tipsy-scoop-np2025-125/
CATEGORIES:Court 6
END:VEVENT
BEGIN:VEVENT
DTSTART;TZID=America/Nassau:20260408T100000
DTEND;TZID=America/Nassau:20260408T170000
DTSTAMP:20260425T065642
CREATED:20260311T200035Z
LAST-MODIFIED:20260311T200035Z
UID:33810-1775642400-1775667600@www.industrialtribunal.bs
SUMMARY:Jason Hamilton v Falcon Security Services NP2025-065
DESCRIPTION:
URL:https://www.industrialtribunal.bs/event/jason-hamilton-v-falcon-security-services-np2025-065/
CATEGORIES:Court 6
END:VEVENT
BEGIN:VEVENT
DTSTART;TZID=America/Nassau:20260408T100000
DTEND;TZID=America/Nassau:20260408T170000
DTSTAMP:20260425T065642
CREATED:20260311T200353Z
LAST-MODIFIED:20260311T200353Z
UID:33812-1775642400-1775667600@www.industrialtribunal.bs
SUMMARY:Stacy Newton v Mucka Mucks NP2025-050
DESCRIPTION:
URL:https://www.industrialtribunal.bs/event/stacy-newton-v-mucka-mucks-np2025-050/
CATEGORIES:Court 6
END:VEVENT
BEGIN:VEVENT
DTSTART;TZID=America/Nassau:20260408T100000
DTEND;TZID=America/Nassau:20260408T170000
DTSTAMP:20260425T065642
CREATED:20260311T200511Z
LAST-MODIFIED:20260311T200511Z
UID:33814-1775642400-1775667600@www.industrialtribunal.bs
SUMMARY:Shannon Russell-Smith v Kamalame Cay Resort NP2025-029
DESCRIPTION:
URL:https://www.industrialtribunal.bs/event/shannon-russell-smith-v-kamalame-cay-resort-np2025-029/
CATEGORIES:Court 6
END:VEVENT
BEGIN:VEVENT
DTSTART;TZID=America/Nassau:20260408T100000
DTEND;TZID=America/Nassau:20260408T170000
DTSTAMP:20260425T065642
CREATED:20260311T200619Z
LAST-MODIFIED:20260311T200619Z
UID:33816-1775642400-1775667600@www.industrialtribunal.bs
SUMMARY:Cepoudy Beauburn v Inline Project Company Limited NP2025-032
DESCRIPTION:
URL:https://www.industrialtribunal.bs/event/cepoudy-beauburn-v-inline-project-company-limited-np2025-032/
CATEGORIES:Court 6
END:VEVENT
BEGIN:VEVENT
DTSTART;TZID=America/Nassau:20260408T100000
DTEND;TZID=America/Nassau:20260408T170000
DTSTAMP:20260425T065642
CREATED:20260311T200721Z
LAST-MODIFIED:20260311T200721Z
UID:33818-1775642400-1775667600@www.industrialtribunal.bs
SUMMARY:Anthony Balfour v Exuma Yacht Club NP2025-040
DESCRIPTION:
URL:https://www.industrialtribunal.bs/event/anthony-balfour-v-exuma-yacht-club-np2025-040/
CATEGORIES:Court 6
END:VEVENT
BEGIN:VEVENT
DTSTART;TZID=America/Nassau:20260408T100000
DTEND;TZID=America/Nassau:20260408T170000
DTSTAMP:20260425T065642
CREATED:20260326T135552Z
LAST-MODIFIED:20260326T135552Z
UID:33843-1775642400-1775667600@www.industrialtribunal.bs
SUMMARY:Ashley Moxey v Palm Cay Development Company NP2024-036
DESCRIPTION:
URL:https://www.industrialtribunal.bs/event/ashley-moxey-v-palm-cay-development-company-np2024-036/
CATEGORIES:Court 3
END:VEVENT
BEGIN:VEVENT
DTSTART;TZID=America/Nassau:20260410T100000
DTEND;TZID=America/Nassau:20260410T170000
DTSTAMP:20260425T065642
CREATED:20260408T143631Z
LAST-MODIFIED:20260408T143631Z
UID:33859-1775815200-1775840400@www.industrialtribunal.bs
SUMMARY:Tenisha Neressa Erskin-Carey v BTI (Bahamas) Ltd. NR/NES/073/2025
DESCRIPTION:
URL:https://www.industrialtribunal.bs/event/tenisha-neressa-erskin-carey-v-bti-bahamas-ltd-nr-nes-073-2025/
CATEGORIES:Court 2
END:VEVENT
END:VCALENDAR