BEGIN:VCALENDAR
VERSION:2.0
PRODID:-//Bahamas Industrial Tribunal - ECPv6.15.20//NONSGML v1.0//EN
CALSCALE:GREGORIAN
METHOD:PUBLISH
X-WR-CALNAME:Bahamas Industrial Tribunal
X-ORIGINAL-URL:https://www.industrialtribunal.bs
X-WR-CALDESC:Events for Bahamas Industrial Tribunal
REFRESH-INTERVAL;VALUE=DURATION:PT1H
X-Robots-Tag:noindex
X-PUBLISHED-TTL:PT1H
BEGIN:VTIMEZONE
TZID:America/Nassau
BEGIN:DAYLIGHT
TZOFFSETFROM:-0500
TZOFFSETTO:-0400
TZNAME:EDT
DTSTART:20250309T070000
END:DAYLIGHT
BEGIN:STANDARD
TZOFFSETFROM:-0400
TZOFFSETTO:-0500
TZNAME:EST
DTSTART:20251102T060000
END:STANDARD
BEGIN:DAYLIGHT
TZOFFSETFROM:-0500
TZOFFSETTO:-0400
TZNAME:EDT
DTSTART:20260308T070000
END:DAYLIGHT
BEGIN:STANDARD
TZOFFSETFROM:-0400
TZOFFSETTO:-0500
TZNAME:EST
DTSTART:20261101T060000
END:STANDARD
BEGIN:DAYLIGHT
TZOFFSETFROM:-0500
TZOFFSETTO:-0400
TZNAME:EDT
DTSTART:20270314T070000
END:DAYLIGHT
BEGIN:STANDARD
TZOFFSETFROM:-0400
TZOFFSETTO:-0500
TZNAME:EST
DTSTART:20271107T060000
END:STANDARD
END:VTIMEZONE
BEGIN:VEVENT
DTSTART;TZID=America/Nassau:20260223T100000
DTEND;TZID=America/Nassau:20260223T170000
DTSTAMP:20260425T120331
CREATED:20260219T181240Z
LAST-MODIFIED:20260219T181240Z
UID:33604-1771840800-1771866000@www.industrialtribunal.bs
SUMMARY:Obrian Knowles v Nirvana Beach NP2025-009
DESCRIPTION:
URL:https://www.industrialtribunal.bs/event/obrian-knowles-v-nirvana-beach-np2025-009-2/
CATEGORIES:Court 1
END:VEVENT
BEGIN:VEVENT
DTSTART;TZID=America/Nassau:20260223T100000
DTEND;TZID=America/Nassau:20260223T170000
DTSTAMP:20260425T120331
CREATED:20260219T181109Z
LAST-MODIFIED:20260219T181134Z
UID:33601-1771840800-1771866000@www.industrialtribunal.bs
SUMMARY:Marvin Josey v Sunshine Cruises Nassau Limited Blue Illusions Samir Andrawos c/o Mackey and Moxey NP2024-007
DESCRIPTION:
URL:https://www.industrialtribunal.bs/event/marvin-josey-v-sunshine-cruises-nassau-limited-blue-illusions-samir-andrawos-c-o-mackey-and-moxey/
CATEGORIES:Court 1
END:VEVENT
BEGIN:VEVENT
DTSTART;TZID=America/Nassau:20260223T100000
DTEND;TZID=America/Nassau:20260223T170000
DTSTAMP:20260425T120331
CREATED:20260219T180914Z
LAST-MODIFIED:20260219T180914Z
UID:33599-1771840800-1771866000@www.industrialtribunal.bs
SUMMARY:Lynden Curtis v Baha Mar NP2023-125
DESCRIPTION:
URL:https://www.industrialtribunal.bs/event/lynden-curtis-v-baha-mar-np2023-125-4/
CATEGORIES:Court 1
END:VEVENT
BEGIN:VEVENT
DTSTART;TZID=America/Nassau:20260223T100000
DTEND;TZID=America/Nassau:20260223T170000
DTSTAMP:20260425T120331
CREATED:20260219T180822Z
LAST-MODIFIED:20260219T180822Z
UID:33597-1771840800-1771866000@www.industrialtribunal.bs
SUMMARY:Delvin McIntosh v Alarms Limited NP2023-134
DESCRIPTION:
URL:https://www.industrialtribunal.bs/event/delvin-mcintosh-v-alarms-limited-np2023-134-5/
CATEGORIES:Court 1
END:VEVENT
BEGIN:VEVENT
DTSTART;TZID=America/Nassau:20260223T100000
DTEND;TZID=America/Nassau:20260223T170000
DTSTAMP:20260425T120331
CREATED:20260219T180726Z
LAST-MODIFIED:20260219T180726Z
UID:33595-1771840800-1771866000@www.industrialtribunal.bs
SUMMARY:Emmaline Rodriquez v Shore Thing Escape NP2024-050
DESCRIPTION:
URL:https://www.industrialtribunal.bs/event/emmaline-rodriquez-v-shore-thing-escape-np2024-050-3/
CATEGORIES:Court 2
END:VEVENT
BEGIN:VEVENT
DTSTART;TZID=America/Nassau:20260223T100000
DTEND;TZID=America/Nassau:20260223T170000
DTSTAMP:20260425T120331
CREATED:20260219T180617Z
LAST-MODIFIED:20260219T180617Z
UID:33593-1771840800-1771866000@www.industrialtribunal.bs
SUMMARY:Levi Johnson v M.S.I NP2023-138
DESCRIPTION:
URL:https://www.industrialtribunal.bs/event/levi-johnson-v-m-s-i-np2023-138-4/
CATEGORIES:Court 1
END:VEVENT
BEGIN:VEVENT
DTSTART;TZID=America/Nassau:20260223T100000
DTEND;TZID=America/Nassau:20260223T170000
DTSTAMP:20260425T120331
CREATED:20260219T180522Z
LAST-MODIFIED:20260219T180522Z
UID:33591-1771840800-1771866000@www.industrialtribunal.bs
SUMMARY:Ashlyn Miller v Delta Airlines DAL Global Services NP2023-132
DESCRIPTION:
URL:https://www.industrialtribunal.bs/event/ashlyn-miller-v-delta-airlines-dal-global-services-np2023-132-3/
CATEGORIES:Court 1
END:VEVENT
BEGIN:VEVENT
DTSTART;TZID=America/Nassau:20260223T100000
DTEND;TZID=America/Nassau:20260223T170000
DTSTAMP:20260425T120331
CREATED:20260219T174945Z
LAST-MODIFIED:20260219T174945Z
UID:33573-1771840800-1771866000@www.industrialtribunal.bs
SUMMARY:Nicole McIntosh-Holbert v Jag's International Services Ltd. t/a Jag's International Services NR/NES/038/2025
DESCRIPTION:
URL:https://www.industrialtribunal.bs/event/nicole-mcintosh-holbert-v-jags-international-services-ltd-t-a-jags-international-services-nr-nes-038-2025/
CATEGORIES:Court 2
END:VEVENT
BEGIN:VEVENT
DTSTART;TZID=America/Nassau:20260223T100000
DTEND;TZID=America/Nassau:20260223T170000
DTSTAMP:20260425T120331
CREATED:20260205T204002Z
LAST-MODIFIED:20260205T204002Z
UID:33528-1771840800-1771866000@www.industrialtribunal.bs
SUMMARY:Obrian Knowles v Nirvana Beach NP2025-009
DESCRIPTION:
URL:https://www.industrialtribunal.bs/event/obrian-knowles-v-nirvana-beach-np2025-009/
CATEGORIES:Court 1
END:VEVENT
BEGIN:VEVENT
DTSTART;TZID=America/Nassau:20260223T100000
DTEND;TZID=America/Nassau:20260223T170000
DTSTAMP:20260425T120331
CREATED:20260205T203903Z
LAST-MODIFIED:20260205T203903Z
UID:33526-1771840800-1771866000@www.industrialtribunal.bs
SUMMARY:Marvin Josey v Sunshine Cruises Nassau Limited Blue Illusions Samir Andrawos c/o Mackey and Moxey NP2024-007
DESCRIPTION:
URL:https://www.industrialtribunal.bs/event/marvin-josey-v-sunshine-cruises-nassau-limited-blue-illusions-samir-andrawos-c-o-mackey-and-moxey-np2024-007/
CATEGORIES:Court 1
END:VEVENT
BEGIN:VEVENT
DTSTART;TZID=America/Nassau:20260223T100000
DTEND;TZID=America/Nassau:20260223T170000
DTSTAMP:20260425T120331
CREATED:20260205T203729Z
LAST-MODIFIED:20260205T203729Z
UID:33524-1771840800-1771866000@www.industrialtribunal.bs
SUMMARY:Lynden Curtis v Baha Mar NP2023-125
DESCRIPTION:
URL:https://www.industrialtribunal.bs/event/lynden-curtis-v-baha-mar-np2023-125-3/
CATEGORIES:Court 1
END:VEVENT
BEGIN:VEVENT
DTSTART;TZID=America/Nassau:20260223T100000
DTEND;TZID=America/Nassau:20260223T170000
DTSTAMP:20260425T120331
CREATED:20260205T203636Z
LAST-MODIFIED:20260205T203636Z
UID:33522-1771840800-1771866000@www.industrialtribunal.bs
SUMMARY:Delvin McIntosh v Alarms Limited NP2023-134
DESCRIPTION:
URL:https://www.industrialtribunal.bs/event/delvin-mcintosh-v-alarms-limited-np2023-134-4/
CATEGORIES:Court 1
END:VEVENT
BEGIN:VEVENT
DTSTART;TZID=America/Nassau:20260223T100000
DTEND;TZID=America/Nassau:20260223T170000
DTSTAMP:20260425T120331
CREATED:20260205T203535Z
LAST-MODIFIED:20260205T203535Z
UID:33520-1771840800-1771866000@www.industrialtribunal.bs
SUMMARY:Emmaline Rodriquez v Shore Thing Escape NP2024-050
DESCRIPTION:
URL:https://www.industrialtribunal.bs/event/emmaline-rodriquez-v-shore-thing-escape-np2024-050-2/
CATEGORIES:Court 1
END:VEVENT
BEGIN:VEVENT
DTSTART;TZID=America/Nassau:20260223T100000
DTEND;TZID=America/Nassau:20260223T170000
DTSTAMP:20260425T120331
CREATED:20260205T203433Z
LAST-MODIFIED:20260205T203433Z
UID:33518-1771840800-1771866000@www.industrialtribunal.bs
SUMMARY:Levi Johnson v M.S.I NP2023-138
DESCRIPTION:
URL:https://www.industrialtribunal.bs/event/levi-johnson-v-m-s-i-np2023-138-3/
CATEGORIES:Court 1
END:VEVENT
BEGIN:VEVENT
DTSTART;TZID=America/Nassau:20260223T100000
DTEND;TZID=America/Nassau:20260223T170000
DTSTAMP:20260425T120331
CREATED:20260205T203328Z
LAST-MODIFIED:20260205T203328Z
UID:33516-1771840800-1771866000@www.industrialtribunal.bs
SUMMARY:Ashlyn Miller v Delta Airlines DAL Global Services NP2023-132
DESCRIPTION:
URL:https://www.industrialtribunal.bs/event/ashlyn-miller-v-delta-airlines-dal-global-services-np2023-132-2/
CATEGORIES:Court 1
END:VEVENT
BEGIN:VEVENT
DTSTART;TZID=America/Nassau:20260219T100000
DTEND;TZID=America/Nassau:20260219T170000
DTSTAMP:20260425T120331
CREATED:20260219T174739Z
LAST-MODIFIED:20260219T174739Z
UID:33571-1771495200-1771520400@www.industrialtribunal.bs
SUMMARY:Marie Micheline Knowles v Lucayan Yacht Residence Limited NR/NES/084/2025
DESCRIPTION:
URL:https://www.industrialtribunal.bs/event/marie-micheline-knowles-v-lucayan-yacht-residence-limited-nr-nes-084-2025/
CATEGORIES:Court 2
END:VEVENT
BEGIN:VEVENT
DTSTART;TZID=America/Nassau:20260218T100000
DTEND;TZID=America/Nassau:20260218T170000
DTSTAMP:20260425T120331
CREATED:20260219T174601Z
LAST-MODIFIED:20260219T174601Z
UID:33569-1771408800-1771434000@www.industrialtribunal.bs
SUMMARY:Faye Williams-Armbrister v Majestic Tours NR/NES/074/2025
DESCRIPTION:
URL:https://www.industrialtribunal.bs/event/faye-williams-armbrister-v-majestic-tours-nr-nes-074-2025/
CATEGORIES:Court 2
END:VEVENT
BEGIN:VEVENT
DTSTART;TZID=America/Nassau:20260218T100000
DTEND;TZID=America/Nassau:20260218T170000
DTSTAMP:20260425T120331
CREATED:20260219T174409Z
LAST-MODIFIED:20260219T174409Z
UID:33567-1771408800-1771434000@www.industrialtribunal.bs
SUMMARY:Monique Sears v I.C.S Security NR/NES/070/2025
DESCRIPTION:
URL:https://www.industrialtribunal.bs/event/monique-sears-v-i-c-s-security-nr-nes-070-2025/
CATEGORIES:Court 2
END:VEVENT
BEGIN:VEVENT
DTSTART;TZID=America/Nassau:20260218T100000
DTEND;TZID=America/Nassau:20260218T170000
DTSTAMP:20260425T120331
CREATED:20260219T173924Z
LAST-MODIFIED:20260219T173924Z
UID:33565-1771408800-1771434000@www.industrialtribunal.bs
SUMMARY:Evis A. Newbold v I.C.S of the Bahamas Co. Ltd. NR/NES/067/2025
DESCRIPTION:
URL:https://www.industrialtribunal.bs/event/evis-a-newbold-v-i-c-s-of-the-bahamas-co-ltd-nr-nes-067-2025/
CATEGORIES:Court 2
END:VEVENT
BEGIN:VEVENT
DTSTART;TZID=America/Nassau:20260218T100000
DTEND;TZID=America/Nassau:20260218T170000
DTSTAMP:20260425T120331
CREATED:20260204T153930Z
LAST-MODIFIED:20260204T153930Z
UID:33484-1771408800-1771434000@www.industrialtribunal.bs
SUMMARY:Desiree Fowler v Kamalame Cay Resort & Residences (Andros) NP2024-046
DESCRIPTION:
URL:https://www.industrialtribunal.bs/event/desiree-fowler-v-kamalame-cay-resort-residences-andros-np2024-046-3/
CATEGORIES:Court 5
END:VEVENT
BEGIN:VEVENT
DTSTART;TZID=America/Nassau:20260217T100000
DTEND;TZID=America/Nassau:20260217T170000
DTSTAMP:20260425T120331
CREATED:20260219T173722Z
LAST-MODIFIED:20260219T173722Z
UID:33563-1771322400-1771347600@www.industrialtribunal.bs
SUMMARY:Teneisha Neressa Erkin-Carey v BTI (Bahamas Ltd.) NR/NES/045/2025
DESCRIPTION:
URL:https://www.industrialtribunal.bs/event/teneisha-neressa-erkin-carey-v-bti-bahamas-ltd-nr-nes-045-2025-2/
CATEGORIES:Court 2
END:VEVENT
BEGIN:VEVENT
DTSTART;TZID=America/Nassau:20260216T100000
DTEND;TZID=America/Nassau:20260216T170000
DTSTAMP:20260425T120331
CREATED:20260219T173654Z
LAST-MODIFIED:20260219T173654Z
UID:33561-1771236000-1771261200@www.industrialtribunal.bs
SUMMARY:Teneisha Neressa Erkin-Carey v BTI (Bahamas Ltd.) NR/NES/045/2025
DESCRIPTION:
URL:https://www.industrialtribunal.bs/event/teneisha-neressa-erkin-carey-v-bti-bahamas-ltd-nr-nes-045-2025/
CATEGORIES:Court 2
END:VEVENT
BEGIN:VEVENT
DTSTART;TZID=America/Nassau:20260216T100000
DTEND;TZID=America/Nassau:20260216T170000
DTSTAMP:20260425T120331
CREATED:20260204T153734Z
LAST-MODIFIED:20260204T153734Z
UID:33482-1771236000-1771261200@www.industrialtribunal.bs
SUMMARY:Raquel Barr v Kamalame Cay NP2024-019
DESCRIPTION:
URL:https://www.industrialtribunal.bs/event/raquel-barr-v-kamalame-cay-np2024-019/
CATEGORIES:Court 5
END:VEVENT
BEGIN:VEVENT
DTSTART;TZID=America/Nassau:20260211T100000
DTEND;TZID=America/Nassau:20260211T170000
DTSTAMP:20260425T120331
CREATED:20260219T173504Z
LAST-MODIFIED:20260219T173504Z
UID:33559-1770804000-1770829200@www.industrialtribunal.bs
SUMMARY:Shanaad A. Forbes v Freeport Container Port Limited NR/NES/042/2025
DESCRIPTION:
URL:https://www.industrialtribunal.bs/event/shanaad-a-forbes-v-freeport-container-port-limited-nr-nes-042-2025-3/
CATEGORIES:Court 2
END:VEVENT
BEGIN:VEVENT
DTSTART;TZID=America/Nassau:20260211T100000
DTEND;TZID=America/Nassau:20260211T170000
DTSTAMP:20260425T120331
CREATED:20260204T155600Z
LAST-MODIFIED:20260204T155600Z
UID:33508-1770804000-1770829200@www.industrialtribunal.bs
SUMMARY:Neil Roker v Centauri Transport Limited\, Centauri Transport LLC & Ron Adam & Frank Visconti NP2024-042
DESCRIPTION:
URL:https://www.industrialtribunal.bs/event/neil-roker-v-centauri-transport-limited-centauri-transport-llc-ron-adam-frank-visconti-np2024-042/
CATEGORIES:Court 3
END:VEVENT
BEGIN:VEVENT
DTSTART;TZID=America/Nassau:20260210T100000
DTEND;TZID=America/Nassau:20260210T170000
DTSTAMP:20260425T120331
CREATED:20260219T173436Z
LAST-MODIFIED:20260219T173436Z
UID:33557-1770717600-1770742800@www.industrialtribunal.bs
SUMMARY:Shanaad A. Forbes v Freeport Container Port Limited NR/NES/042/2025
DESCRIPTION:
URL:https://www.industrialtribunal.bs/event/shanaad-a-forbes-v-freeport-container-port-limited-nr-nes-042-2025-2/
CATEGORIES:Court 2
END:VEVENT
BEGIN:VEVENT
DTSTART;TZID=America/Nassau:20260210T100000
DTEND;TZID=America/Nassau:20260210T170000
DTSTAMP:20260425T120331
CREATED:20260204T155115Z
LAST-MODIFIED:20260204T155115Z
UID:33502-1770717600-1770742800@www.industrialtribunal.bs
SUMMARY:Dianne Lockhart v Esso East Street Balfour Service Station NP2024-030
DESCRIPTION:
URL:https://www.industrialtribunal.bs/event/dianne-lockhart-v-esso-east-street-balfour-service-station-np2024-030/
CATEGORIES:Court 6
END:VEVENT
BEGIN:VEVENT
DTSTART;TZID=America/Nassau:20260210T100000
DTEND;TZID=America/Nassau:20260210T170000
DTSTAMP:20260425T120331
CREATED:20260204T154951Z
LAST-MODIFIED:20260204T154951Z
UID:33500-1770717600-1770742800@www.industrialtribunal.bs
SUMMARY:Andrew Russell v Good Hope Security NP2025-078
DESCRIPTION:
URL:https://www.industrialtribunal.bs/event/andrew-russell-v-good-hope-security-np2025-078/
CATEGORIES:Court 6
END:VEVENT
BEGIN:VEVENT
DTSTART;TZID=America/Nassau:20260210T100000
DTEND;TZID=America/Nassau:20260210T170000
DTSTAMP:20260425T120331
CREATED:20260204T154857Z
LAST-MODIFIED:20260204T154857Z
UID:33498-1770717600-1770742800@www.industrialtribunal.bs
SUMMARY:Lashonda Leary v Union of Public Officers NP2025-107
DESCRIPTION:
URL:https://www.industrialtribunal.bs/event/lashonda-leary-v-union-of-public-officers-np2025-107/
CATEGORIES:Court 6
END:VEVENT
BEGIN:VEVENT
DTSTART;TZID=America/Nassau:20260210T100000
DTEND;TZID=America/Nassau:20260210T170000
DTSTAMP:20260425T120331
CREATED:20260204T154752Z
LAST-MODIFIED:20260204T154752Z
UID:33496-1770717600-1770742800@www.industrialtribunal.bs
SUMMARY:Mersay Brown v Island Hotel Company NP204-020
DESCRIPTION:
URL:https://www.industrialtribunal.bs/event/mersay-brown-v-island-hotel-company-np204-020/
CATEGORIES:Court 6
END:VEVENT
END:VCALENDAR