BEGIN:VCALENDAR
VERSION:2.0
PRODID:-//Bahamas Industrial Tribunal - ECPv6.15.20//NONSGML v1.0//EN
CALSCALE:GREGORIAN
METHOD:PUBLISH
X-WR-CALNAME:Bahamas Industrial Tribunal
X-ORIGINAL-URL:https://www.industrialtribunal.bs
X-WR-CALDESC:Events for Bahamas Industrial Tribunal
REFRESH-INTERVAL;VALUE=DURATION:PT1H
X-Robots-Tag:noindex
X-PUBLISHED-TTL:PT1H
BEGIN:VTIMEZONE
TZID:America/Nassau
BEGIN:DAYLIGHT
TZOFFSETFROM:-0500
TZOFFSETTO:-0400
TZNAME:EDT
DTSTART:20250309T070000
END:DAYLIGHT
BEGIN:STANDARD
TZOFFSETFROM:-0400
TZOFFSETTO:-0500
TZNAME:EST
DTSTART:20251102T060000
END:STANDARD
BEGIN:DAYLIGHT
TZOFFSETFROM:-0500
TZOFFSETTO:-0400
TZNAME:EDT
DTSTART:20260308T070000
END:DAYLIGHT
BEGIN:STANDARD
TZOFFSETFROM:-0400
TZOFFSETTO:-0500
TZNAME:EST
DTSTART:20261101T060000
END:STANDARD
BEGIN:DAYLIGHT
TZOFFSETFROM:-0500
TZOFFSETTO:-0400
TZNAME:EDT
DTSTART:20270314T070000
END:DAYLIGHT
BEGIN:STANDARD
TZOFFSETFROM:-0400
TZOFFSETTO:-0500
TZNAME:EST
DTSTART:20271107T060000
END:STANDARD
END:VTIMEZONE
BEGIN:VEVENT
DTSTART;TZID=America/Nassau:20260415T100000
DTEND;TZID=America/Nassau:20260415T170000
DTSTAMP:20260425T083857
CREATED:20260311T201009Z
LAST-MODIFIED:20260311T201009Z
UID:33825-1776247200-1776272400@www.industrialtribunal.bs
SUMMARY:Hector Travis Smith v The Cove Atlantis\, Paradise Island NP2024-096
DESCRIPTION:
URL:https://www.industrialtribunal.bs/event/hector-travis-smith-v-the-cove-atlantis-paradise-island-np2024-096-4/
CATEGORIES:Court 6
END:VEVENT
BEGIN:VEVENT
DTSTART;TZID=America/Nassau:20260415T100000
DTEND;TZID=America/Nassau:20260415T170000
DTSTAMP:20260425T083857
CREATED:20260326T134811Z
LAST-MODIFIED:20260326T134811Z
UID:33833-1776247200-1776272400@www.industrialtribunal.bs
SUMMARY:Desiree Fowler v Kamalame Cay Resort & Residences (Andros) NP2024-046
DESCRIPTION:
URL:https://www.industrialtribunal.bs/event/desiree-fowler-v-kamalame-cay-resort-residences-andros-np2024-046-4/
CATEGORIES:Court 6
END:VEVENT
BEGIN:VEVENT
DTSTART;TZID=America/Nassau:20260415T100000
DTEND;TZID=America/Nassau:20260415T170000
DTSTAMP:20260425T083857
CREATED:20260408T143927Z
LAST-MODIFIED:20260408T143927Z
UID:33865-1776247200-1776272400@www.industrialtribunal.bs
SUMMARY:Shanaad A. Forbes v Freeport Container Port Limited NR/NES/042/2025
DESCRIPTION:
URL:https://www.industrialtribunal.bs/event/shanaad-a-forbes-v-freeport-container-port-limited-nr-nes-042-2025-6/
CATEGORIES:Court 2
END:VEVENT
BEGIN:VEVENT
DTSTART;TZID=America/Nassau:20260415T100000
DTEND;TZID=America/Nassau:20260415T170000
DTSTAMP:20260425T083857
CREATED:20260416T141046Z
LAST-MODIFIED:20260416T141401Z
UID:33920-1776247200-1776272400@www.industrialtribunal.bs
SUMMARY:Liquinta Bain v VXL Limited NP2025-134
DESCRIPTION:
URL:https://www.industrialtribunal.bs/event/liquinta-bain-v-vxl-limited-np2025-134/
CATEGORIES:Court 1
END:VEVENT
BEGIN:VEVENT
DTSTART;TZID=America/Nassau:20260415T100000
DTEND;TZID=America/Nassau:20260415T170000
DTSTAMP:20260425T083857
CREATED:20260416T141203Z
LAST-MODIFIED:20260416T160901Z
UID:33922-1776247200-1776272400@www.industrialtribunal.bs
SUMMARY:Mecene Dorgille v Quality Business Center NP2025-139
DESCRIPTION:
URL:https://www.industrialtribunal.bs/event/mecene-dorgille-v-quality-business-center-np2025-139/
CATEGORIES:Court 1
END:VEVENT
BEGIN:VEVENT
DTSTART;TZID=America/Nassau:20260415T100000
DTEND;TZID=America/Nassau:20260415T170000
DTSTAMP:20260425T083857
CREATED:20260416T141305Z
LAST-MODIFIED:20260416T141305Z
UID:33925-1776247200-1776272400@www.industrialtribunal.bs
SUMMARY:Carla Brown V The Office of the Director Public Prosecution NP2025-130
DESCRIPTION:
URL:https://www.industrialtribunal.bs/event/carla-brown-v-the-office-of-the-director-public-prosecution-np2025-130/
CATEGORIES:Court 1
END:VEVENT
BEGIN:VEVENT
DTSTART;TZID=America/Nassau:20260415T100000
DTEND;TZID=America/Nassau:20260415T170000
DTSTAMP:20260425T083857
CREATED:20260416T141522Z
LAST-MODIFIED:20260416T141522Z
UID:33927-1776247200-1776272400@www.industrialtribunal.bs
SUMMARY:Bryshon Shamika Mackey V Cable Bahamas Limited NP2025-128
DESCRIPTION:
URL:https://www.industrialtribunal.bs/event/bryshon-shamika-mackey-v-cable-bahamas-limited-np2025-128/
CATEGORIES:Court 1
END:VEVENT
BEGIN:VEVENT
DTSTART;TZID=America/Nassau:20260415T100000
DTEND;TZID=America/Nassau:20260415T170000
DTSTAMP:20260425T083857
CREATED:20260416T141704Z
LAST-MODIFIED:20260416T141704Z
UID:33929-1776247200-1776272400@www.industrialtribunal.bs
SUMMARY:Ashlee McCartney v L. D.L & Associates Limited NP2025-144
DESCRIPTION:
URL:https://www.industrialtribunal.bs/event/ashlee-mccartney-v-l-d-l-associates-limited-np2025-144/
CATEGORIES:Court 1
END:VEVENT
BEGIN:VEVENT
DTSTART;TZID=America/Nassau:20260415T100000
DTEND;TZID=America/Nassau:20260415T170000
DTSTAMP:20260425T083857
CREATED:20260416T141823Z
LAST-MODIFIED:20260416T141823Z
UID:33931-1776247200-1776272400@www.industrialtribunal.bs
SUMMARY:Vicente Roberts v The University of The Bahamas NP2023-149
DESCRIPTION:
URL:https://www.industrialtribunal.bs/event/vicente-roberts-v-the-university-of-the-bahamas-np2023-149-3/
CATEGORIES:Court 1
END:VEVENT
BEGIN:VEVENT
DTSTART;TZID=America/Nassau:20260415T100000
DTEND;TZID=America/Nassau:20260415T170000
DTSTAMP:20260425T083857
CREATED:20260416T141945Z
LAST-MODIFIED:20260416T141945Z
UID:33933-1776247200-1776272400@www.industrialtribunal.bs
SUMMARY:Javon Noel v SMG Millworks Limited NP2024-138
DESCRIPTION:
URL:https://www.industrialtribunal.bs/event/javon-noel-v-smg-millworks-limited-np2024-138/
CATEGORIES:Court 1
END:VEVENT
BEGIN:VEVENT
DTSTART;TZID=America/Nassau:20260415T100000
DTEND;TZID=America/Nassau:20260415T170000
DTSTAMP:20260425T083857
CREATED:20260416T142106Z
LAST-MODIFIED:20260416T142106Z
UID:33935-1776247200-1776272400@www.industrialtribunal.bs
SUMMARY:Dameco Anderson v Caribbean Landscape NP2024-104
DESCRIPTION:
URL:https://www.industrialtribunal.bs/event/dameco-anderson-v-caribbean-landscape-np2024-104-2/
CATEGORIES:Court 1
END:VEVENT
BEGIN:VEVENT
DTSTART;TZID=America/Nassau:20260415T100000
DTEND;TZID=America/Nassau:20260415T170000
DTSTAMP:20260425T083857
CREATED:20260416T142211Z
LAST-MODIFIED:20260416T142211Z
UID:33937-1776247200-1776272400@www.industrialtribunal.bs
SUMMARY:Teddy Johnson v Nassau Engineering Welding & Steel Company NP2024-143
DESCRIPTION:
URL:https://www.industrialtribunal.bs/event/teddy-johnson-v-nassau-engineering-welding-steel-company-np2024-143-2/
CATEGORIES:Court 1
END:VEVENT
BEGIN:VEVENT
DTSTART;TZID=America/Nassau:20260415T100000
DTEND;TZID=America/Nassau:20260415T170000
DTSTAMP:20260425T083857
CREATED:20260416T142320Z
LAST-MODIFIED:20260416T142320Z
UID:33939-1776247200-1776272400@www.industrialtribunal.bs
SUMMARY:Nadine Kemp v Restaurants Bahamas Limited NP2025-129
DESCRIPTION:
URL:https://www.industrialtribunal.bs/event/nadine-kemp-v-restaurants-bahamas-limited-np2025-129/
CATEGORIES:Court 1
END:VEVENT
BEGIN:VEVENT
DTSTART;TZID=America/Nassau:20260415T100000
DTEND;TZID=America/Nassau:20260415T170000
DTSTAMP:20260425T083857
CREATED:20260416T142434Z
LAST-MODIFIED:20260416T142434Z
UID:33941-1776247200-1776272400@www.industrialtribunal.bs
SUMMARY:Tovan Williams v Union of Public Officers NP2025-106
DESCRIPTION:
URL:https://www.industrialtribunal.bs/event/tovan-williams-v-union-of-public-officers-np2025-106-2/
CATEGORIES:Court 1
END:VEVENT
BEGIN:VEVENT
DTSTART;TZID=America/Nassau:20260415T100000
DTEND;TZID=America/Nassau:20260415T170000
DTSTAMP:20260425T083857
CREATED:20260416T142553Z
LAST-MODIFIED:20260416T142553Z
UID:33944-1776247200-1776272400@www.industrialtribunal.bs
SUMMARY:Santino L. Gilbert v Ministry of Oral Health & Wellness NP2025-116
DESCRIPTION:
URL:https://www.industrialtribunal.bs/event/santino-l-gilbert-v-ministry-of-oral-health-wellness-np2025-116-2/
CATEGORIES:Court 1
END:VEVENT
BEGIN:VEVENT
DTSTART;TZID=America/Nassau:20260416T100000
DTEND;TZID=America/Nassau:20260416T170000
DTSTAMP:20260425T083857
CREATED:20260408T144058Z
LAST-MODIFIED:20260408T144058Z
UID:33867-1776333600-1776358800@www.industrialtribunal.bs
SUMMARY:Quency Russell v National Insurance Board NR/NES/035/2025
DESCRIPTION:
URL:https://www.industrialtribunal.bs/event/quency-russell-v-national-insurance-board-nr-nes-035-2025-3/
CATEGORIES:Court 2
END:VEVENT
BEGIN:VEVENT
DTSTART;TZID=America/Nassau:20260416T100000
DTEND;TZID=America/Nassau:20260416T170000
DTSTAMP:20260425T083857
CREATED:20260408T144303Z
LAST-MODIFIED:20260408T144303Z
UID:33869-1776333600-1776358800@www.industrialtribunal.bs
SUMMARY:Krystal L. Jones Clarke v Dr. Latesha McIntosh t/a St. Thomas Medical Centre NR/NES/061/2025
DESCRIPTION:
URL:https://www.industrialtribunal.bs/event/krystal-l-jones-clarke-v-dr-latesha-mcintosh-t-a-st-thomas-medical-centre-nr-nes-061-2025/
CATEGORIES:Court 2
END:VEVENT
BEGIN:VEVENT
DTSTART;TZID=America/Nassau:20260420T100000
DTEND;TZID=America/Nassau:20260420T170000
DTSTAMP:20260425T083857
CREATED:20260408T144525Z
LAST-MODIFIED:20260408T144525Z
UID:33871-1776679200-1776704400@www.industrialtribunal.bs
SUMMARY:Nicole McIntosh-Holbert v Jag's International Services Ltd. t/a Jags International Services NR/NES/038/2025
DESCRIPTION:
URL:https://www.industrialtribunal.bs/event/nicole-mcintosh-holbert-v-jags-international-services-ltd-t-a-jags-international-services-nr-nes-038-2025-3/
CATEGORIES:Court 2
END:VEVENT
BEGIN:VEVENT
DTSTART;TZID=America/Nassau:20260420T100000
DTEND;TZID=America/Nassau:20260420T170000
DTSTAMP:20260425T083857
CREATED:20260408T144633Z
LAST-MODIFIED:20260408T144633Z
UID:33873-1776679200-1776704400@www.industrialtribunal.bs
SUMMARY:Sharon Kathleen Garland v Jag's International Services Ltd. t/a Jags International Services NR/NES/041/2025
DESCRIPTION:
URL:https://www.industrialtribunal.bs/event/sharon-kathleen-garland-v-jags-international-services-ltd-t-a-jags-international-services-nr-nes-041-2025/
CATEGORIES:Court 2
END:VEVENT
BEGIN:VEVENT
DTSTART;TZID=America/Nassau:20260421T100000
DTEND;TZID=America/Nassau:20260421T170000
DTSTAMP:20260425T083857
CREATED:20260408T144701Z
LAST-MODIFIED:20260408T144701Z
UID:33875-1776765600-1776790800@www.industrialtribunal.bs
SUMMARY:Nicole McIntosh-Holbert v Jag's International Services Ltd. t/a Jags International Services NR/NES/038/2025
DESCRIPTION:
URL:https://www.industrialtribunal.bs/event/nicole-mcintosh-holbert-v-jags-international-services-ltd-t-a-jags-international-services-nr-nes-038-2025-4/
CATEGORIES:Court 2
END:VEVENT
BEGIN:VEVENT
DTSTART;TZID=America/Nassau:20260421T100000
DTEND;TZID=America/Nassau:20260421T170000
DTSTAMP:20260425T083857
CREATED:20260408T144810Z
LAST-MODIFIED:20260408T144810Z
UID:33877-1776765600-1776790800@www.industrialtribunal.bs
SUMMARY:Sharon Kathleen Garland v Jag's International Services Ltd. t/a Jags International Services NR/NES/041/2025
DESCRIPTION:
URL:https://www.industrialtribunal.bs/event/sharon-kathleen-garland-v-jags-international-services-ltd-t-a-jags-international-services-nr-nes-041-2025-2/
CATEGORIES:Court 2
END:VEVENT
BEGIN:VEVENT
DTSTART;TZID=America/Nassau:20260423T100000
DTEND;TZID=America/Nassau:20260423T170000
DTSTAMP:20260425T083857
CREATED:20260408T145009Z
LAST-MODIFIED:20260408T145009Z
UID:33879-1776938400-1776963600@www.industrialtribunal.bs
SUMMARY:Marie Micheline Knowles v Lucayan Yacht Residence Limited NR/NES/084/2024
DESCRIPTION:
URL:https://www.industrialtribunal.bs/event/marie-micheline-knowles-v-lucayan-yacht-residence-limited-nr-nes-084-2024/
CATEGORIES:Court 2
END:VEVENT
BEGIN:VEVENT
DTSTART;TZID=America/Nassau:20260427T100000
DTEND;TZID=America/Nassau:20260427T170000
DTSTAMP:20260425T083857
CREATED:20260326T140157Z
LAST-MODIFIED:20260326T140157Z
UID:33847-1777284000-1777309200@www.industrialtribunal.bs
SUMMARY:Karunathilaka Rajarathne (Bryan) VS SandPiper Cafe Limited NP2024-099
DESCRIPTION:
URL:https://www.industrialtribunal.bs/event/karunathilaka-rajarathne-bryan-vs-sandpiper-cafe-limited-np2024-099/
CATEGORIES:Court 3
END:VEVENT
BEGIN:VEVENT
DTSTART;TZID=America/Nassau:20260427T100000
DTEND;TZID=America/Nassau:20260427T170000
DTSTAMP:20260425T083857
CREATED:20260408T145208Z
LAST-MODIFIED:20260408T145208Z
UID:33881-1777284000-1777309200@www.industrialtribunal.bs
SUMMARY:Tamika Burrows v Palm Avenue Investments t/a Dolphin Cove NR/NES/064/2025
DESCRIPTION:
URL:https://www.industrialtribunal.bs/event/tamika-burrows-v-palm-avenue-investments-t-a-dolphin-cove-nr-nes-064-2025/
CATEGORIES:Court 2
END:VEVENT
BEGIN:VEVENT
DTSTART;TZID=America/Nassau:20260428T100000
DTEND;TZID=America/Nassau:20260428T170000
DTSTAMP:20260425T083857
CREATED:20260326T134932Z
LAST-MODIFIED:20260326T134932Z
UID:33835-1777370400-1777395600@www.industrialtribunal.bs
SUMMARY:Tiffany Delancey-Laing VS Bahamas Union of Teachers NP2024-091
DESCRIPTION:
URL:https://www.industrialtribunal.bs/event/tiffany-delancey-laing-vs-bahamas-union-of-teachers-np2024-091/
CATEGORIES:Court 6
END:VEVENT
BEGIN:VEVENT
DTSTART;TZID=America/Nassau:20260428T100000
DTEND;TZID=America/Nassau:20260428T170000
DTSTAMP:20260425T083857
CREATED:20260326T140227Z
LAST-MODIFIED:20260326T140227Z
UID:33849-1777370400-1777395600@www.industrialtribunal.bs
SUMMARY:Karunathilaka Rajarathne (Bryan) VS SandPiper Cafe Limited NP2024-099
DESCRIPTION:
URL:https://www.industrialtribunal.bs/event/karunathilaka-rajarathne-bryan-vs-sandpiper-cafe-limited-np2024-099-2/
CATEGORIES:Court 3
END:VEVENT
BEGIN:VEVENT
DTSTART;TZID=America/Nassau:20260428T100000
DTEND;TZID=America/Nassau:20260428T170000
DTSTAMP:20260425T083857
CREATED:20260408T145244Z
LAST-MODIFIED:20260408T145244Z
UID:33883-1777370400-1777395600@www.industrialtribunal.bs
SUMMARY:Tamika Burrows v Palm Avenue Investments t/a Dolphin Cove NR/NES/064/2025
DESCRIPTION:
URL:https://www.industrialtribunal.bs/event/tamika-burrows-v-palm-avenue-investments-t-a-dolphin-cove-nr-nes-064-2025-2/
CATEGORIES:Court 2
END:VEVENT
BEGIN:VEVENT
DTSTART;TZID=America/Nassau:20260429T100000
DTEND;TZID=America/Nassau:20260429T170000
DTSTAMP:20260425T083857
CREATED:20260326T140313Z
LAST-MODIFIED:20260326T140313Z
UID:33851-1777456800-1777482000@www.industrialtribunal.bs
SUMMARY:Karunathilaka Rajarathne (Bryan) VS SandPiper Cafe Limited NP2024-099
DESCRIPTION:
URL:https://www.industrialtribunal.bs/event/karunathilaka-rajarathne-bryan-vs-sandpiper-cafe-limited-np2024-099-3/
CATEGORIES:Court 3
END:VEVENT
BEGIN:VEVENT
DTSTART;TZID=America/Nassau:20260430T100000
DTEND;TZID=America/Nassau:20260430T170000
DTSTAMP:20260425T083857
CREATED:20260408T145356Z
LAST-MODIFIED:20260408T145356Z
UID:33885-1777543200-1777568400@www.industrialtribunal.bs
SUMMARY:Albert L. Leathen v BTC NR/NES/075/2025
DESCRIPTION:
URL:https://www.industrialtribunal.bs/event/albert-l-leathen-v-btc-nr-nes-075-2025-2/
CATEGORIES:Court 2
END:VEVENT
END:VCALENDAR