BEGIN:VCALENDAR
VERSION:2.0
PRODID:-//Bahamas Industrial Tribunal - ECPv6.15.20//NONSGML v1.0//EN
CALSCALE:GREGORIAN
METHOD:PUBLISH
X-WR-CALNAME:Bahamas Industrial Tribunal
X-ORIGINAL-URL:https://www.industrialtribunal.bs
X-WR-CALDESC:Events for Bahamas Industrial Tribunal
REFRESH-INTERVAL;VALUE=DURATION:PT1H
X-Robots-Tag:noindex
X-PUBLISHED-TTL:PT1H
BEGIN:VTIMEZONE
TZID:America/Nassau
BEGIN:DAYLIGHT
TZOFFSETFROM:-0500
TZOFFSETTO:-0400
TZNAME:EDT
DTSTART:20230312T070000
END:DAYLIGHT
BEGIN:STANDARD
TZOFFSETFROM:-0400
TZOFFSETTO:-0500
TZNAME:EST
DTSTART:20231105T060000
END:STANDARD
BEGIN:DAYLIGHT
TZOFFSETFROM:-0500
TZOFFSETTO:-0400
TZNAME:EDT
DTSTART:20240310T070000
END:DAYLIGHT
BEGIN:STANDARD
TZOFFSETFROM:-0400
TZOFFSETTO:-0500
TZNAME:EST
DTSTART:20241103T060000
END:STANDARD
BEGIN:DAYLIGHT
TZOFFSETFROM:-0500
TZOFFSETTO:-0400
TZNAME:EDT
DTSTART:20250309T070000
END:DAYLIGHT
BEGIN:STANDARD
TZOFFSETFROM:-0400
TZOFFSETTO:-0500
TZNAME:EST
DTSTART:20251102T060000
END:STANDARD
END:VTIMEZONE
BEGIN:VEVENT
DTSTART;TZID=America/Nassau:20241101T100000
DTEND;TZID=America/Nassau:20241101T170000
DTSTAMP:20260425T215540
CREATED:20241107T150215Z
LAST-MODIFIED:20241107T150215Z
UID:31647-1730455200-1730480400@www.industrialtribunal.bs
SUMMARY:Stevie Francois v Clear Blue Maritime Agency Ltd NR/NES/057/2024
DESCRIPTION:
URL:https://www.industrialtribunal.bs/event/stevie-francois-v-clear-blue-maritime-agency-ltd-nr-nes-057-2024/
LOCATION:Court 2 – Vice President Helen Almorales-Jones\, Suites 2 & 3 Freeport Insurance Center\, 21 B West Mall & Poinciana Dr.\, Freeport\, Grand Bahama\, Bahamas
CATEGORIES:Court 2
END:VEVENT
BEGIN:VEVENT
DTSTART;TZID=America/Nassau:20241101T100000
DTEND;TZID=America/Nassau:20241101T170000
DTSTAMP:20260425T215540
CREATED:20241107T150356Z
LAST-MODIFIED:20241107T150356Z
UID:31649-1730455200-1730480400@www.industrialtribunal.bs
SUMMARY:Asher Russell v DCL Island Development Ltd NR/NES/060/2014
DESCRIPTION:
URL:https://www.industrialtribunal.bs/event/asher-russell-v-dcl-island-development-ltd-nr-nes-060-2014/
LOCATION:Court 2 – Vice President Helen Almorales-Jones\, Suites 2 & 3 Freeport Insurance Center\, 21 B West Mall & Poinciana Dr.\, Freeport\, Grand Bahama\, Bahamas
CATEGORIES:Court 2
END:VEVENT
BEGIN:VEVENT
DTSTART;TZID=America/Nassau:20241104T100000
DTEND;TZID=America/Nassau:20241104T170000
DTSTAMP:20260425T215540
CREATED:20241101T153937Z
LAST-MODIFIED:20241101T153937Z
UID:31561-1730714400-1730739600@www.industrialtribunal.bs
SUMMARY:Bahamas Hotel Catering & Allied Workers Union Clarence Burrows v Harbourside Hotel Paradise Island NP2023-005
DESCRIPTION:
URL:https://www.industrialtribunal.bs/event/bahamas-hotel-catering-allied-workers-union-clarence-burrows-v-harbourside-hotel-paradise-island-np2023-005/
CATEGORIES:Acting Court
END:VEVENT
BEGIN:VEVENT
DTSTART;TZID=America/Nassau:20241104T100000
DTEND;TZID=America/Nassau:20241104T170000
DTSTAMP:20260425T215540
CREATED:20241107T150531Z
LAST-MODIFIED:20241107T150531Z
UID:31651-1730714400-1730739600@www.industrialtribunal.bs
SUMMARY:Janet Glinton v Ocean Reef Resort & Yacht Club NR/NES/041/2024
DESCRIPTION:
URL:https://www.industrialtribunal.bs/event/janet-glinton-v-ocean-reef-resort-yacht-club-nr-nes-041-2024/
LOCATION:Court 2 – Vice President Helen Almorales-Jones\, Suites 2 & 3 Freeport Insurance Center\, 21 B West Mall & Poinciana Dr.\, Freeport\, Grand Bahama\, Bahamas
CATEGORIES:Court 2
END:VEVENT
BEGIN:VEVENT
DTSTART;TZID=America/Nassau:20241104T113000
DTEND;TZID=America/Nassau:20241104T170000
DTSTAMP:20260425T215540
CREATED:20241101T155227Z
LAST-MODIFIED:20241101T155227Z
UID:31563-1730719800-1730739600@www.industrialtribunal.bs
SUMMARY:Salvant St. Merant v Island Hotel Company Limited D/B/A Atlantis SPE Ltd. NP2022-038
DESCRIPTION:
URL:https://www.industrialtribunal.bs/event/salvant-st-merant-v-island-hotel-company-limited-d-b-a-atlantis-spe-ltd-np2022-038/
CATEGORIES:Acting Court
END:VEVENT
BEGIN:VEVENT
DTSTART;TZID=America/Nassau:20241105T100000
DTEND;TZID=America/Nassau:20241105T170000
DTSTAMP:20260425T215540
CREATED:20241107T150647Z
LAST-MODIFIED:20241107T150647Z
UID:31653-1730800800-1730826000@www.industrialtribunal.bs
SUMMARY:Janet Glinton v Ocean Reef Resort & Yacht Club NR/NES/041/2024
DESCRIPTION:
URL:https://www.industrialtribunal.bs/event/janet-glinton-v-ocean-reef-resort-yacht-club-nr-nes-041-2024-2/
LOCATION:Court 2 – Vice President Helen Almorales-Jones\, Suites 2 & 3 Freeport Insurance Center\, 21 B West Mall & Poinciana Dr.\, Freeport\, Grand Bahama\, Bahamas
CATEGORIES:Court 2
END:VEVENT
BEGIN:VEVENT
DTSTART;TZID=America/Nassau:20241105T113000
DTEND;TZID=America/Nassau:20241105T170000
DTSTAMP:20260425T215540
CREATED:20241101T155451Z
LAST-MODIFIED:20241101T155451Z
UID:31565-1730806200-1730826000@www.industrialtribunal.bs
SUMMARY:Salvant St. Merant v Island Hotel Company Limited D/B/A Atlantis NP2022-038
DESCRIPTION:
URL:https://www.industrialtribunal.bs/event/salvant-st-merant-v-island-hotel-company-limited-d-b-a-atlantis-np2022-038-2/
CATEGORIES:Acting Court
END:VEVENT
BEGIN:VEVENT
DTSTART;TZID=America/Nassau:20241106T100000
DTEND;TZID=America/Nassau:20241106T170000
DTSTAMP:20260425T215540
CREATED:20241107T150830Z
LAST-MODIFIED:20241107T150830Z
UID:31655-1730887200-1730912400@www.industrialtribunal.bs
SUMMARY:Gerard Gardiner v Bahamas Maritime Solutions Limited NR/NES/031/2024
DESCRIPTION:
URL:https://www.industrialtribunal.bs/event/gerard-gardiner-v-bahamas-maritime-solutions-limited-nr-nes-031-2024-3/
LOCATION:Court 2 – Vice President Helen Almorales-Jones\, Suites 2 & 3 Freeport Insurance Center\, 21 B West Mall & Poinciana Dr.\, Freeport\, Grand Bahama\, Bahamas
CATEGORIES:Court 2
END:VEVENT
BEGIN:VEVENT
DTSTART;TZID=America/Nassau:20241106T100000
DTEND;TZID=America/Nassau:20241106T170000
DTSTAMP:20260425T215540
CREATED:20241107T151135Z
LAST-MODIFIED:20241107T151135Z
UID:31657-1730887200-1730912400@www.industrialtribunal.bs
SUMMARY:Volvick Louis v Play Tech System Limited t/a Island Luck NR/NES/062/2024
DESCRIPTION:
URL:https://www.industrialtribunal.bs/event/volvick-louis-v-play-tech-system-limited-t-a-island-luck-nr-nes-062-2024/
LOCATION:Court 2 – Vice President Helen Almorales-Jones\, Suites 2 & 3 Freeport Insurance Center\, 21 B West Mall & Poinciana Dr.\, Freeport\, Grand Bahama\, Bahamas
CATEGORIES:Court 2
END:VEVENT
BEGIN:VEVENT
DTSTART;TZID=America/Nassau:20241107T100000
DTEND;TZID=America/Nassau:20241107T170000
DTSTAMP:20260425T215540
CREATED:20241107T151312Z
LAST-MODIFIED:20241107T151312Z
UID:31659-1730973600-1730998800@www.industrialtribunal.bs
SUMMARY:Tenisha Carey v BTI (Bahamas) Ltd NR/NES/044/2024
DESCRIPTION:
URL:https://www.industrialtribunal.bs/event/tenisha-carey-v-bti-bahamas-ltd-nr-nes-044-2024-2/
LOCATION:Court 2 – Vice President Helen Almorales-Jones\, Suites 2 & 3 Freeport Insurance Center\, 21 B West Mall & Poinciana Dr.\, Freeport\, Grand Bahama\, Bahamas
CATEGORIES:Court 2
END:VEVENT
BEGIN:VEVENT
DTSTART;TZID=America/Nassau:20241108T100000
DTEND;TZID=America/Nassau:20241108T170000
DTSTAMP:20260425T215540
CREATED:20241107T151436Z
LAST-MODIFIED:20241107T151436Z
UID:31661-1731060000-1731085200@www.industrialtribunal.bs
SUMMARY:Jasmin Newman -Mckinney v Silver Airways LLC NR/NES/019/2024
DESCRIPTION:
URL:https://www.industrialtribunal.bs/event/jasmin-newman-mckinney-v-silver-airways-llc-nr-nes-019-2024-7/
LOCATION:Court 2 – Vice President Helen Almorales-Jones\, Suites 2 & 3 Freeport Insurance Center\, 21 B West Mall & Poinciana Dr.\, Freeport\, Grand Bahama\, Bahamas
CATEGORIES:Court 2
END:VEVENT
BEGIN:VEVENT
DTSTART;TZID=America/Nassau:20241111T100000
DTEND;TZID=America/Nassau:20241111T170000
DTSTAMP:20260425T215540
CREATED:20241101T161559Z
LAST-MODIFIED:20241101T161559Z
UID:31568-1731319200-1731344400@www.industrialtribunal.bs
SUMMARY:Nicola Jones v F & B Security NP2021-062
DESCRIPTION:
URL:https://www.industrialtribunal.bs/event/nicola-jones-v-f-b-security-np2021-062-5/
CATEGORIES:Acting Court
END:VEVENT
BEGIN:VEVENT
DTSTART;TZID=America/Nassau:20241111T100000
DTEND;TZID=America/Nassau:20241111T170000
DTSTAMP:20260425T215540
CREATED:20241105T162741Z
LAST-MODIFIED:20241105T162741Z
UID:31623-1731319200-1731344400@www.industrialtribunal.bs
SUMMARY:Tiffany Delancey-Laing v Bahamas Union of Teachers NP2024-091
DESCRIPTION:
URL:https://www.industrialtribunal.bs/event/tiffany-delancey-laing-v-bahamas-union-of-teachers-np2024-091/
LOCATION:Court 5 – Vice President Rionda Godet\, Bank Lane\, Saffrey Square Building 2nd Floor\, New Providence\, Bahamas
CATEGORIES:Court 5
END:VEVENT
BEGIN:VEVENT
DTSTART;TZID=America/Nassau:20241111T100000
DTEND;TZID=America/Nassau:20241111T170000
DTSTAMP:20260425T215540
CREATED:20241105T163119Z
LAST-MODIFIED:20241105T163119Z
UID:31625-1731319200-1731344400@www.industrialtribunal.bs
SUMMARY:Livingstone Lightbourne v Sugar Factory /Sweet Foods (Bahamas) NP2024-001
DESCRIPTION:
URL:https://www.industrialtribunal.bs/event/livingstone-lightbourne-v-sugar-factory-sweet-foods-bahamas-np2024-001/
LOCATION:Court 5 – Vice President Rionda Godet\, Bank Lane\, Saffrey Square Building 2nd Floor\, New Providence\, Bahamas
CATEGORIES:Court 5
END:VEVENT
BEGIN:VEVENT
DTSTART;TZID=America/Nassau:20241111T100000
DTEND;TZID=America/Nassau:20241111T170000
DTSTAMP:20260425T215540
CREATED:20241107T151606Z
LAST-MODIFIED:20241107T151606Z
UID:31663-1731319200-1731344400@www.industrialtribunal.bs
SUMMARY:Wanda Carey v Last Mile Communications Ltd t/a Bahamas Wimax NR/NES/043/2024
DESCRIPTION:
URL:https://www.industrialtribunal.bs/event/wanda-carey-v-last-mile-communications-ltd-t-a-bahamas-wimax-nr-nes-043-2024/
LOCATION:Court 2 – Vice President Helen Almorales-Jones\, Suites 2 & 3 Freeport Insurance Center\, 21 B West Mall & Poinciana Dr.\, Freeport\, Grand Bahama\, Bahamas
CATEGORIES:Court 2
END:VEVENT
BEGIN:VEVENT
DTSTART;TZID=America/Nassau:20241111T130000
DTEND;TZID=America/Nassau:20241111T170000
DTSTAMP:20260425T215540
CREATED:20241101T161746Z
LAST-MODIFIED:20241101T161746Z
UID:31570-1731330000-1731344400@www.industrialtribunal.bs
SUMMARY:Keith Lightbourn v Easy Eco Limited NP2022-083
DESCRIPTION:
URL:https://www.industrialtribunal.bs/event/keith-lightbourn-v-easy-eco-limited-np2022-083/
CATEGORIES:Acting Court
END:VEVENT
BEGIN:VEVENT
DTSTART;TZID=America/Nassau:20241111T130000
DTEND;TZID=America/Nassau:20241111T170000
DTSTAMP:20260425T215540
CREATED:20241101T161912Z
LAST-MODIFIED:20241101T161912Z
UID:31572-1731330000-1731344400@www.industrialtribunal.bs
SUMMARY:Kent Francis v Easy Eco Limited NP2022-081
DESCRIPTION:
URL:https://www.industrialtribunal.bs/event/kent-francis-v-easy-eco-limited-np2022-081/
CATEGORIES:Acting Court
END:VEVENT
BEGIN:VEVENT
DTSTART;TZID=America/Nassau:20241111T130000
DTEND;TZID=America/Nassau:20241111T170000
DTSTAMP:20260425T215541
CREATED:20241101T162052Z
LAST-MODIFIED:20241101T162052Z
UID:31574-1731330000-1731344400@www.industrialtribunal.bs
SUMMARY:Perry Linday v Easy Eco Car Limited NP2022-086
DESCRIPTION:
URL:https://www.industrialtribunal.bs/event/perry-linday-v-easy-eco-car-limited-np2022-086/
CATEGORIES:Acting Court
END:VEVENT
BEGIN:VEVENT
DTSTART;TZID=America/Nassau:20241111T130000
DTEND;TZID=America/Nassau:20241111T170000
DTSTAMP:20260425T215541
CREATED:20241101T162200Z
LAST-MODIFIED:20241101T162200Z
UID:31576-1731330000-1731344400@www.industrialtribunal.bs
SUMMARY:Nathaniel Darling v Easy Eco Car Limited NP2022-082
DESCRIPTION:
URL:https://www.industrialtribunal.bs/event/nathaniel-darling-v-easy-eco-car-limited-np2022-082-2/
CATEGORIES:Acting Court
END:VEVENT
BEGIN:VEVENT
DTSTART;TZID=America/Nassau:20241112T100000
DTEND;TZID=America/Nassau:20241112T170000
DTSTAMP:20260425T215541
CREATED:20241101T182949Z
LAST-MODIFIED:20241101T182949Z
UID:31596-1731405600-1731430800@www.industrialtribunal.bs
SUMMARY:Janeen Clarke v Solomon Super Center (AML) NP2024-052
DESCRIPTION:
URL:https://www.industrialtribunal.bs/event/janeen-clarke-v-solomon-super-center-aml-np2024-052/
LOCATION:Court 3 – Vice President Sharada Humes Ferguson\, First Floor\, Suite 106\, Saffrey Square Building\, Bank Lane and East Street\, Nassau\, New Providence\, Bahamas
CATEGORIES:Court 3
END:VEVENT
BEGIN:VEVENT
DTSTART;TZID=America/Nassau:20241112T100000
DTEND;TZID=America/Nassau:20241112T170000
DTSTAMP:20260425T215541
CREATED:20241101T183138Z
LAST-MODIFIED:20241101T183138Z
UID:31598-1731405600-1731430800@www.industrialtribunal.bs
SUMMARY:Karunthilaka Rajarathne (Brayan) v Sandpiper Cafe Limited NP2024-099
DESCRIPTION:
URL:https://www.industrialtribunal.bs/event/karunthilaka-rajarathne-brayan-v-sandpiper-cafe-limited-np2024-099/
LOCATION:Court 3 – Vice President Sharada Humes Ferguson\, First Floor\, Suite 106\, Saffrey Square Building\, Bank Lane and East Street\, Nassau\, New Providence\, Bahamas
CATEGORIES:Court 3
END:VEVENT
BEGIN:VEVENT
DTSTART;TZID=America/Nassau:20241112T100000
DTEND;TZID=America/Nassau:20241112T170000
DTSTAMP:20260425T215541
CREATED:20241105T163240Z
LAST-MODIFIED:20241105T163240Z
UID:31627-1731405600-1731430800@www.industrialtribunal.bs
SUMMARY:Eugene Ferguson v Catapult Construction NP2023-105
DESCRIPTION:
URL:https://www.industrialtribunal.bs/event/eugene-ferguson-v-catapult-construction-np2023-105/
LOCATION:Court 5 – Vice President Rionda Godet\, Bank Lane\, Saffrey Square Building 2nd Floor\, New Providence\, Bahamas
CATEGORIES:Court 5
END:VEVENT
BEGIN:VEVENT
DTSTART;TZID=America/Nassau:20241112T100000
DTEND;TZID=America/Nassau:20241112T170000
DTSTAMP:20260425T215541
CREATED:20241107T151852Z
LAST-MODIFIED:20241107T151852Z
UID:31665-1731405600-1731430800@www.industrialtribunal.bs
SUMMARY:Matthew Carey v Last Mile Communication Ltd. t/a Bahamas Wimax NR/NES/045/2024
DESCRIPTION:
URL:https://www.industrialtribunal.bs/event/matthew-carey-v-last-mile-communication-ltd-t-a-bahamas-wimax-nr-nes-045-2024/
LOCATION:Court 2 – Vice President Helen Almorales-Jones\, Suites 2 & 3 Freeport Insurance Center\, 21 B West Mall & Poinciana Dr.\, Freeport\, Grand Bahama\, Bahamas
CATEGORIES:Court 2
END:VEVENT
BEGIN:VEVENT
DTSTART;TZID=America/Nassau:20241113T100000
DTEND;TZID=America/Nassau:20241113T170000
DTSTAMP:20260425T215541
CREATED:20241101T162302Z
LAST-MODIFIED:20241101T162302Z
UID:31578-1731492000-1731517200@www.industrialtribunal.bs
SUMMARY:Wally Dormeus v Shevco Construction NP2023-089
DESCRIPTION:
URL:https://www.industrialtribunal.bs/event/wally-dormeus-v-shevco-construction-np2023-089/
CATEGORIES:Acting Court
END:VEVENT
BEGIN:VEVENT
DTSTART;TZID=America/Nassau:20241113T100000
DTEND;TZID=America/Nassau:20241113T170000
DTSTAMP:20260425T215541
CREATED:20241101T162417Z
LAST-MODIFIED:20241101T162417Z
UID:31580-1731492000-1731517200@www.industrialtribunal.bs
SUMMARY:Levi Johnson v M.S.I NP2023-138
DESCRIPTION:
URL:https://www.industrialtribunal.bs/event/levi-johnson-v-m-s-i-np2023-138/
CATEGORIES:Acting Court
END:VEVENT
BEGIN:VEVENT
DTSTART;TZID=America/Nassau:20241113T100000
DTEND;TZID=America/Nassau:20241113T170000
DTSTAMP:20260425T215541
CREATED:20241101T162522Z
LAST-MODIFIED:20241101T162522Z
UID:31582-1731492000-1731517200@www.industrialtribunal.bs
SUMMARY:Wilfred Dean St Louis v A.M.L Foods Limited NP2023-007
DESCRIPTION:
URL:https://www.industrialtribunal.bs/event/wilfred-dean-st-louis-v-a-m-l-foods-limited-np2023-007/
CATEGORIES:Acting Court
END:VEVENT
BEGIN:VEVENT
DTSTART;TZID=America/Nassau:20241113T100000
DTEND;TZID=America/Nassau:20241113T170000
DTSTAMP:20260425T215541
CREATED:20241101T162628Z
LAST-MODIFIED:20241101T162628Z
UID:31584-1731492000-1731517200@www.industrialtribunal.bs
SUMMARY:Lauriette Lightfoot v Evangelistic Temple NP2023-020
DESCRIPTION:
URL:https://www.industrialtribunal.bs/event/lauriette-lightfoot-v-evangelistic-temple-np2023-020-3/
CATEGORIES:Acting Court
END:VEVENT
BEGIN:VEVENT
DTSTART;TZID=America/Nassau:20241113T100000
DTEND;TZID=America/Nassau:20241113T170000
DTSTAMP:20260425T215541
CREATED:20241101T162739Z
LAST-MODIFIED:20241101T162739Z
UID:31586-1731492000-1731517200@www.industrialtribunal.bs
SUMMARY:Tyrone Bowleg v Telco's Enterprises NP2023-115
DESCRIPTION:
URL:https://www.industrialtribunal.bs/event/tyrone-bowleg-v-telcos-enterprises-np2023-115/
CATEGORIES:Acting Court
END:VEVENT
BEGIN:VEVENT
DTSTART;TZID=America/Nassau:20241113T100000
DTEND;TZID=America/Nassau:20241113T170000
DTSTAMP:20260425T215541
CREATED:20241101T163046Z
LAST-MODIFIED:20241101T163046Z
UID:31588-1731492000-1731517200@www.industrialtribunal.bs
SUMMARY:Joseph Farrington v Premier Importers NP2023-066
DESCRIPTION:
URL:https://www.industrialtribunal.bs/event/joseph-farrington-v-premier-importers-np2023-066/
CATEGORIES:Acting Court
END:VEVENT
BEGIN:VEVENT
DTSTART;TZID=America/Nassau:20241113T100000
DTEND;TZID=America/Nassau:20241113T170000
DTSTAMP:20260425T215541
CREATED:20241101T163322Z
LAST-MODIFIED:20241101T163322Z
UID:31590-1731492000-1731517200@www.industrialtribunal.bs
SUMMARY:Clinton Storr v The Cacique International Ltd Group of Companies NP2022-128
DESCRIPTION:
URL:https://www.industrialtribunal.bs/event/clinton-storr-v-the-cacique-international-ltd-group-of-companies-np2022-128-2/
CATEGORIES:Acting Court
END:VEVENT
END:VCALENDAR